BEGIN:VCALENDAR
VERSION:2.0
PRODID:-//Disfruta Denia - ECPv6.15.20//NONSGML v1.0//EN
CALSCALE:GREGORIAN
METHOD:PUBLISH
X-ORIGINAL-URL:https://disfruta-denia.com
X-WR-CALDESC:Eventos para Disfruta Denia
REFRESH-INTERVAL;VALUE=DURATION:PT1H
X-Robots-Tag:noindex
X-PUBLISHED-TTL:PT1H
BEGIN:VTIMEZONE
TZID:Europe/Madrid
BEGIN:DAYLIGHT
TZOFFSETFROM:+0100
TZOFFSETTO:+0200
TZNAME:CEST
DTSTART:20240331T010000
END:DAYLIGHT
BEGIN:STANDARD
TZOFFSETFROM:+0200
TZOFFSETTO:+0100
TZNAME:CET
DTSTART:20241027T010000
END:STANDARD
BEGIN:DAYLIGHT
TZOFFSETFROM:+0100
TZOFFSETTO:+0200
TZNAME:CEST
DTSTART:20250330T010000
END:DAYLIGHT
BEGIN:STANDARD
TZOFFSETFROM:+0200
TZOFFSETTO:+0100
TZNAME:CET
DTSTART:20251026T010000
END:STANDARD
BEGIN:DAYLIGHT
TZOFFSETFROM:+0100
TZOFFSETTO:+0200
TZNAME:CEST
DTSTART:20260329T010000
END:DAYLIGHT
BEGIN:STANDARD
TZOFFSETFROM:+0200
TZOFFSETTO:+0100
TZNAME:CET
DTSTART:20261025T010000
END:STANDARD
END:VTIMEZONE
BEGIN:VEVENT
DTSTART;TZID=Europe/Madrid:20250302T090000
DTEND;TZID=Europe/Madrid:20250302T140000
DTSTAMP:20260423T195240
CREATED:20241206T165430Z
LAST-MODIFIED:20241206T165431Z
UID:10019364-1740906000-1740924000@disfruta-denia.com
SUMMARY:Mercat del Riurau Jesus Pobre
DESCRIPTION:Este domingo 8 de diciembre te esperamos en el Mercat del Riurau\, de 10:00 a 14:00! Además\, a las 12:00 tendremos el placer de disfrutar del concierto en directo de la cantautora Inma Serrano. ¡Ven a pasar una mañana llena de música\, artesanía y buen ambiente!  ¿Dónde? Jesús Pobre ¿Cuándo? Domingo 8 de diciembre\, de 10:00 a 14:00¡No te lo pierdas\, te esperamos con las puertas abiertas!
URL:https://disfruta-denia.com/evento/mercat-del-riurau-jesus-pobre-2-25-3-2-2-8-2-4-3/2025-03-02/
LOCATION:Mercado Riurau Jesus Pobre\, Jesus Pobre\, Alicante\, 03749\, España
CATEGORIES:Concierto,Gastronomía,Mercado
ATTACH;FMTTYPE=image/jpeg:https://disfruta-denia.com/wp-content/uploads/2024/11/468421700_961429749353723_2511845002113226302_n.jpg
END:VEVENT
BEGIN:VEVENT
DTSTART;TZID=Europe/Madrid:20250309T090000
DTEND;TZID=Europe/Madrid:20250309T140000
DTSTAMP:20260423T195240
CREATED:20250308T161616Z
LAST-MODIFIED:20250308T161617Z
UID:10019365-1741510800-1741528800@disfruta-denia.com
SUMMARY:Mercat del Riurau Jesus Pobre
DESCRIPTION:¡Este domingo vuelve el Mercado del Riurau a Jesús Pobre! Ven a disfrutar de una mañana especial rodeado de artesanía\, productos locales y un ambiente único en un entorno incomparable.A las 12:00 h\, si el tiempo nos lo permite\, podremos disfrutar del concierto de Trèbol\, que nos acompañará con su música en directo. Lugar: Riurau de Jesús Pobre\, Jesús Pobre (Alicante) Horario: De 9:00 a 14:00 h¡Ven a pasear\, descubrir productos únicos y compartir un domingo diferente! ¡Te esperamos
URL:https://disfruta-denia.com/evento/mercat-del-riurau-jesus-pobre-2-25-3-2-2-8-2-4-3-3/
LOCATION:Mercado Riurau Jesus Pobre\, Jesus Pobre\, Alicante\, 03749\, España
CATEGORIES:Concierto,Gastronomía,Mercado
ATTACH;FMTTYPE=image/jpeg:https://disfruta-denia.com/wp-content/uploads/2024/12/481290512_1027239872772710_7253210882324889697_n.jpg
END:VEVENT
BEGIN:VEVENT
DTSTART;TZID=Europe/Madrid:20250316T090000
DTEND;TZID=Europe/Madrid:20250316T140000
DTSTAMP:20260423T195240
CREATED:20241206T165430Z
LAST-MODIFIED:20241206T165431Z
UID:10019366-1742115600-1742133600@disfruta-denia.com
SUMMARY:Mercat del Riurau Jesus Pobre
DESCRIPTION:Este domingo 8 de diciembre te esperamos en el Mercat del Riurau\, de 10:00 a 14:00! Además\, a las 12:00 tendremos el placer de disfrutar del concierto en directo de la cantautora Inma Serrano. ¡Ven a pasar una mañana llena de música\, artesanía y buen ambiente!  ¿Dónde? Jesús Pobre ¿Cuándo? Domingo 8 de diciembre\, de 10:00 a 14:00¡No te lo pierdas\, te esperamos con las puertas abiertas!
URL:https://disfruta-denia.com/evento/mercat-del-riurau-jesus-pobre-2-25-3-2-2-8-2-4-3/2025-03-16/
LOCATION:Mercado Riurau Jesus Pobre\, Jesus Pobre\, Alicante\, 03749\, España
CATEGORIES:Concierto,Gastronomía,Mercado
ATTACH;FMTTYPE=image/jpeg:https://disfruta-denia.com/wp-content/uploads/2024/11/468421700_961429749353723_2511845002113226302_n.jpg
END:VEVENT
BEGIN:VEVENT
DTSTART;TZID=Europe/Madrid:20250323T090000
DTEND;TZID=Europe/Madrid:20250323T140000
DTSTAMP:20260423T195240
CREATED:20250321T123855Z
LAST-MODIFIED:20250321T123857Z
UID:10019367-1742720400-1742738400@disfruta-denia.com
SUMMARY:Mercat del Riurau Jesus Pobre
DESCRIPTION:El Mercat del Riurau de Jesús Pobre vuelve un domingo más para ofrecerte una mañana llena de sabor\, tradición y buen ambiente. Productos de proximidad\, artesanía y una variada oferta gastronómica te esperan en este espacio tan especial.Además de recorrer los puestos y disfrutar de productos únicos\, a las 12:00 h tendremos la actuación del coro Cantemus de Orba\, que nos hará vivir un mediodía lleno de música y emoción. Jesús Pobre (Dénia) – Riurau de Jesús Pobre¡Ven y disfruta del mercado con nosotros
URL:https://disfruta-denia.com/evento/mercat-del-riurau-jesus-pobre-2-25-3-2-2-8-2-4-3-4/
LOCATION:Mercado Riurau Jesus Pobre\, Jesus Pobre\, Alicante\, 03749\, España
CATEGORIES:Concierto,Gastronomía,Mercado
ATTACH;FMTTYPE=image/jpeg:https://disfruta-denia.com/wp-content/uploads/2024/12/485111897_1037135651783132_6684029822991502160_n.jpg
END:VEVENT
BEGIN:VEVENT
DTSTART;TZID=Europe/Madrid:20250330T090000
DTEND;TZID=Europe/Madrid:20250330T140000
DTSTAMP:20260423T195240
CREATED:20241206T165430Z
LAST-MODIFIED:20241206T165431Z
UID:10019368-1743325200-1743343200@disfruta-denia.com
SUMMARY:Mercat del Riurau Jesus Pobre
DESCRIPTION:Este domingo 8 de diciembre te esperamos en el Mercat del Riurau\, de 10:00 a 14:00! Además\, a las 12:00 tendremos el placer de disfrutar del concierto en directo de la cantautora Inma Serrano. ¡Ven a pasar una mañana llena de música\, artesanía y buen ambiente!  ¿Dónde? Jesús Pobre ¿Cuándo? Domingo 8 de diciembre\, de 10:00 a 14:00¡No te lo pierdas\, te esperamos con las puertas abiertas!
URL:https://disfruta-denia.com/evento/mercat-del-riurau-jesus-pobre-2-25-3-2-2-8-2-4-3/2025-03-30/
LOCATION:Mercado Riurau Jesus Pobre\, Jesus Pobre\, Alicante\, 03749\, España
CATEGORIES:Concierto,Gastronomía,Mercado
ATTACH;FMTTYPE=image/jpeg:https://disfruta-denia.com/wp-content/uploads/2024/11/468421700_961429749353723_2511845002113226302_n.jpg
END:VEVENT
END:VCALENDAR