BEGIN:VCALENDAR
VERSION:2.0
PRODID:-//Disfruta Denia - ECPv6.15.20//NONSGML v1.0//EN
CALSCALE:GREGORIAN
METHOD:PUBLISH
X-WR-CALNAME:Disfruta Denia
X-ORIGINAL-URL:https://disfruta-denia.com
X-WR-CALDESC:Eventos para Disfruta Denia
REFRESH-INTERVAL;VALUE=DURATION:PT1H
X-Robots-Tag:noindex
X-PUBLISHED-TTL:PT1H
BEGIN:VTIMEZONE
TZID:Europe/Madrid
BEGIN:DAYLIGHT
TZOFFSETFROM:+0100
TZOFFSETTO:+0200
TZNAME:CEST
DTSTART:20220327T010000
END:DAYLIGHT
BEGIN:STANDARD
TZOFFSETFROM:+0200
TZOFFSETTO:+0100
TZNAME:CET
DTSTART:20221030T010000
END:STANDARD
BEGIN:DAYLIGHT
TZOFFSETFROM:+0100
TZOFFSETTO:+0200
TZNAME:CEST
DTSTART:20230326T010000
END:DAYLIGHT
BEGIN:STANDARD
TZOFFSETFROM:+0200
TZOFFSETTO:+0100
TZNAME:CET
DTSTART:20231029T010000
END:STANDARD
BEGIN:DAYLIGHT
TZOFFSETFROM:+0100
TZOFFSETTO:+0200
TZNAME:CEST
DTSTART:20240331T010000
END:DAYLIGHT
BEGIN:STANDARD
TZOFFSETFROM:+0200
TZOFFSETTO:+0100
TZNAME:CET
DTSTART:20241027T010000
END:STANDARD
END:VTIMEZONE
BEGIN:VEVENT
DTSTART;TZID=Europe/Madrid:20230802T223000
DTEND;TZID=Europe/Madrid:20230802T223000
DTSTAMP:20260422T214717
CREATED:20230719T065840Z
LAST-MODIFIED:20230719T070720Z
UID:10012563-1691015400-1691015400@disfruta-denia.com
SUMMARY:Noches de Tablao
DESCRIPTION:NOCHES DE TABLAO amb \nREBECA CARMONA Y SU GRUPO FLAMENCO \nRebeca Carmona – Juan Siddi\, ball / baile.  \nRafael del Kiri\, guitarra\, Jorge del Kiri\, cant/cante. \nAlumnes de l’escola flamenca de / alumnos/as de la escuela flamenca de Rebeca Carmona.
URL:https://disfruta-denia.com/evento/noches-de-tablao/
LOCATION:Parc de Les Bassetes\, Carr. de les Marines\, 53\, Denia\, Alicante\, 03700\, España
CATEGORIES:Baile,Cultura,Danza,Música
ATTACH;FMTTYPE=image/png:https://disfruta-denia.com/wp-content/uploads/2023/07/Cultura-a-les-bassetes.png
ORGANIZER;CN="Denia Cultura":MAILTO:cultura@ayto-denia.es
END:VEVENT
BEGIN:VEVENT
DTSTART;TZID=Europe/Madrid:20230805T210000
DTEND;TZID=Europe/Madrid:20230805T210000
DTSTAMP:20260422T214717
CREATED:20230801T064732Z
LAST-MODIFIED:20230801T064732Z
UID:10012881-1691269200-1691269200@disfruta-denia.com
SUMMARY:Música en F&L
DESCRIPTION:Este es el plan …. Os esperamos !
URL:https://disfruta-denia.com/evento/musica-en-fl/2023-08-05/
LOCATION:Food & lounge Bar\, Dársena de Babor s/n\, Denia\, Alicante\, 03700\, España
CATEGORIES:Baile,Concierto,Música
ATTACH;FMTTYPE=image/jpeg:https://disfruta-denia.com/wp-content/uploads/2023/08/364738268_766461808813637_1584209035048071246_n.jpg
END:VEVENT
BEGIN:VEVENT
DTSTART;TZID=Europe/Madrid:20230806T210000
DTEND;TZID=Europe/Madrid:20230806T210000
DTSTAMP:20260422T214717
CREATED:20230719T095255Z
LAST-MODIFIED:20230719T095255Z
UID:10012570-1691355600-1691355600@disfruta-denia.com
SUMMARY:Flamenco junto al mar
DESCRIPTION:Ahora los domingos se visten de flamenco en Agua de mar.\nDisfruta de la mejor gastronomía\, las vistas y la brisa mediterránea al son de la mejor música flamenca en directo a cargo de Flamenco & Punto 💃\nTodos los domingos desde las 21h. \n⬇🇬🇧\n💃Now Sundays are dressed in flamenco at Agua de mar.\nEnjoy the best gastronomy\, the views and the Mediterranean breeze to the sound of the best live flamenco music by Flamenco & Punto 💃\nEvery Sunday from 9pm.
URL:https://disfruta-denia.com/evento/flamenco-junto-al-mar/2023-08-06/
LOCATION:Restaurante Agua de Mar\, Pto. Deportivo Marina de Dénia\, Dársena de Babor Edif. D\, Local 7\, Denia\, Alicante\, 03700\, España
CATEGORIES:Baile,Concierto,Música
ATTACH;FMTTYPE=image/jpeg:https://disfruta-denia.com/wp-content/uploads/2023/07/361932313_1219176118770597_7175872120370132239_n-1.jpg
END:VEVENT
BEGIN:VEVENT
DTSTART;TZID=Europe/Madrid:20230810T210000
DTEND;TZID=Europe/Madrid:20230810T233000
DTSTAMP:20260422T214717
CREATED:20230805T071853Z
LAST-MODIFIED:20230805T071853Z
UID:10012976-1691701200-1691710200@disfruta-denia.com
SUMMARY:Verea Flamenca
DESCRIPTION:Con Rocío Mora
URL:https://disfruta-denia.com/evento/verea-flamenca-4/
LOCATION:Ciao Balandros Lounge\, Club Nautico\, Carr. de Dénia A Xábia\, Km 1\, Denia\, Alicante\, 03700\, España
CATEGORIES:Baile,Música,Tardeo
ATTACH;FMTTYPE=image/jpeg:https://disfruta-denia.com/wp-content/uploads/2023/08/365468794_175183248939970_6157154749254293608_n.jpg
END:VEVENT
BEGIN:VEVENT
DTSTART;TZID=Europe/Madrid:20230812T210000
DTEND;TZID=Europe/Madrid:20230812T210000
DTSTAMP:20260422T214717
CREATED:20230801T064732Z
LAST-MODIFIED:20230801T064732Z
UID:10012882-1691874000-1691874000@disfruta-denia.com
SUMMARY:Música en F&L
DESCRIPTION:Este es el plan …. Os esperamos !
URL:https://disfruta-denia.com/evento/musica-en-fl/2023-08-12/
LOCATION:Food & lounge Bar\, Dársena de Babor s/n\, Denia\, Alicante\, 03700\, España
CATEGORIES:Baile,Concierto,Música
ATTACH;FMTTYPE=image/jpeg:https://disfruta-denia.com/wp-content/uploads/2023/08/364738268_766461808813637_1584209035048071246_n.jpg
END:VEVENT
BEGIN:VEVENT
DTSTART;TZID=Europe/Madrid:20230813T210000
DTEND;TZID=Europe/Madrid:20230813T210000
DTSTAMP:20260422T214717
CREATED:20230719T095255Z
LAST-MODIFIED:20230719T095255Z
UID:10012571-1691960400-1691960400@disfruta-denia.com
SUMMARY:Flamenco junto al mar
DESCRIPTION:Ahora los domingos se visten de flamenco en Agua de mar.\nDisfruta de la mejor gastronomía\, las vistas y la brisa mediterránea al son de la mejor música flamenca en directo a cargo de Flamenco & Punto 💃\nTodos los domingos desde las 21h. \n⬇🇬🇧\n💃Now Sundays are dressed in flamenco at Agua de mar.\nEnjoy the best gastronomy\, the views and the Mediterranean breeze to the sound of the best live flamenco music by Flamenco & Punto 💃\nEvery Sunday from 9pm.
URL:https://disfruta-denia.com/evento/flamenco-junto-al-mar/2023-08-13/
LOCATION:Restaurante Agua de Mar\, Pto. Deportivo Marina de Dénia\, Dársena de Babor Edif. D\, Local 7\, Denia\, Alicante\, 03700\, España
CATEGORIES:Baile,Concierto,Música
ATTACH;FMTTYPE=image/jpeg:https://disfruta-denia.com/wp-content/uploads/2023/07/361932313_1219176118770597_7175872120370132239_n-1.jpg
END:VEVENT
BEGIN:VEVENT
DTSTART;TZID=Europe/Madrid:20230819T210000
DTEND;TZID=Europe/Madrid:20230819T210000
DTSTAMP:20260422T214717
CREATED:20230801T064732Z
LAST-MODIFIED:20230801T064732Z
UID:10012883-1692478800-1692478800@disfruta-denia.com
SUMMARY:Música en F&L
DESCRIPTION:Este es el plan …. Os esperamos !
URL:https://disfruta-denia.com/evento/musica-en-fl/2023-08-19/
LOCATION:Food & lounge Bar\, Dársena de Babor s/n\, Denia\, Alicante\, 03700\, España
CATEGORIES:Baile,Concierto,Música
ATTACH;FMTTYPE=image/jpeg:https://disfruta-denia.com/wp-content/uploads/2023/08/364738268_766461808813637_1584209035048071246_n.jpg
END:VEVENT
BEGIN:VEVENT
DTSTART;TZID=Europe/Madrid:20230820T210000
DTEND;TZID=Europe/Madrid:20230820T210000
DTSTAMP:20260422T214717
CREATED:20230719T095255Z
LAST-MODIFIED:20230719T095255Z
UID:10012572-1692565200-1692565200@disfruta-denia.com
SUMMARY:Flamenco junto al mar
DESCRIPTION:Ahora los domingos se visten de flamenco en Agua de mar.\nDisfruta de la mejor gastronomía\, las vistas y la brisa mediterránea al son de la mejor música flamenca en directo a cargo de Flamenco & Punto 💃\nTodos los domingos desde las 21h. \n⬇🇬🇧\n💃Now Sundays are dressed in flamenco at Agua de mar.\nEnjoy the best gastronomy\, the views and the Mediterranean breeze to the sound of the best live flamenco music by Flamenco & Punto 💃\nEvery Sunday from 9pm.
URL:https://disfruta-denia.com/evento/flamenco-junto-al-mar/2023-08-20/
LOCATION:Restaurante Agua de Mar\, Pto. Deportivo Marina de Dénia\, Dársena de Babor Edif. D\, Local 7\, Denia\, Alicante\, 03700\, España
CATEGORIES:Baile,Concierto,Música
ATTACH;FMTTYPE=image/jpeg:https://disfruta-denia.com/wp-content/uploads/2023/07/361932313_1219176118770597_7175872120370132239_n-1.jpg
END:VEVENT
BEGIN:VEVENT
DTSTART;TZID=Europe/Madrid:20230820T210000
DTEND;TZID=Europe/Madrid:20230820T233000
DTSTAMP:20260422T214717
CREATED:20230819T144920Z
LAST-MODIFIED:20230819T144920Z
UID:10013016-1692565200-1692574200@disfruta-denia.com
SUMMARY:Verea Flamenca
DESCRIPTION:VEREA FLAMENCA en la terraza del restaurante Balandros del Club Náutico
URL:https://disfruta-denia.com/evento/verea-flamenca-5/
LOCATION:Ciao Balandros Lounge\, Club Nautico\, Carr. de Dénia A Xábia\, Km 1\, Denia\, Alicante\, 03700\, España
CATEGORIES:Baile,Concierto,Música
ATTACH;FMTTYPE=image/jpeg:https://disfruta-denia.com/wp-content/uploads/2023/08/368028191_3612114999114319_863951034760352125_n.jpg
END:VEVENT
BEGIN:VEVENT
DTSTART;TZID=Europe/Madrid:20230826T210000
DTEND;TZID=Europe/Madrid:20230826T210000
DTSTAMP:20260422T214717
CREATED:20230823T142912Z
LAST-MODIFIED:20230823T142913Z
UID:10012884-1693083600-1693083600@disfruta-denia.com
SUMMARY:Flamenco en F&L
DESCRIPTION:Este es el plan …. Os esperamos !
URL:https://disfruta-denia.com/evento/musica-en-fl-2/
LOCATION:Food & lounge Bar\, Dársena de Babor s/n\, Denia\, Alicante\, 03700\, España
CATEGORIES:Baile,Concierto,Música
ATTACH;FMTTYPE=image/jpeg:https://disfruta-denia.com/wp-content/uploads/2023/08/370005124_782129893913495_2111219685902469546_n-2.jpg
END:VEVENT
BEGIN:VEVENT
DTSTART;TZID=Europe/Madrid:20230827T210000
DTEND;TZID=Europe/Madrid:20230827T210000
DTSTAMP:20260422T214717
CREATED:20230719T095255Z
LAST-MODIFIED:20230719T095255Z
UID:10012573-1693170000-1693170000@disfruta-denia.com
SUMMARY:Flamenco junto al mar
DESCRIPTION:Ahora los domingos se visten de flamenco en Agua de mar.\nDisfruta de la mejor gastronomía\, las vistas y la brisa mediterránea al son de la mejor música flamenca en directo a cargo de Flamenco & Punto 💃\nTodos los domingos desde las 21h. \n⬇🇬🇧\n💃Now Sundays are dressed in flamenco at Agua de mar.\nEnjoy the best gastronomy\, the views and the Mediterranean breeze to the sound of the best live flamenco music by Flamenco & Punto 💃\nEvery Sunday from 9pm.
URL:https://disfruta-denia.com/evento/flamenco-junto-al-mar/2023-08-27/
LOCATION:Restaurante Agua de Mar\, Pto. Deportivo Marina de Dénia\, Dársena de Babor Edif. D\, Local 7\, Denia\, Alicante\, 03700\, España
CATEGORIES:Baile,Concierto,Música
ATTACH;FMTTYPE=image/jpeg:https://disfruta-denia.com/wp-content/uploads/2023/07/361932313_1219176118770597_7175872120370132239_n-1.jpg
END:VEVENT
END:VCALENDAR