BEGIN:VCALENDAR
VERSION:2.0
PRODID:-//Disfruta Denia - ECPv6.15.20//NONSGML v1.0//EN
CALSCALE:GREGORIAN
METHOD:PUBLISH
X-WR-CALNAME:Disfruta Denia
X-ORIGINAL-URL:https://disfruta-denia.com
X-WR-CALDESC:Eventos para Disfruta Denia
REFRESH-INTERVAL;VALUE=DURATION:PT1H
X-Robots-Tag:noindex
X-PUBLISHED-TTL:PT1H
BEGIN:VTIMEZONE
TZID:Europe/Madrid
BEGIN:DAYLIGHT
TZOFFSETFROM:+0100
TZOFFSETTO:+0200
TZNAME:CEST
DTSTART:20220327T010000
END:DAYLIGHT
BEGIN:STANDARD
TZOFFSETFROM:+0200
TZOFFSETTO:+0100
TZNAME:CET
DTSTART:20221030T010000
END:STANDARD
BEGIN:DAYLIGHT
TZOFFSETFROM:+0100
TZOFFSETTO:+0200
TZNAME:CEST
DTSTART:20230326T010000
END:DAYLIGHT
BEGIN:STANDARD
TZOFFSETFROM:+0200
TZOFFSETTO:+0100
TZNAME:CET
DTSTART:20231029T010000
END:STANDARD
BEGIN:DAYLIGHT
TZOFFSETFROM:+0100
TZOFFSETTO:+0200
TZNAME:CEST
DTSTART:20240331T010000
END:DAYLIGHT
BEGIN:STANDARD
TZOFFSETFROM:+0200
TZOFFSETTO:+0100
TZNAME:CET
DTSTART:20241027T010000
END:STANDARD
END:VTIMEZONE
BEGIN:VEVENT
DTSTART;TZID=Europe/Madrid:20230917T200000
DTEND;TZID=Europe/Madrid:20230917T200000
DTSTAMP:20260422T201051
CREATED:20230914T133637Z
LAST-MODIFIED:20230914T133637Z
UID:10013682-1694980800-1694980800@disfruta-denia.com
SUMMARY:Verea Flamenca
DESCRIPTION:Empezamos nueva temporada de espectáculos en babiloniadenia de la mano de @vereaflamenca  \nSerá el próximo domingo 17 de septiembre a las 20:00. \nEntrada gratuita
URL:https://disfruta-denia.com/evento/verea-flamenca-6/
LOCATION:Babilonia Restaurante\, Calle Cavallers 11\, Denia\, Alicante\, 03700\, España
CATEGORIES:Baile,Música,Tardeo
ATTACH;FMTTYPE=image/jpeg:https://disfruta-denia.com/wp-content/uploads/2023/09/378182856_280599191502932_8975553345410171347_n-1.jpg
END:VEVENT
BEGIN:VEVENT
DTSTART;TZID=Europe/Madrid:20230923T210000
DTEND;TZID=Europe/Madrid:20230923T210000
DTSTAMP:20260422T201051
CREATED:20230917T094512Z
LAST-MODIFIED:20230917T094546Z
UID:10013684-1695502800-1695502800@disfruta-denia.com
SUMMARY:Burlesque Night Show
DESCRIPTION:
URL:https://disfruta-denia.com/evento/burlesque-night-show/
LOCATION:La Sacristía Denia\, C/ Pare Pere\, 4\, Denia\, Alicante\, 03700\, España
CATEGORIES:Baile,Espectáculo,Música,Ocio nocturno
ATTACH;FMTTYPE=image/jpeg:https://disfruta-denia.com/wp-content/uploads/2023/09/burlesque.jpg
END:VEVENT
END:VCALENDAR