BEGIN:VCALENDAR
VERSION:2.0
PRODID:-//Disfruta Denia - ECPv6.15.20//NONSGML v1.0//EN
CALSCALE:GREGORIAN
METHOD:PUBLISH
X-WR-CALNAME:Disfruta Denia
X-ORIGINAL-URL:https://disfruta-denia.com
X-WR-CALDESC:Eventos para Disfruta Denia
REFRESH-INTERVAL;VALUE=DURATION:PT1H
X-Robots-Tag:noindex
X-PUBLISHED-TTL:PT1H
BEGIN:VTIMEZONE
TZID:Europe/Madrid
BEGIN:DAYLIGHT
TZOFFSETFROM:+0100
TZOFFSETTO:+0200
TZNAME:CEST
DTSTART:20230326T010000
END:DAYLIGHT
BEGIN:STANDARD
TZOFFSETFROM:+0200
TZOFFSETTO:+0100
TZNAME:CET
DTSTART:20231029T010000
END:STANDARD
BEGIN:DAYLIGHT
TZOFFSETFROM:+0100
TZOFFSETTO:+0200
TZNAME:CEST
DTSTART:20240331T010000
END:DAYLIGHT
BEGIN:STANDARD
TZOFFSETFROM:+0200
TZOFFSETTO:+0100
TZNAME:CET
DTSTART:20241027T010000
END:STANDARD
BEGIN:DAYLIGHT
TZOFFSETFROM:+0100
TZOFFSETTO:+0200
TZNAME:CEST
DTSTART:20250330T010000
END:DAYLIGHT
BEGIN:STANDARD
TZOFFSETFROM:+0200
TZOFFSETTO:+0100
TZNAME:CET
DTSTART:20251026T010000
END:STANDARD
END:VTIMEZONE
BEGIN:VEVENT
DTSTART;TZID=Europe/Madrid:20240107T123000
DTEND;TZID=Europe/Madrid:20240107T123000
DTSTAMP:20260422T131522
CREATED:20240104T090856Z
LAST-MODIFIED:20240104T091209Z
UID:10015210-1704630600-1704630600@disfruta-denia.com
SUMMARY:Taller de Bachata y baile social
DESCRIPTION:EMPIEZA EL AÑO BAILANDO \n\n\nEste domingo 7 de enero a las 12:30\, taller de bachata con @dancesoniavillasstudio y después un ratito de baile social. Ven a hacerte la cervecita \, el vinito  o el vermut  mientras te echas unos bailes .
URL:https://disfruta-denia.com/evento/taller-de-bachata-y-baile-social-2/
LOCATION:Les Tramoies\, C/ de Patricio Ferrándiz\, 88\, Denia\, Alicante\, 03700\, España
CATEGORIES:Baile,Música
ATTACH;FMTTYPE=image/png:https://disfruta-denia.com/wp-content/uploads/2024/01/tALLER-BACHATA-1.png
END:VEVENT
BEGIN:VEVENT
DTSTART;TZID=Europe/Madrid:20240120T210000
DTEND;TZID=Europe/Madrid:20240120T210000
DTSTAMP:20260422T131522
CREATED:20240113T133438Z
LAST-MODIFIED:20240113T133438Z
UID:10015227-1705784400-1705784400@disfruta-denia.com
SUMMARY:Burlesque con JOANA STONE
DESCRIPTION:Queridos Feligreses\n.\nEstamos muuuy felices porque vuelve a la Sacris el #shownight único y especial que estábamos esperando con mucha ilusión \n.\nLa Elegancia\, Sensualidad y Picardía representan a la Artista Burlesque JOANA STONE\n.\nArgentina residente en España\, cuenta con más de 10 años de trayectoria artística sobre los escenarios de IBIZA\, BARCELONA y VALENCIA\, donde no ha dejado a nadie indiferente
URL:https://disfruta-denia.com/evento/burlesque-con-joana-stone/
LOCATION:La Sacristía Denia\, C/ Pare Pere\, 4\, Denia\, Alicante\, 03700\, España
CATEGORIES:Baile,Música
ATTACH;FMTTYPE=image/jpeg:https://disfruta-denia.com/wp-content/uploads/2024/01/419362915_17882105636991636_7466957206333474419_n.jpg
END:VEVENT
END:VCALENDAR