BEGIN:VCALENDAR
VERSION:2.0
PRODID:-//Disfruta Denia - ECPv6.15.20//NONSGML v1.0//EN
CALSCALE:GREGORIAN
METHOD:PUBLISH
X-WR-CALNAME:Disfruta Denia
X-ORIGINAL-URL:https://disfruta-denia.com
X-WR-CALDESC:Eventos para Disfruta Denia
REFRESH-INTERVAL;VALUE=DURATION:PT1H
X-Robots-Tag:noindex
X-PUBLISHED-TTL:PT1H
BEGIN:VTIMEZONE
TZID:Europe/Madrid
BEGIN:DAYLIGHT
TZOFFSETFROM:+0100
TZOFFSETTO:+0200
TZNAME:CEST
DTSTART:20230326T010000
END:DAYLIGHT
BEGIN:STANDARD
TZOFFSETFROM:+0200
TZOFFSETTO:+0100
TZNAME:CET
DTSTART:20231029T010000
END:STANDARD
BEGIN:DAYLIGHT
TZOFFSETFROM:+0100
TZOFFSETTO:+0200
TZNAME:CEST
DTSTART:20240331T010000
END:DAYLIGHT
BEGIN:STANDARD
TZOFFSETFROM:+0200
TZOFFSETTO:+0100
TZNAME:CET
DTSTART:20241027T010000
END:STANDARD
BEGIN:DAYLIGHT
TZOFFSETFROM:+0100
TZOFFSETTO:+0200
TZNAME:CEST
DTSTART:20250330T010000
END:DAYLIGHT
BEGIN:STANDARD
TZOFFSETFROM:+0200
TZOFFSETTO:+0100
TZNAME:CET
DTSTART:20251026T010000
END:STANDARD
END:VTIMEZONE
BEGIN:VEVENT
DTSTART;TZID=Europe/Madrid:20240224T210000
DTEND;TZID=Europe/Madrid:20240224T210000
DTSTAMP:20260422T112614
CREATED:20240214T171157Z
LAST-MODIFIED:20240214T171158Z
UID:10017218-1708808400-1708808400@disfruta-denia.com
SUMMARY:Los Locos años 20
DESCRIPTION:El sábado 24 de febrero hacemos un gran evento en La Marina Lindy Hop\, una fiesta inspirada en “los Locos años 20”.  \nAbriremos puertas sobre las 21:00 y tendremos la cocina abierta para que te puedas tomar algo antes de concierto.  \nA partir de las 22:30 empieza el concierto de Enric Peidro Feat. Frits Landesbergen\, música en directo para que bailes a ritmo de swing. \nTickets: anticipada 15€ y en la puerta 20€. Consigue tu entrada escribiendo un Whatsapp al 659843610. \nEs fiesta temática así que ve preparando un súper outfit\, iremos dando ideas Tendremos premio delicioso para el outfit que más triunfe. ¿Te apuntas?
URL:https://disfruta-denia.com/evento/los-locos-anos-20/
LOCATION:La Marina Lindy Hop\, Partida Madrigueres Sud\, 67\, Local 9\, Denia\, Alicante\, 03700\, España
CATEGORIES:Baile,Música
ATTACH;FMTTYPE=image/jpeg:https://disfruta-denia.com/wp-content/uploads/2024/02/422083523_18280747531167984_7186297421651435833_n-1.jpg
END:VEVENT
END:VCALENDAR