BEGIN:VCALENDAR
VERSION:2.0
PRODID:-//Disfruta Denia - ECPv6.15.20//NONSGML v1.0//EN
CALSCALE:GREGORIAN
METHOD:PUBLISH
X-WR-CALNAME:Disfruta Denia
X-ORIGINAL-URL:https://disfruta-denia.com
X-WR-CALDESC:Eventos para Disfruta Denia
REFRESH-INTERVAL;VALUE=DURATION:PT1H
X-Robots-Tag:noindex
X-PUBLISHED-TTL:PT1H
BEGIN:VTIMEZONE
TZID:Europe/Madrid
BEGIN:DAYLIGHT
TZOFFSETFROM:+0100
TZOFFSETTO:+0200
TZNAME:CEST
DTSTART:20230326T010000
END:DAYLIGHT
BEGIN:STANDARD
TZOFFSETFROM:+0200
TZOFFSETTO:+0100
TZNAME:CET
DTSTART:20231029T010000
END:STANDARD
BEGIN:DAYLIGHT
TZOFFSETFROM:+0100
TZOFFSETTO:+0200
TZNAME:CEST
DTSTART:20240331T010000
END:DAYLIGHT
BEGIN:STANDARD
TZOFFSETFROM:+0200
TZOFFSETTO:+0100
TZNAME:CET
DTSTART:20241027T010000
END:STANDARD
BEGIN:DAYLIGHT
TZOFFSETFROM:+0100
TZOFFSETTO:+0200
TZNAME:CEST
DTSTART:20250330T010000
END:DAYLIGHT
BEGIN:STANDARD
TZOFFSETFROM:+0200
TZOFFSETTO:+0100
TZNAME:CET
DTSTART:20251026T010000
END:STANDARD
END:VTIMEZONE
BEGIN:VEVENT
DTSTART;TZID=Europe/Madrid:20240605T190000
DTEND;TZID=Europe/Madrid:20240605T190000
DTSTAMP:20260422T044107
CREATED:20240501T071519Z
LAST-MODIFIED:20240501T071519Z
UID:10018237-1717614000-1717614000@disfruta-denia.com
SUMMARY:Clases de Salsa y bachata
DESCRIPTION:clase gratuita
URL:https://disfruta-denia.com/evento/clases-de-salsa-y-bachata/2024-06-05/
LOCATION:Rebeldia Blues\, Carr. de Dénia A Xábia\, 3G\, Denia\, Alicante\, 03700\, España
CATEGORIES:Baile,Música
ATTACH;FMTTYPE=image/jpeg:https://disfruta-denia.com/wp-content/uploads/2024/05/440743591_17919109514911738_7379047312868127315_n.jpg
END:VEVENT
BEGIN:VEVENT
DTSTART;TZID=Europe/Madrid:20240612T190000
DTEND;TZID=Europe/Madrid:20240612T190000
DTSTAMP:20260422T044107
CREATED:20240501T071519Z
LAST-MODIFIED:20240501T071519Z
UID:10018238-1718218800-1718218800@disfruta-denia.com
SUMMARY:Clases de Salsa y bachata
DESCRIPTION:clase gratuita
URL:https://disfruta-denia.com/evento/clases-de-salsa-y-bachata/2024-06-12/
LOCATION:Rebeldia Blues\, Carr. de Dénia A Xábia\, 3G\, Denia\, Alicante\, 03700\, España
CATEGORIES:Baile,Música
ATTACH;FMTTYPE=image/jpeg:https://disfruta-denia.com/wp-content/uploads/2024/05/440743591_17919109514911738_7379047312868127315_n.jpg
END:VEVENT
BEGIN:VEVENT
DTSTART;TZID=Europe/Madrid:20240619T190000
DTEND;TZID=Europe/Madrid:20240619T190000
DTSTAMP:20260422T044107
CREATED:20240501T071519Z
LAST-MODIFIED:20240501T071519Z
UID:10018239-1718823600-1718823600@disfruta-denia.com
SUMMARY:Clases de Salsa y bachata
DESCRIPTION:clase gratuita
URL:https://disfruta-denia.com/evento/clases-de-salsa-y-bachata/2024-06-19/
LOCATION:Rebeldia Blues\, Carr. de Dénia A Xábia\, 3G\, Denia\, Alicante\, 03700\, España
CATEGORIES:Baile,Música
ATTACH;FMTTYPE=image/jpeg:https://disfruta-denia.com/wp-content/uploads/2024/05/440743591_17919109514911738_7379047312868127315_n.jpg
END:VEVENT
BEGIN:VEVENT
DTSTART;TZID=Europe/Madrid:20240621T193000
DTEND;TZID=Europe/Madrid:20240621T193000
DTSTAMP:20260422T044107
CREATED:20240525T091008Z
LAST-MODIFIED:20240525T091008Z
UID:10018671-1718998200-1718998200@disfruta-denia.com
SUMMARY:FESTIVAL DEL CANTE DE LAS MINAS - Flamenco
DESCRIPTION:Prova/prueba selectiva en Dénia  \nEntrada: 10 €  en  https://www.notikumi.com  \nEn taquilla: una hora abans del concert/una hora antes del concierto.
URL:https://disfruta-denia.com/evento/festival-del-cante-de-las-minas-flamenco/
LOCATION:Teatro Auditorio Centro Social\, 4 Carrer Calderón\, Dénia\, VC\, 03700\, Spain
CATEGORIES:Baile,Cultura,Danza,Música
ATTACH;FMTTYPE=image/png:https://disfruta-denia.com/wp-content/uploads/2024/05/9-Cante-de-las-minas.png
ORGANIZER;CN="Denia Cultura":MAILTO:cultura@ayto-denia.es
END:VEVENT
BEGIN:VEVENT
DTSTART;TZID=Europe/Madrid:20240626T190000
DTEND;TZID=Europe/Madrid:20240626T190000
DTSTAMP:20260422T044107
CREATED:20240501T071519Z
LAST-MODIFIED:20240501T071519Z
UID:10018240-1719428400-1719428400@disfruta-denia.com
SUMMARY:Clases de Salsa y bachata
DESCRIPTION:clase gratuita
URL:https://disfruta-denia.com/evento/clases-de-salsa-y-bachata/2024-06-26/
LOCATION:Rebeldia Blues\, Carr. de Dénia A Xábia\, 3G\, Denia\, Alicante\, 03700\, España
CATEGORIES:Baile,Música
ATTACH;FMTTYPE=image/jpeg:https://disfruta-denia.com/wp-content/uploads/2024/05/440743591_17919109514911738_7379047312868127315_n.jpg
END:VEVENT
END:VCALENDAR