BEGIN:VCALENDAR
VERSION:2.0
PRODID:-//Disfruta Denia - ECPv6.15.20//NONSGML v1.0//EN
CALSCALE:GREGORIAN
METHOD:PUBLISH
X-WR-CALNAME:Disfruta Denia
X-ORIGINAL-URL:https://disfruta-denia.com
X-WR-CALDESC:Eventos para Disfruta Denia
REFRESH-INTERVAL;VALUE=DURATION:PT1H
X-Robots-Tag:noindex
X-PUBLISHED-TTL:PT1H
BEGIN:VTIMEZONE
TZID:Europe/Madrid
BEGIN:DAYLIGHT
TZOFFSETFROM:+0100
TZOFFSETTO:+0200
TZNAME:CEST
DTSTART:20230326T010000
END:DAYLIGHT
BEGIN:STANDARD
TZOFFSETFROM:+0200
TZOFFSETTO:+0100
TZNAME:CET
DTSTART:20231029T010000
END:STANDARD
BEGIN:DAYLIGHT
TZOFFSETFROM:+0100
TZOFFSETTO:+0200
TZNAME:CEST
DTSTART:20240331T010000
END:DAYLIGHT
BEGIN:STANDARD
TZOFFSETFROM:+0200
TZOFFSETTO:+0100
TZNAME:CET
DTSTART:20241027T010000
END:STANDARD
BEGIN:DAYLIGHT
TZOFFSETFROM:+0100
TZOFFSETTO:+0200
TZNAME:CEST
DTSTART:20250330T010000
END:DAYLIGHT
BEGIN:STANDARD
TZOFFSETFROM:+0200
TZOFFSETTO:+0100
TZNAME:CET
DTSTART:20251026T010000
END:STANDARD
END:VTIMEZONE
BEGIN:VEVENT
DTSTART;TZID=Europe/Madrid:20240703T190000
DTEND;TZID=Europe/Madrid:20240703T190000
DTSTAMP:20260422T025210
CREATED:20240501T071519Z
LAST-MODIFIED:20240501T071519Z
UID:10018241-1720033200-1720033200@disfruta-denia.com
SUMMARY:Clases de Salsa y bachata
DESCRIPTION:clase gratuita
URL:https://disfruta-denia.com/evento/clases-de-salsa-y-bachata/2024-07-03/
LOCATION:Rebeldia Blues\, Carr. de Dénia A Xábia\, 3G\, Denia\, Alicante\, 03700\, España
CATEGORIES:Baile,Música
ATTACH;FMTTYPE=image/jpeg:https://disfruta-denia.com/wp-content/uploads/2024/05/440743591_17919109514911738_7379047312868127315_n.jpg
END:VEVENT
BEGIN:VEVENT
DTSTART;TZID=Europe/Madrid:20240710T190000
DTEND;TZID=Europe/Madrid:20240710T190000
DTSTAMP:20260422T025210
CREATED:20240501T071519Z
LAST-MODIFIED:20240501T071519Z
UID:10018242-1720638000-1720638000@disfruta-denia.com
SUMMARY:Clases de Salsa y bachata
DESCRIPTION:clase gratuita
URL:https://disfruta-denia.com/evento/clases-de-salsa-y-bachata/2024-07-10/
LOCATION:Rebeldia Blues\, Carr. de Dénia A Xábia\, 3G\, Denia\, Alicante\, 03700\, España
CATEGORIES:Baile,Música
ATTACH;FMTTYPE=image/jpeg:https://disfruta-denia.com/wp-content/uploads/2024/05/440743591_17919109514911738_7379047312868127315_n.jpg
END:VEVENT
BEGIN:VEVENT
DTSTART;TZID=Europe/Madrid:20240715T203000
DTEND;TZID=Europe/Madrid:20240715T203000
DTSTAMP:20260422T025210
CREATED:20240708T134753Z
LAST-MODIFIED:20240708T134836Z
UID:10018821-1721075400-1721075400@disfruta-denia.com
SUMMARY:Tablao Flamenco
DESCRIPTION:𝗝𝗨𝗟𝗜𝗢 𝘆 𝗔𝗚𝗢𝗦𝗧𝗢 𝘀𝗼𝗻 𝗱𝗲 𝗧𝗔𝗕𝗟𝗔𝗢 𝗙𝗟𝗔𝗠𝗘𝗡𝗖𝗢 💃 𝗲𝗻 𝗟𝗲𝘀 𝘁𝗿𝗮𝗺𝗼𝗶𝗲𝘀.⁣\n⁣\nVive un auténtico tablao flamenco con una puesta en escena única y espectacular. Baile\, cante\, percusión y guitarra.⁣\n⁣\n****⁣\n⁣\nExperience an authentic flamenco tablao with a unique and spectacular staging. Dance\, singing\, percussion and guitar.⁣\n⁣\n📆𝘍𝘦𝘤𝘩𝘢𝘴/ Dates:⁣\n⁣\n𝟭𝟱 𝗱𝗲 𝗷𝘂𝗹𝗶𝗼⁣\n𝟮𝟵 𝗱𝗲 𝗷𝘂𝗹𝗶𝗼⁣\n𝟱 𝗱𝗲 𝗮𝗴𝗼𝘀to\n𝟭𝟵 𝗱𝗲 𝗮𝗴𝗼𝘀𝘁𝗼⁣\n⁣\n🕣Todas las 𝘀𝗲𝘀𝗶𝗼𝗻𝗲𝘀 𝘀𝗼𝗻 𝗮 𝗹𝗮𝘀 𝟮𝟬:𝟯𝟬. Apertura de puertas 30 minutos antes.⁣\n⁣\n⁣\n𝗜𝗻𝗳𝗼𝗿𝗺𝗮𝗰𝗶𝗼́𝗻 𝘆 𝗿𝗲𝘀𝗲𝗿𝘃𝗮𝘀🎟️/ 𝗧𝗶𝗰𝗸𝗲𝘁𝘀:⁣\n☎️605 28 23 28⁣\n\n\nhttps://www.notikumi.com/2024/7/15/tablao-flamenco
URL:https://disfruta-denia.com/evento/tablao-flamenco/2024-07-15/
LOCATION:Les Tramoies\, C/ de Patricio Ferrándiz\, 88\, Denia\, Alicante\, 03700\, España
CATEGORIES:Baile,Cultura,Danza,Música
ATTACH;FMTTYPE=image/jpeg:https://disfruta-denia.com/wp-content/uploads/2024/07/image0.jpeg
END:VEVENT
BEGIN:VEVENT
DTSTART;TZID=Europe/Madrid:20240717T190000
DTEND;TZID=Europe/Madrid:20240717T190000
DTSTAMP:20260422T025210
CREATED:20240501T071519Z
LAST-MODIFIED:20240501T071519Z
UID:10018243-1721242800-1721242800@disfruta-denia.com
SUMMARY:Clases de Salsa y bachata
DESCRIPTION:clase gratuita
URL:https://disfruta-denia.com/evento/clases-de-salsa-y-bachata/2024-07-17/
LOCATION:Rebeldia Blues\, Carr. de Dénia A Xábia\, 3G\, Denia\, Alicante\, 03700\, España
CATEGORIES:Baile,Música
ATTACH;FMTTYPE=image/jpeg:https://disfruta-denia.com/wp-content/uploads/2024/05/440743591_17919109514911738_7379047312868127315_n.jpg
END:VEVENT
BEGIN:VEVENT
DTSTART;TZID=Europe/Madrid:20240724T190000
DTEND;TZID=Europe/Madrid:20240724T190000
DTSTAMP:20260422T025210
CREATED:20240501T071519Z
LAST-MODIFIED:20240501T071519Z
UID:10018244-1721847600-1721847600@disfruta-denia.com
SUMMARY:Clases de Salsa y bachata
DESCRIPTION:clase gratuita
URL:https://disfruta-denia.com/evento/clases-de-salsa-y-bachata/2024-07-24/
LOCATION:Rebeldia Blues\, Carr. de Dénia A Xábia\, 3G\, Denia\, Alicante\, 03700\, España
CATEGORIES:Baile,Música
ATTACH;FMTTYPE=image/jpeg:https://disfruta-denia.com/wp-content/uploads/2024/05/440743591_17919109514911738_7379047312868127315_n.jpg
END:VEVENT
BEGIN:VEVENT
DTSTART;TZID=Europe/Madrid:20240729T203000
DTEND;TZID=Europe/Madrid:20240729T203000
DTSTAMP:20260422T025210
CREATED:20240708T134753Z
LAST-MODIFIED:20240708T134836Z
UID:10018822-1722285000-1722285000@disfruta-denia.com
SUMMARY:Tablao Flamenco
DESCRIPTION:𝗝𝗨𝗟𝗜𝗢 𝘆 𝗔𝗚𝗢𝗦𝗧𝗢 𝘀𝗼𝗻 𝗱𝗲 𝗧𝗔𝗕𝗟𝗔𝗢 𝗙𝗟𝗔𝗠𝗘𝗡𝗖𝗢 💃 𝗲𝗻 𝗟𝗲𝘀 𝘁𝗿𝗮𝗺𝗼𝗶𝗲𝘀.⁣\n⁣\nVive un auténtico tablao flamenco con una puesta en escena única y espectacular. Baile\, cante\, percusión y guitarra.⁣\n⁣\n****⁣\n⁣\nExperience an authentic flamenco tablao with a unique and spectacular staging. Dance\, singing\, percussion and guitar.⁣\n⁣\n📆𝘍𝘦𝘤𝘩𝘢𝘴/ Dates:⁣\n⁣\n𝟭𝟱 𝗱𝗲 𝗷𝘂𝗹𝗶𝗼⁣\n𝟮𝟵 𝗱𝗲 𝗷𝘂𝗹𝗶𝗼⁣\n𝟱 𝗱𝗲 𝗮𝗴𝗼𝘀to\n𝟭𝟵 𝗱𝗲 𝗮𝗴𝗼𝘀𝘁𝗼⁣\n⁣\n🕣Todas las 𝘀𝗲𝘀𝗶𝗼𝗻𝗲𝘀 𝘀𝗼𝗻 𝗮 𝗹𝗮𝘀 𝟮𝟬:𝟯𝟬. Apertura de puertas 30 minutos antes.⁣\n⁣\n⁣\n𝗜𝗻𝗳𝗼𝗿𝗺𝗮𝗰𝗶𝗼́𝗻 𝘆 𝗿𝗲𝘀𝗲𝗿𝘃𝗮𝘀🎟️/ 𝗧𝗶𝗰𝗸𝗲𝘁𝘀:⁣\n☎️605 28 23 28⁣\n\n\nhttps://www.notikumi.com/2024/7/15/tablao-flamenco
URL:https://disfruta-denia.com/evento/tablao-flamenco/2024-07-29/
LOCATION:Les Tramoies\, C/ de Patricio Ferrándiz\, 88\, Denia\, Alicante\, 03700\, España
CATEGORIES:Baile,Cultura,Danza,Música
ATTACH;FMTTYPE=image/jpeg:https://disfruta-denia.com/wp-content/uploads/2024/07/image0.jpeg
END:VEVENT
BEGIN:VEVENT
DTSTART;TZID=Europe/Madrid:20240731T190000
DTEND;TZID=Europe/Madrid:20240731T190000
DTSTAMP:20260422T025210
CREATED:20240501T071519Z
LAST-MODIFIED:20240501T071519Z
UID:10018245-1722452400-1722452400@disfruta-denia.com
SUMMARY:Clases de Salsa y bachata
DESCRIPTION:clase gratuita
URL:https://disfruta-denia.com/evento/clases-de-salsa-y-bachata/2024-07-31/
LOCATION:Rebeldia Blues\, Carr. de Dénia A Xábia\, 3G\, Denia\, Alicante\, 03700\, España
CATEGORIES:Baile,Música
ATTACH;FMTTYPE=image/jpeg:https://disfruta-denia.com/wp-content/uploads/2024/05/440743591_17919109514911738_7379047312868127315_n.jpg
END:VEVENT
END:VCALENDAR