BEGIN:VCALENDAR
VERSION:2.0
PRODID:-//Disfruta Denia - ECPv6.15.20//NONSGML v1.0//EN
CALSCALE:GREGORIAN
METHOD:PUBLISH
X-WR-CALNAME:Disfruta Denia
X-ORIGINAL-URL:https://disfruta-denia.com
X-WR-CALDESC:Eventos para Disfruta Denia
REFRESH-INTERVAL;VALUE=DURATION:PT1H
X-Robots-Tag:noindex
X-PUBLISHED-TTL:PT1H
BEGIN:VTIMEZONE
TZID:Europe/Madrid
BEGIN:DAYLIGHT
TZOFFSETFROM:+0100
TZOFFSETTO:+0200
TZNAME:CEST
DTSTART:20230326T010000
END:DAYLIGHT
BEGIN:STANDARD
TZOFFSETFROM:+0200
TZOFFSETTO:+0100
TZNAME:CET
DTSTART:20231029T010000
END:STANDARD
BEGIN:DAYLIGHT
TZOFFSETFROM:+0100
TZOFFSETTO:+0200
TZNAME:CEST
DTSTART:20240331T010000
END:DAYLIGHT
BEGIN:STANDARD
TZOFFSETFROM:+0200
TZOFFSETTO:+0100
TZNAME:CET
DTSTART:20241027T010000
END:STANDARD
BEGIN:DAYLIGHT
TZOFFSETFROM:+0100
TZOFFSETTO:+0200
TZNAME:CEST
DTSTART:20250330T010000
END:DAYLIGHT
BEGIN:STANDARD
TZOFFSETFROM:+0200
TZOFFSETTO:+0100
TZNAME:CET
DTSTART:20251026T010000
END:STANDARD
END:VTIMEZONE
BEGIN:VEVENT
DTSTART;TZID=Europe/Madrid:20240909T193000
DTEND;TZID=Europe/Madrid:20240909T193000
DTSTAMP:20260421T225149
CREATED:20240829T134637Z
LAST-MODIFIED:20240829T134637Z
UID:10019268-1725910200-1725910200@disfruta-denia.com
SUMMARY:A Fling Called Swing
DESCRIPTION:El Ayuntamiento de Dénia ha anunciado hoy la celebración de A Fling Called Swing\, un concierto de música en vivo que combina juventud\, baile e inclusión social. El evento tendrá lugar el lunes 9 de septiembre\, en la plaza del Consell\, a partir de las 19.30 horas. El principal objetivo de esta iniciativa es promover los valores de integración social y dar visibilidad al colectivo de personas con Trastorno por Déficit de Atención e Hiperactividad (TDAH)\, con el apoyo del tejido asociativo juvenil de la Marina. \nEl concejal de Juventud\, Valen Alcalà\, acompañado por la concejala de Bienestar Social\, Melani Ivars\, la delegada de la asociación TDAH-16\, Encarna Espinar\, y el representante de la ONG Amicitia\, Ignacio González\, ha explicado los detalles de evento durante la presentación. \nÉste empezará con un taller gratuito de introducción al baile Lindy Hop\, organizado en colaboración con el colectivo cultural de swing La Marina Lindy Hop\, a partir de las 19.30 horas. Posteriormente\, se celebrará el concierto\, en el que voluntarios de la asociación TDAH-16 y el público asistente podrán bailar al ritmo de la música en directo\, a cargo de los jóvenes voluntarios de distintos países europeos que cooperan en Amicitia. \n“Estamos muy contentos de apoyar proyectos como A Fling Called Swing que ha reunido a jóvenes de diferentes países para formar una banda de swing con un claro propósito: fomentar la integración. Es un privilegio poder gozar de su talento y sus valores aquí en Dénia»\, ha destacado Alcalá. \nIgnacio González ha explicado que A Fling Called Swing es un proyecto apoyado por la Comisión Europea dentro del Programa VTHPA (Volunteering Teams High Priority Areas)\, que durante tres años ha realizado un voluntariado internacional en diversas localidades. En estos sitios\, los jóvenes han ofrecido conciertos en residencias de ancianos y han colaborado con asociaciones locales y ayuntamientos. \nEn esta ocasión\, serán 16 músicos de entre 18 y 25 años los que interpretarán 12 temas de música swing\, acompañados por Marina Lindy Hop y la asociación TDAH-16. \nPor su parte\, Encarna Espinar ha expresado su agradecimiento por la colaboración del proyecto\, destacando que «este vínculo es fundamental para visibilizar al colectivo y ofrecer a los jóvenes una plataforma donde puedan expresarse y sentirse apoyados por su comunidad». \nLa concejala de Bienestar Social\, Melani Ivars\, ha subrayado el compromiso del ayuntamiento con las asociaciones locales y colectivos que trabajan para dar visibilidad a sus problemáticas y obtener el apoyo necesario. \n“Estamos muy contentos de colaborar una vez más con asociaciones como TDAH-16 o Marina Lindy Hop\, y encantados de hacerlo ahora con Amicitia. Queremos animar a la ciudadanía a participar y disfrutar de este evento\, que\, más allá del entretenimiento\, es un paso más hacia la construcción de una comunidad más solidaria e inclusiva”.
URL:https://disfruta-denia.com/evento/a-fling-called-swing/
LOCATION:Plaza del Consell\, Carrer de la Mar\, Denia\, 03700
CATEGORIES:Baile,Música
ATTACH;FMTTYPE=image/jpeg:https://disfruta-denia.com/wp-content/uploads/2024/08/7107f2.jpeg
END:VEVENT
BEGIN:VEVENT
DTSTART;TZID=Europe/Madrid:20240911T180000
DTEND;TZID=Europe/Madrid:20240911T213000
DTSTAMP:20260421T225149
CREATED:20240831T104325Z
LAST-MODIFIED:20240831T104325Z
UID:10019275-1726077600-1726090200@disfruta-denia.com
SUMMARY:Puertas Abiertas en La Marina Lindy Hop
DESCRIPTION:El próximo miércoles 11 de septiembre te invitamos a probar nuestras clases de forma gratuita y a conocer nuestra escuela en Dénia. ¡Ven a disfrutar de una tarde de baile y diversión con nosotros!  Horario de las clases:Solo Jazz: 18:00Baile en Línea: 18:30Lindy Hop (Iniciación): 19:15Lindy Hop (Vuelve a Bailar): 20:00Para apuntarte\, envíanos un mensaje por aquí o por WhatsApp al 659 843 610. Nos encontramos en Partida Madrigueres Sud\, 67\, en el Polígono Industrial de Dénia. ¡No te lo pierdas! Las clases regulares comenzarán la semana del 16 de septiembre. Puedes hacer la inscripción aquí para no quedarte sin plaza: https://lamarinalindyhop.com/inscripcion-clases/Además\, tenemos preparados varios eventos para septiembre que os comunicaremos muy pronto. ¡Atentos a nuestras redes!
URL:https://disfruta-denia.com/evento/puertas-abiertas-en-la-marina-lindy-hop/
CATEGORIES:Baile,Música
ATTACH;FMTTYPE=image/jpeg:https://disfruta-denia.com/wp-content/uploads/2024/08/457524608_18302792677167984_7624378218780979276_n-1.jpg
END:VEVENT
BEGIN:VEVENT
DTSTART;TZID=Europe/Madrid:20240915T190000
DTEND;TZID=Europe/Madrid:20240915T210000
DTSTAMP:20260421T225149
CREATED:20240827T152930Z
LAST-MODIFIED:20240827T152930Z
UID:10019260-1726426800-1726434000@disfruta-denia.com
SUMMARY:El ball dels diumenges
DESCRIPTION:La Concejalía del Mayor prepara el inicio de curso con novedades. Aparte de la oferta de talleres\, charlas y actividades de las Aulas de la Tercera Edad\, «desde la concejalía queremos continuar ampliando las alternativas de ocio para nuestros mayores»\, ha destacado Marta Gascó\, responsable del área. \nLa primera propuesta es El Ball dels Diumenges\, dos tardes al mes en el Centro Social\, con entrada gratuita para todos los mayores. \n«En junio y julio celebramos las primeras\, con una muy buena participación en las dos tardes de baile que hicimos en el Centro Social. Los mayores nos pidieron continuidad\, así que ya tenemos una programación preparada de septiembre a mayo»\, ha explicado la concejala. \nEl Ball dels Diumenges estará amenizado musicalmente por DJ Retoret\, atendiendo a las preferencias que han manifestado los propios usuarios\, y abrirá el bar del Centro Social durante el baile. \nLas fechas para el último cuatrimestre de 2024 ya están confirmadas: 15 y 22 de septiembre\, 6 y 20 de octubre\, 10 y 24 de noviembre y 1 y 15 de diciembre. \nEl horario del baile será de 19 a 21 h\, aunque podrá sufrir modificaciones con el cambio en el horario de invierno. \nEn 2025 continuará la actividad con dos fechas mensuales\, hasta mayo.
URL:https://disfruta-denia.com/evento/el-ball-dels-diumenges/2024-09-15/
LOCATION:Teatro Auditorio Centro Social\, 4 Carrer Calderón\, Dénia\, VC\, 03700\, Spain
CATEGORIES:Baile,Música
ATTACH;FMTTYPE=image/jpeg:https://disfruta-denia.com/wp-content/uploads/2024/08/7101f1-e1724772566854.jpeg
END:VEVENT
BEGIN:VEVENT
DTSTART;TZID=Europe/Madrid:20240922T190000
DTEND;TZID=Europe/Madrid:20240922T210000
DTSTAMP:20260421T225149
CREATED:20240827T152930Z
LAST-MODIFIED:20240827T152930Z
UID:10019261-1727031600-1727038800@disfruta-denia.com
SUMMARY:El ball dels diumenges
DESCRIPTION:La Concejalía del Mayor prepara el inicio de curso con novedades. Aparte de la oferta de talleres\, charlas y actividades de las Aulas de la Tercera Edad\, «desde la concejalía queremos continuar ampliando las alternativas de ocio para nuestros mayores»\, ha destacado Marta Gascó\, responsable del área. \nLa primera propuesta es El Ball dels Diumenges\, dos tardes al mes en el Centro Social\, con entrada gratuita para todos los mayores. \n«En junio y julio celebramos las primeras\, con una muy buena participación en las dos tardes de baile que hicimos en el Centro Social. Los mayores nos pidieron continuidad\, así que ya tenemos una programación preparada de septiembre a mayo»\, ha explicado la concejala. \nEl Ball dels Diumenges estará amenizado musicalmente por DJ Retoret\, atendiendo a las preferencias que han manifestado los propios usuarios\, y abrirá el bar del Centro Social durante el baile. \nLas fechas para el último cuatrimestre de 2024 ya están confirmadas: 15 y 22 de septiembre\, 6 y 20 de octubre\, 10 y 24 de noviembre y 1 y 15 de diciembre. \nEl horario del baile será de 19 a 21 h\, aunque podrá sufrir modificaciones con el cambio en el horario de invierno. \nEn 2025 continuará la actividad con dos fechas mensuales\, hasta mayo.
URL:https://disfruta-denia.com/evento/el-ball-dels-diumenges/2024-09-22/
LOCATION:Teatro Auditorio Centro Social\, 4 Carrer Calderón\, Dénia\, VC\, 03700\, Spain
CATEGORIES:Baile,Música
ATTACH;FMTTYPE=image/jpeg:https://disfruta-denia.com/wp-content/uploads/2024/08/7101f1-e1724772566854.jpeg
END:VEVENT
END:VCALENDAR