BEGIN:VCALENDAR
VERSION:2.0
PRODID:-//Disfruta Denia - ECPv6.15.20//NONSGML v1.0//EN
CALSCALE:GREGORIAN
METHOD:PUBLISH
X-ORIGINAL-URL:https://disfruta-denia.com
X-WR-CALDESC:Eventos para Disfruta Denia
REFRESH-INTERVAL;VALUE=DURATION:PT1H
X-Robots-Tag:noindex
X-PUBLISHED-TTL:PT1H
BEGIN:VTIMEZONE
TZID:Europe/Madrid
BEGIN:DAYLIGHT
TZOFFSETFROM:+0100
TZOFFSETTO:+0200
TZNAME:CEST
DTSTART:20240331T010000
END:DAYLIGHT
BEGIN:STANDARD
TZOFFSETFROM:+0200
TZOFFSETTO:+0100
TZNAME:CET
DTSTART:20241027T010000
END:STANDARD
BEGIN:DAYLIGHT
TZOFFSETFROM:+0100
TZOFFSETTO:+0200
TZNAME:CEST
DTSTART:20250330T010000
END:DAYLIGHT
BEGIN:STANDARD
TZOFFSETFROM:+0200
TZOFFSETTO:+0100
TZNAME:CET
DTSTART:20251026T010000
END:STANDARD
BEGIN:DAYLIGHT
TZOFFSETFROM:+0100
TZOFFSETTO:+0200
TZNAME:CEST
DTSTART:20260329T010000
END:DAYLIGHT
BEGIN:STANDARD
TZOFFSETFROM:+0200
TZOFFSETTO:+0100
TZNAME:CET
DTSTART:20261025T010000
END:STANDARD
END:VTIMEZONE
BEGIN:VEVENT
DTSTART;TZID=Europe/Madrid:20251109T110000
DTEND;TZID=Europe/Madrid:20251109T130000
DTSTAMP:20260420T212446
CREATED:20251026T145605Z
LAST-MODIFIED:20251026T145605Z
UID:10023060-1762686000-1762693200@disfruta-denia.com
SUMMARY:VIII DÉNIA TANGO FESTIVAL
DESCRIPTION:MILONGA BLANCA\, Ball argentí\nInformació/información: https://www.ataquetango.com\nOrganitza/organiza: Ataque tango. Col·labora/colabora: Ajuntament de Dénia. Cultura.
URL:https://disfruta-denia.com/evento/viii-denia-tango-festival-2/
LOCATION:Plaza del Consell\, Carrer de la Mar\, Denia\, 03700
CATEGORIES:Baile,Cultura,Danza,Música
ATTACH;FMTTYPE=image/png:https://disfruta-denia.com/wp-content/uploads/2025/10/5-festival-de-tango.png
END:VEVENT
BEGIN:VEVENT
DTSTART;TZID=Europe/Madrid:20251109T190000
DTEND;TZID=Europe/Madrid:20251109T190000
DTSTAMP:20260420T212446
CREATED:20250929T091606Z
LAST-MODIFIED:20250929T091606Z
UID:10022447-1762714800-1762714800@disfruta-denia.com
SUMMARY:Taller de Lindy con 𝗠𝗮𝗿𝗶́𝗮 & 𝗔́𝗹𝗲𝘅
DESCRIPTION:El 𝗱𝗼𝗺𝗶𝗻𝗴𝗼 𝟵 𝗱𝗲 𝗻𝗼𝘃𝗶𝗲𝗺𝗯𝗿𝗲 tendremos el placer de contar con 𝗠𝗮𝗿𝗶́𝗮 & 𝗔́𝗹𝗲𝘅 para unos talleres muy especiales en 𝗟𝗮 𝗠𝗮𝗿𝗶𝗻𝗮 𝗟𝗶𝗻𝗱𝘆 𝗛𝗼𝗽 
URL:https://disfruta-denia.com/evento/taller-de-lindy-con-%f0%9d%97%a0%f0%9d%97%ae%f0%9d%97%bf%f0%9d%97%b6%f0%9d%97%ae-%f0%9d%97%94%f0%9d%97%b9%f0%9d%97%b2%f0%9d%98%85/
LOCATION:La Marina Lindy Hop\, Partida Madrigueres Sud\, 67\, Local 9\, Denia\, Alicante\, 03700\, España
CATEGORIES:Baile,Música,Taller
ATTACH;FMTTYPE=image/jpeg:https://disfruta-denia.com/wp-content/uploads/2025/09/553192813_18344870689167984_4319714658726285627_n.jpg
END:VEVENT
END:VCALENDAR