BEGIN:VCALENDAR
VERSION:2.0
PRODID:-//Disfruta Denia - ECPv6.15.20//NONSGML v1.0//EN
CALSCALE:GREGORIAN
METHOD:PUBLISH
X-WR-CALNAME:Disfruta Denia
X-ORIGINAL-URL:https://disfruta-denia.com
X-WR-CALDESC:Eventos para Disfruta Denia
REFRESH-INTERVAL;VALUE=DURATION:PT1H
X-Robots-Tag:noindex
X-PUBLISHED-TTL:PT1H
BEGIN:VTIMEZONE
TZID:Europe/Madrid
BEGIN:DAYLIGHT
TZOFFSETFROM:+0100
TZOFFSETTO:+0200
TZNAME:CEST
DTSTART:20210328T010000
END:DAYLIGHT
BEGIN:STANDARD
TZOFFSETFROM:+0200
TZOFFSETTO:+0100
TZNAME:CET
DTSTART:20211031T010000
END:STANDARD
BEGIN:DAYLIGHT
TZOFFSETFROM:+0100
TZOFFSETTO:+0200
TZNAME:CEST
DTSTART:20220327T010000
END:DAYLIGHT
BEGIN:STANDARD
TZOFFSETFROM:+0200
TZOFFSETTO:+0100
TZNAME:CET
DTSTART:20221030T010000
END:STANDARD
BEGIN:DAYLIGHT
TZOFFSETFROM:+0100
TZOFFSETTO:+0200
TZNAME:CEST
DTSTART:20230326T010000
END:DAYLIGHT
BEGIN:STANDARD
TZOFFSETFROM:+0200
TZOFFSETTO:+0100
TZNAME:CET
DTSTART:20231029T010000
END:STANDARD
END:VTIMEZONE
BEGIN:VEVENT
DTSTART;TZID=Europe/Madrid:20221210T170000
DTEND;TZID=Europe/Madrid:20221210T235900
DTSTAMP:20260425T185350
CREATED:20221109T105250Z
LAST-MODIFIED:20221116T104949Z
UID:10007944-1670691600-1670716740@disfruta-denia.com
SUMMARY:Sarao en Sounders
DESCRIPTION:•Este es el Sarao\, que en el futuro contarás a tus familiares y amigos con orgullo que tu estuviste ahí.  \n•Cartelazo para la ocasión\, con dos de los mejores djs y productores de nuestro país @coquiselection y @jaimesoeiromusic además de nuestros residentes @chusballesteros10 y @sergyocrespo\n\n• sábado 10 de diciembre en Sounders desde las 17:00h.\n– Comida + tardeo.\n– 8 horas de musicón.\n– Entrada gratuita.\n– Zona de parking.\n– 4 djs.\n– Foto + Video.\n– Melodic – Tech – Progressive  \n•¡Apunta esta fecha porque te mereces un Sarao!\nPronto publicaremos menú.\nLa comida se realizará en Mr Fisher
URL:https://disfruta-denia.com/evento/sarao-en-sounders/
LOCATION:Sounders Discoteca\, Moll de la Pansa\, Marina El Portet\, Denia\, Alicante\, 03700\, España
CATEGORIES:DJ,Música,Ocio nocturno,Tardeo
ATTACH;FMTTYPE=image/jpeg:https://disfruta-denia.com/wp-content/uploads/2022/11/314397227_549716680491579_511322679208517665_n.jpg
ORGANIZER;CN="Sarao Electronic Parties":MAILTO:saraoelectronic@gmail.com
END:VEVENT
BEGIN:VEVENT
DTSTART;TZID=Europe/Madrid:20221210T183000
DTEND;TZID=Europe/Madrid:20221210T203000
DTSTAMP:20260425T185350
CREATED:20221206T090918Z
LAST-MODIFIED:20221206T090919Z
UID:10005181-1670697000-1670704200@disfruta-denia.com
SUMMARY:Tardeo en Dorian Gray
DESCRIPTION: SÁBADO • 18’30h• TARDEO\nj  en cabina #urbanmusic
URL:https://disfruta-denia.com/evento/tardeo-en-dorian-gray-2-2-2-2/2022-12-10/
LOCATION:Dorian Gray Denia\, Carrer de la Mar\, 14\, Denia\, Alicante\, 03700\, España
CATEGORIES:DJ,Música,Tardeo
ATTACH;FMTTYPE=image/jpeg:https://disfruta-denia.com/wp-content/uploads/2022/11/318416112_10226568087565851_8246000668106177209_n.jpg
END:VEVENT
BEGIN:VEVENT
DTSTART;TZID=Europe/Madrid:20221210T235900
DTEND;TZID=Europe/Madrid:20221210T235900
DTSTAMP:20260425T185350
CREATED:20221206T091047Z
LAST-MODIFIED:20221206T091048Z
UID:10004033-1670716740-1670716740@disfruta-denia.com
SUMMARY:Sábado de Dorian Gray
DESCRIPTION:• NOCHE
URL:https://disfruta-denia.com/evento/sabado-de-dorian-gray-2-2-2-2-3/
LOCATION:Dorian Gray Denia\, Carrer de la Mar\, 14\, Denia\, Alicante\, 03700\, España
CATEGORIES:DJ,Música
ATTACH;FMTTYPE=image/jpeg:https://disfruta-denia.com/wp-content/uploads/2022/11/318416112_10226568087565851_8246000668106177209_n.jpg
END:VEVENT
BEGIN:VEVENT
DTSTART;TZID=Europe/Madrid:20221212T235900
DTEND;TZID=Europe/Madrid:20221212T235900
DTSTAMP:20260425T185350
CREATED:20221206T091344Z
LAST-MODIFIED:20221206T091344Z
UID:10009791-1670889540-1670889540@disfruta-denia.com
SUMMARY:La Mocha / Borja Conesa en el Dorian
DESCRIPTION:
URL:https://disfruta-denia.com/evento/la-mocha-borja-conesa-en-el-dorian/
LOCATION:Dorian Gray Denia\, Carrer de la Mar\, 14\, Denia\, Alicante\, 03700\, España
CATEGORIES:Concierto,DJ,Música,Ocio nocturno
ATTACH;FMTTYPE=image/jpeg:https://disfruta-denia.com/wp-content/uploads/2022/11/318416112_10226568087565851_8246000668106177209_n.jpg
END:VEVENT
BEGIN:VEVENT
DTSTART;TZID=Europe/Madrid:20221216T233000
DTEND;TZID=Europe/Madrid:20221216T233000
DTSTAMP:20260425T185350
CREATED:20221213T150648Z
LAST-MODIFIED:20221213T150648Z
UID:10009804-1671233400-1671233400@disfruta-denia.com
SUMMARY:ғʟᴜᴏʀ ɴɪɢʜᴛ
DESCRIPTION:ᴠɪᴇʀɴᴇs 16 ᴅɪᴄɪᴇᴍʙʀᴇ\nᴅɪsғʀᴜᴛᴀ ᴅᴇ ʟᴀ ᴍᴇᴊᴏʀ ғɪᴇsᴛᴀ ғʟᴜᴏʀ ᴄᴏɴ sᴛᴀɴᴅ ᴅᴇ ᴍᴀǫᴜɪʟʟᴀᴊᴇ \n• ᴀɴɪᴍᴀᴄɪóɴ ʏ ᴘᴇʀғᴏʀᴍᴀɴᴄᴇ \nᴀᴘᴇʀᴛᴜʀᴀ 23:30ʜ \nᴇɴ ᴄᴀʙɪɴᴀ @miguelpieradj | @djdiondobbe | @domfeliu  \nsᴏʀᴛᴇᴀᴍᴏs ᴍᴇsᴀ ᴠɪᴘ + sʜɪsʜᴀ\nᴘᴀʀᴀ ᴘᴀʀᴛɪᴄɪᴘᴀʀ ᴅᴇʙᴇs ᴄᴜᴍᴘʟɪʀ ʟᴏs sɪɢᴜɪᴇɴᴛᴇs 2 ʀᴇǫᴜɪsɪᴛᴏs:\n– sᴇɢᴜɪʀ ᴀ @sᴏᴜɴᴅᴇʀs.ᴅᴇɴɪᴀ\n– ᴍᴇɴᴄɪᴏɴᴀ ᴀ ʟᴀ ᴘᴇʀsᴏɴᴀ ᴄᴏɴ ʟᴀ ǫᴜᴇ ᴠᴇɴᴅʀíᴀs \n(ᴄᴜᴀɴᴛᴏs ᴍás ᴄᴏᴍᴇɴᴛᴀʀɪᴏs\, ᴍás ᴘᴏsɪʙɪʟɪᴅᴀᴅᴇs ᴅᴇ ɢᴀɴᴀʀ) \n ᴇʟ ᴠɪᴇʀɴᴇs sᴇ ᴘᴜʙʟɪᴄᴀʀá ᴜɴᴀ ʜɪsᴛᴏʀɪᴀ ᴄᴏɴ ʟᴏs ɢᴀɴᴀᴅᴏʀᴇs ᴅᴇʟ sᴏʀᴛᴇᴏ \n𝗘𝗡𝗧𝗥𝗔𝗗𝗔: 12€ ᴄᴏɴ ᴄᴏɴsᴜᴍɪᴄɪóɴ ᴀɴᴛᴇs ᴅᴇ ʟᴀs 02:00ʜ | 15€ ᴄᴏɴ ᴄᴏɴsᴜᴍɪᴄɪóɴ ᴅᴇsᴘᴜés ᴅᴇ ʟᴀs 02:00ʜ\nʙᴏᴛᴇʟʟᴀ ᴀ 100€ ʜᴀsᴛᴀ ʟᴀ 01:00 
URL:https://disfruta-denia.com/evento/%d2%93%ca%9f%e1%b4%9c%e1%b4%8f%ca%80-%c9%b4%c9%aa%c9%a2%ca%9c%e1%b4%9b/
LOCATION:Sounders Discoteca\, Moll de la Pansa\, Marina El Portet\, Denia\, Alicante\, 03700\, España
CATEGORIES:DJ,Música,Ocio nocturno
ATTACH;FMTTYPE=image/jpeg:https://disfruta-denia.com/wp-content/uploads/2022/12/319922360_2244967782349218_1380604220503710296_n.jpg
END:VEVENT
BEGIN:VEVENT
DTSTART;TZID=Europe/Madrid:20221216T235900
DTEND;TZID=Europe/Madrid:20221216T235900
DTSTAMP:20260425T185350
CREATED:20221213T083628Z
LAST-MODIFIED:20221213T083629Z
UID:10003773-1671235140-1671235140@disfruta-denia.com
SUMMARY:Viernes de Dorian Gray
DESCRIPTION:Cada viernes una experiencia diferente
URL:https://disfruta-denia.com/evento/viernes-de-dorian-gray-2-3-2-2-2-2-2/
LOCATION:Dorian Gray Denia\, Carrer de la Mar\, 14\, Denia\, Alicante\, 03700\, España
CATEGORIES:Concierto,DJ,Música,Ocio nocturno
ATTACH;FMTTYPE=image/jpeg:https://disfruta-denia.com/wp-content/uploads/2022/11/319727872_569393671863677_5845702171553031426_n.jpg
END:VEVENT
BEGIN:VEVENT
DTSTART;TZID=Europe/Madrid:20221217T130000
DTEND;TZID=Europe/Madrid:20221217T170000
DTSTAMP:20260425T185350
CREATED:20221129T083248Z
LAST-MODIFIED:20221129T083248Z
UID:10009447-1671282000-1671296400@disfruta-denia.com
SUMMARY:Loco Brunch en Botanic
DESCRIPTION:Esto si que no te lo esperabas..¡Nos encanta sorprenderte! ⁣\nLlega el LOCO BRUNCH a Botānic  Una experiencia gastronómica diferente y muuuy divertida ⁣\n⁣\nTodos los sábados de diciembre⁣\n A partir de las 13:00h⁣\nTardeo TOP con DJ Javi Mengu⁣\n\n⁣\n¿Te lo vas a perder?
URL:https://disfruta-denia.com/evento/loco-brunch-en-botanic/2022-12-17/
LOCATION:Botanic Denia\, C/ de la Mar 18\, Denia\, Alicante\, 03700\, España
CATEGORIES:DJ,Música,Tardeo
ATTACH;FMTTYPE=image/jpeg:https://disfruta-denia.com/wp-content/uploads/2022/11/316689250_195990046273019_8044592669097497158_n.jpg
END:VEVENT
BEGIN:VEVENT
DTSTART;TZID=Europe/Madrid:20221217T170000
DTEND;TZID=Europe/Madrid:20221217T213000
DTSTAMP:20260425T185350
CREATED:20221213T085731Z
LAST-MODIFIED:20221213T085731Z
UID:10009802-1671296400-1671312600@disfruta-denia.com
SUMMARY:𝟭𝟬𝟬% 𝗥𝗘𝗠𝗘𝗠𝗕𝗘𝗥
DESCRIPTION:sáʙᴀᴅᴏ 17 ᴅᴇ ᴅɪᴄɪᴇᴍʙʀᴇ \nʟʟᴇɢᴀ ᴀ sᴏᴜɴᴅᴇʀs ᴇʟ ᴍᴇᴊᴏʀ ᴛᴀʀᴅᴇᴏ ʀᴇᴍᴇᴍʙᴇʀ ʟʟᴇɴᴏ ᴅᴇ ᴛᴇᴍᴀᴢᴏs  \nᴅᴊ ɪɴᴠɪᴛᴀᴅᴏ: @pittfranco\nᴇɴ ᴄᴀʙɪɴᴀ: @pepnacho @100x100remember_denia @josetur71 \nʜᴏʀᴀʀɪᴏ: ᴀ ᴘᴀʀᴛɪʀ ᴅᴇ ʟᴀs 17:00ʜ \n ᴇɴᴛʀᴀᴅᴀ:\nᴇɴᴛʀᴀᴅᴀ ᴀɴᴛɪᴄɪᴘᴀᴅᴀ 10€\nᴇɴ ᴛᴀǫᴜɪʟʟᴀ 12€ ɪɴᴄʟᴜʏᴇ ᴄᴏɴsᴜᴍɪᴄɪóɴ ʏ ɢᴜᴀʀᴅᴀʀʀᴏᴘᴀ
URL:https://disfruta-denia.com/evento/%f0%9d%9f%ad%f0%9d%9f%ac%f0%9d%9f%ac-%f0%9d%97%a5%f0%9d%97%98%f0%9d%97%a0%f0%9d%97%98%f0%9d%97%a0%f0%9d%97%95%f0%9d%97%98%f0%9d%97%a5/
LOCATION:Sounders Discoteca\, Moll de la Pansa\, Marina El Portet\, Denia\, Alicante\, 03700\, España
CATEGORIES:DJ,Música,Tardeo
ATTACH;FMTTYPE=image/jpeg:https://disfruta-denia.com/wp-content/uploads/2022/12/319841625_156158220461212_1971902310208957235_n.jpg
END:VEVENT
BEGIN:VEVENT
DTSTART;TZID=Europe/Madrid:20221217T183000
DTEND;TZID=Europe/Madrid:20221217T203000
DTSTAMP:20260425T185350
CREATED:20221213T083659Z
LAST-MODIFIED:20221213T083700Z
UID:10005182-1671301800-1671309000@disfruta-denia.com
SUMMARY:Tardeo en Dorian Gray
DESCRIPTION: SÁBADO • 18’30h• TARDEO\nj  en cabina #urbanmusic
URL:https://disfruta-denia.com/evento/tardeo-en-dorian-gray-2-2-2-2-2/
LOCATION:Dorian Gray Denia\, Carrer de la Mar\, 14\, Denia\, Alicante\, 03700\, España
CATEGORIES:DJ,Música,Tardeo
ATTACH;FMTTYPE=image/jpeg:https://disfruta-denia.com/wp-content/uploads/2022/11/319727872_569393671863677_5845702171553031426_n.jpg
END:VEVENT
BEGIN:VEVENT
DTSTART;TZID=Europe/Madrid:20221217T235900
DTEND;TZID=Europe/Madrid:20221217T235900
DTSTAMP:20260425T185350
CREATED:20221213T083730Z
LAST-MODIFIED:20221213T083730Z
UID:10004034-1671321540-1671321540@disfruta-denia.com
SUMMARY:Sábado de Dorian Gray
DESCRIPTION:• NOCHE
URL:https://disfruta-denia.com/evento/sabado-de-dorian-gray-2-2-2-2-3-2-2/
LOCATION:Dorian Gray Denia\, Carrer de la Mar\, 14\, Denia\, Alicante\, 03700\, España
CATEGORIES:DJ,Música,Ocio nocturno
ATTACH;FMTTYPE=image/jpeg:https://disfruta-denia.com/wp-content/uploads/2022/11/319727872_569393671863677_5845702171553031426_n.jpg
END:VEVENT
BEGIN:VEVENT
DTSTART;TZID=Europe/Madrid:20221223T235900
DTEND;TZID=Europe/Madrid:20221223T235900
DTSTAMP:20260425T185350
CREATED:20221116T112447Z
LAST-MODIFIED:20221116T112448Z
UID:10003774-1671839940-1671839940@disfruta-denia.com
SUMMARY:Viernes de Dorian Gray
DESCRIPTION:Cada viernes una experiencia diferente
URL:https://disfruta-denia.com/evento/viernes-de-dorian-gray-2-3-2-2-2-2/2022-12-23/
LOCATION:Dorian Gray Denia\, Carrer de la Mar\, 14\, Denia\, Alicante\, 03700\, España
CATEGORIES:Concierto,DJ,Música,Ocio nocturno
ATTACH;FMTTYPE=image/jpeg:https://disfruta-denia.com/wp-content/uploads/2022/11/315856698_546377414165303_3248937411402833127_n.jpg
END:VEVENT
BEGIN:VEVENT
DTSTART;TZID=Europe/Madrid:20221224T130000
DTEND;TZID=Europe/Madrid:20221224T170000
DTSTAMP:20260425T185350
CREATED:20221129T083248Z
LAST-MODIFIED:20221129T083248Z
UID:10009448-1671886800-1671901200@disfruta-denia.com
SUMMARY:Loco Brunch en Botanic
DESCRIPTION:Esto si que no te lo esperabas..¡Nos encanta sorprenderte! ⁣\nLlega el LOCO BRUNCH a Botānic  Una experiencia gastronómica diferente y muuuy divertida ⁣\n⁣\nTodos los sábados de diciembre⁣\n A partir de las 13:00h⁣\nTardeo TOP con DJ Javi Mengu⁣\n\n⁣\n¿Te lo vas a perder?
URL:https://disfruta-denia.com/evento/loco-brunch-en-botanic/2022-12-24/
LOCATION:Botanic Denia\, C/ de la Mar 18\, Denia\, Alicante\, 03700\, España
CATEGORIES:DJ,Música,Tardeo
ATTACH;FMTTYPE=image/jpeg:https://disfruta-denia.com/wp-content/uploads/2022/11/316689250_195990046273019_8044592669097497158_n.jpg
END:VEVENT
BEGIN:VEVENT
DTSTART;TZID=Europe/Madrid:20221224T183000
DTEND;TZID=Europe/Madrid:20221224T203000
DTSTAMP:20260425T185350
CREATED:20221206T090918Z
LAST-MODIFIED:20221206T090919Z
UID:10005183-1671906600-1671913800@disfruta-denia.com
SUMMARY:Tardeo en Dorian Gray
DESCRIPTION: SÁBADO • 18’30h• TARDEO\nj  en cabina #urbanmusic
URL:https://disfruta-denia.com/evento/tardeo-en-dorian-gray-2-2-2-2/2022-12-24/
LOCATION:Dorian Gray Denia\, Carrer de la Mar\, 14\, Denia\, Alicante\, 03700\, España
CATEGORIES:DJ,Música,Tardeo
ATTACH;FMTTYPE=image/jpeg:https://disfruta-denia.com/wp-content/uploads/2022/11/318416112_10226568087565851_8246000668106177209_n.jpg
END:VEVENT
BEGIN:VEVENT
DTSTART;TZID=Europe/Madrid:20221224T235900
DTEND;TZID=Europe/Madrid:20221224T235900
DTSTAMP:20260425T185350
CREATED:20221213T083711Z
LAST-MODIFIED:20221213T083712Z
UID:10004035-1671926340-1671926340@disfruta-denia.com
SUMMARY:Sábado de Dorian Gray
DESCRIPTION:• NOCHE
URL:https://disfruta-denia.com/evento/sabado-de-dorian-gray-2-2-2-2-3-2/2022-12-24/
LOCATION:Dorian Gray Denia\, Carrer de la Mar\, 14\, Denia\, Alicante\, 03700\, España
CATEGORIES:DJ,Música,Ocio nocturno
ATTACH;FMTTYPE=image/jpeg:https://disfruta-denia.com/wp-content/uploads/2022/11/318416112_10226568087565851_8246000668106177209_n.jpg
END:VEVENT
BEGIN:VEVENT
DTSTART;TZID=Europe/Madrid:20221230T235900
DTEND;TZID=Europe/Madrid:20221230T235900
DTSTAMP:20260425T185350
CREATED:20221116T112447Z
LAST-MODIFIED:20221116T112448Z
UID:10003775-1672444740-1672444740@disfruta-denia.com
SUMMARY:Viernes de Dorian Gray
DESCRIPTION:Cada viernes una experiencia diferente
URL:https://disfruta-denia.com/evento/viernes-de-dorian-gray-2-3-2-2-2-2/2022-12-30/
LOCATION:Dorian Gray Denia\, Carrer de la Mar\, 14\, Denia\, Alicante\, 03700\, España
CATEGORIES:Concierto,DJ,Música,Ocio nocturno
ATTACH;FMTTYPE=image/jpeg:https://disfruta-denia.com/wp-content/uploads/2022/11/315856698_546377414165303_3248937411402833127_n.jpg
END:VEVENT
BEGIN:VEVENT
DTSTART;TZID=Europe/Madrid:20221231T130000
DTEND;TZID=Europe/Madrid:20221231T170000
DTSTAMP:20260425T185350
CREATED:20221129T083248Z
LAST-MODIFIED:20221129T083248Z
UID:10009449-1672491600-1672506000@disfruta-denia.com
SUMMARY:Loco Brunch en Botanic
DESCRIPTION:Esto si que no te lo esperabas..¡Nos encanta sorprenderte! ⁣\nLlega el LOCO BRUNCH a Botānic  Una experiencia gastronómica diferente y muuuy divertida ⁣\n⁣\nTodos los sábados de diciembre⁣\n A partir de las 13:00h⁣\nTardeo TOP con DJ Javi Mengu⁣\n\n⁣\n¿Te lo vas a perder?
URL:https://disfruta-denia.com/evento/loco-brunch-en-botanic/2022-12-31/
LOCATION:Botanic Denia\, C/ de la Mar 18\, Denia\, Alicante\, 03700\, España
CATEGORIES:DJ,Música,Tardeo
ATTACH;FMTTYPE=image/jpeg:https://disfruta-denia.com/wp-content/uploads/2022/11/316689250_195990046273019_8044592669097497158_n.jpg
END:VEVENT
BEGIN:VEVENT
DTSTART;TZID=Europe/Madrid:20221231T183000
DTEND;TZID=Europe/Madrid:20221231T203000
DTSTAMP:20260425T185350
CREATED:20221206T090918Z
LAST-MODIFIED:20221206T090919Z
UID:10005184-1672511400-1672518600@disfruta-denia.com
SUMMARY:Tardeo en Dorian Gray
DESCRIPTION: SÁBADO • 18’30h• TARDEO\nj  en cabina #urbanmusic
URL:https://disfruta-denia.com/evento/tardeo-en-dorian-gray-2-2-2-2/2022-12-31/
LOCATION:Dorian Gray Denia\, Carrer de la Mar\, 14\, Denia\, Alicante\, 03700\, España
CATEGORIES:DJ,Música,Tardeo
ATTACH;FMTTYPE=image/jpeg:https://disfruta-denia.com/wp-content/uploads/2022/11/318416112_10226568087565851_8246000668106177209_n.jpg
END:VEVENT
BEGIN:VEVENT
DTSTART;TZID=Europe/Madrid:20221231T233000
DTEND;TZID=Europe/Madrid:20221231T233000
DTSTAMP:20260425T185350
CREATED:20221227T103134Z
LAST-MODIFIED:20221227T103134Z
UID:10009819-1672529400-1672529400@disfruta-denia.com
SUMMARY:Nochevieja Sounders
DESCRIPTION:✨ɴᴏᴄʜᴇᴠɪᴇᴊᴀ sᴏᴜɴᴅᴇʀs✨\nsᴀʙᴀᴅᴏ 31 ᴅᴇ ᴅɪᴄɪᴇᴍʙʀᴇ ᴅɪsғʀᴜᴛᴀ ᴅᴇ ʟᴀ ɴᴏᴄʜᴇᴠɪᴇᴊᴀ ᴇɴ sᴏᴜɴᴅᴇʀs 🔥 \nᴅᴇsᴅᴇ ʟᴀs 00:30ʜ⌚️ \nᴇɴ ᴄᴀʙɪɴᴀ @bernatortega | @domfeliu | @tarondj 🎧 \n🎟️ ᴇɴᴛʀᴀᴅᴀ:\nᴘʀɪᴍᴇʀᴀs 100 ᴇɴᴛʀᴀᴅᴀs 25€ ᴄᴏɴ 1 ᴄᴏɴsᴜᴍɪᴄɪóɴ\n2ᴀ ғᴀsᴇ ᴇɴᴛʀᴀᴅᴀs 30€ ᴄᴏɴ 1 ᴄᴏɴsᴜᴍɪᴄɪóɴ
URL:https://disfruta-denia.com/evento/nochevieja-sounders/
LOCATION:Sounders Discoteca\, Moll de la Pansa\, Marina El Portet\, Denia\, Alicante\, 03700\, España
CATEGORIES:DJ,Música,Ocio nocturno
ATTACH;FMTTYPE=image/jpeg:https://disfruta-denia.com/wp-content/uploads/2022/12/321922977_861084208343606_1645113957455097273_n.jpg
END:VEVENT
BEGIN:VEVENT
DTSTART;TZID=Europe/Madrid:20221231T235900
DTEND;TZID=Europe/Madrid:20221231T235900
DTSTAMP:20260425T185350
CREATED:20221213T083711Z
LAST-MODIFIED:20221213T083712Z
UID:10004036-1672531140-1672531140@disfruta-denia.com
SUMMARY:Sábado de Dorian Gray
DESCRIPTION:• NOCHE
URL:https://disfruta-denia.com/evento/sabado-de-dorian-gray-2-2-2-2-3-2/2022-12-31/
LOCATION:Dorian Gray Denia\, Carrer de la Mar\, 14\, Denia\, Alicante\, 03700\, España
CATEGORIES:DJ,Música,Ocio nocturno
ATTACH;FMTTYPE=image/jpeg:https://disfruta-denia.com/wp-content/uploads/2022/11/318416112_10226568087565851_8246000668106177209_n.jpg
END:VEVENT
END:VCALENDAR