BEGIN:VCALENDAR
VERSION:2.0
PRODID:-//Disfruta Denia - ECPv6.15.20//NONSGML v1.0//EN
CALSCALE:GREGORIAN
METHOD:PUBLISH
X-WR-CALNAME:Disfruta Denia
X-ORIGINAL-URL:https://disfruta-denia.com
X-WR-CALDESC:Eventos para Disfruta Denia
REFRESH-INTERVAL;VALUE=DURATION:PT1H
X-Robots-Tag:noindex
X-PUBLISHED-TTL:PT1H
BEGIN:VTIMEZONE
TZID:Europe/Madrid
BEGIN:DAYLIGHT
TZOFFSETFROM:+0100
TZOFFSETTO:+0200
TZNAME:CEST
DTSTART:20220327T010000
END:DAYLIGHT
BEGIN:STANDARD
TZOFFSETFROM:+0200
TZOFFSETTO:+0100
TZNAME:CET
DTSTART:20221030T010000
END:STANDARD
BEGIN:DAYLIGHT
TZOFFSETFROM:+0100
TZOFFSETTO:+0200
TZNAME:CEST
DTSTART:20230326T010000
END:DAYLIGHT
BEGIN:STANDARD
TZOFFSETFROM:+0200
TZOFFSETTO:+0100
TZNAME:CET
DTSTART:20231029T010000
END:STANDARD
BEGIN:DAYLIGHT
TZOFFSETFROM:+0100
TZOFFSETTO:+0200
TZNAME:CEST
DTSTART:20240331T010000
END:DAYLIGHT
BEGIN:STANDARD
TZOFFSETFROM:+0200
TZOFFSETTO:+0100
TZNAME:CET
DTSTART:20241027T010000
END:STANDARD
END:VTIMEZONE
BEGIN:VEVENT
DTSTART;TZID=Europe/Madrid:20230105T213000
DTEND;TZID=Europe/Madrid:20230105T213000
DTSTAMP:20260425T170345
CREATED:20230104T155935Z
LAST-MODIFIED:20230104T155935Z
UID:10009822-1672954200-1672954200@disfruta-denia.com
SUMMARY:David Serra DJ en Caval
DESCRIPTION:Jueves 21:30 tenemos a nuestro amigo David Serra pinchando la mejor música de la Marina de Dénia! @djdavidserra
URL:https://disfruta-denia.com/evento/david-serra-dj-en-caval/
LOCATION:Restaurante Caval\, Edif G\, MARINA DE\, Denia\, Alicante\, 03700\, España
CATEGORIES:DJ,Música,Tardeo
ATTACH;FMTTYPE=image/jpeg:https://disfruta-denia.com/wp-content/uploads/2023/01/324069700_545081634327873_2543910861534124145_n.jpg
END:VEVENT
BEGIN:VEVENT
DTSTART;TZID=Europe/Madrid:20230106T235900
DTEND;TZID=Europe/Madrid:20230106T235900
DTSTAMP:20260425T170345
CREATED:20230104T161753Z
LAST-MODIFIED:20230104T161754Z
UID:10003776-1673049540-1673049540@disfruta-denia.com
SUMMARY:Viernes de Dorian Gray
DESCRIPTION:Cada viernes una experiencia diferente
URL:https://disfruta-denia.com/evento/viernes-de-dorian-gray-2-3-2-2-2-2-3/2023-01-06/
LOCATION:Dorian Gray Denia\, Carrer de la Mar\, 14\, Denia\, Alicante\, 03700\, España
CATEGORIES:Concierto,DJ,Música,Ocio nocturno
ATTACH;FMTTYPE=image/jpeg:https://disfruta-denia.com/wp-content/uploads/2022/11/324152304_710862790436120_7924792018688332668_n.jpg
END:VEVENT
BEGIN:VEVENT
DTSTART;TZID=Europe/Madrid:20230107T130000
DTEND;TZID=Europe/Madrid:20230107T170000
DTSTAMP:20260425T170345
CREATED:20221129T083248Z
LAST-MODIFIED:20221129T083248Z
UID:10009450-1673096400-1673110800@disfruta-denia.com
SUMMARY:Loco Brunch en Botanic
DESCRIPTION:Esto si que no te lo esperabas..¡Nos encanta sorprenderte! ⁣\nLlega el LOCO BRUNCH a Botānic  Una experiencia gastronómica diferente y muuuy divertida ⁣\n⁣\nTodos los sábados de diciembre⁣\n A partir de las 13:00h⁣\nTardeo TOP con DJ Javi Mengu⁣\n\n⁣\n¿Te lo vas a perder?
URL:https://disfruta-denia.com/evento/loco-brunch-en-botanic/2023-01-07/
LOCATION:Botanic Denia\, C/ de la Mar 18\, Denia\, Alicante\, 03700\, España
CATEGORIES:DJ,Música,Tardeo
ATTACH;FMTTYPE=image/jpeg:https://disfruta-denia.com/wp-content/uploads/2022/11/316689250_195990046273019_8044592669097497158_n.jpg
END:VEVENT
BEGIN:VEVENT
DTSTART;TZID=Europe/Madrid:20230107T183000
DTEND;TZID=Europe/Madrid:20230107T203000
DTSTAMP:20260425T170345
CREATED:20230104T161853Z
LAST-MODIFIED:20230104T161854Z
UID:10005185-1673116200-1673123400@disfruta-denia.com
SUMMARY:Tardeo en Dorian Gray
DESCRIPTION: SÁBADO • 18’30h• TARDEO\nj  en cabina #urbanmusic
URL:https://disfruta-denia.com/evento/tardeo-en-dorian-gray-2-2-2-2-3/2023-01-07/
LOCATION:Dorian Gray Denia\, Carrer de la Mar\, 14\, Denia\, Alicante\, 03700\, España
CATEGORIES:DJ,Música,Tardeo
ATTACH;FMTTYPE=image/jpeg:https://disfruta-denia.com/wp-content/uploads/2022/11/324152304_710862790436120_7924792018688332668_n.jpg
END:VEVENT
BEGIN:VEVENT
DTSTART;TZID=Europe/Madrid:20230107T235900
DTEND;TZID=Europe/Madrid:20230107T235900
DTSTAMP:20260425T170345
CREATED:20230104T161809Z
LAST-MODIFIED:20230104T161809Z
UID:10004037-1673135940-1673135940@disfruta-denia.com
SUMMARY:Sábado de Dorian Gray
DESCRIPTION:• NOCHE
URL:https://disfruta-denia.com/evento/sabado-de-dorian-gray-2-2-2-2-3-2-3/2023-01-07/
LOCATION:Dorian Gray Denia\, Carrer de la Mar\, 14\, Denia\, Alicante\, 03700\, España
CATEGORIES:DJ,Música,Ocio nocturno
ATTACH;FMTTYPE=image/jpeg:https://disfruta-denia.com/wp-content/uploads/2022/12/323784193_699155455185573_1558473261106704109_n-1.jpg
END:VEVENT
BEGIN:VEVENT
DTSTART;TZID=Europe/Madrid:20230113T235900
DTEND;TZID=Europe/Madrid:20230113T235900
DTSTAMP:20260425T170345
CREATED:20230104T161753Z
LAST-MODIFIED:20230104T161754Z
UID:10003777-1673654340-1673654340@disfruta-denia.com
SUMMARY:Viernes de Dorian Gray
DESCRIPTION:Cada viernes una experiencia diferente
URL:https://disfruta-denia.com/evento/viernes-de-dorian-gray-2-3-2-2-2-2-3/2023-01-13/
LOCATION:Dorian Gray Denia\, Carrer de la Mar\, 14\, Denia\, Alicante\, 03700\, España
CATEGORIES:Concierto,DJ,Música,Ocio nocturno
ATTACH;FMTTYPE=image/jpeg:https://disfruta-denia.com/wp-content/uploads/2022/11/324152304_710862790436120_7924792018688332668_n.jpg
END:VEVENT
BEGIN:VEVENT
DTSTART;TZID=Europe/Madrid:20230114T130000
DTEND;TZID=Europe/Madrid:20230114T170000
DTSTAMP:20260425T170345
CREATED:20221129T083248Z
LAST-MODIFIED:20221129T083248Z
UID:10009451-1673701200-1673715600@disfruta-denia.com
SUMMARY:Loco Brunch en Botanic
DESCRIPTION:Esto si que no te lo esperabas..¡Nos encanta sorprenderte! ⁣\nLlega el LOCO BRUNCH a Botānic  Una experiencia gastronómica diferente y muuuy divertida ⁣\n⁣\nTodos los sábados de diciembre⁣\n A partir de las 13:00h⁣\nTardeo TOP con DJ Javi Mengu⁣\n\n⁣\n¿Te lo vas a perder?
URL:https://disfruta-denia.com/evento/loco-brunch-en-botanic/2023-01-14/
LOCATION:Botanic Denia\, C/ de la Mar 18\, Denia\, Alicante\, 03700\, España
CATEGORIES:DJ,Música,Tardeo
ATTACH;FMTTYPE=image/jpeg:https://disfruta-denia.com/wp-content/uploads/2022/11/316689250_195990046273019_8044592669097497158_n.jpg
END:VEVENT
BEGIN:VEVENT
DTSTART;TZID=Europe/Madrid:20230114T183000
DTEND;TZID=Europe/Madrid:20230114T203000
DTSTAMP:20260425T170345
CREATED:20230104T161853Z
LAST-MODIFIED:20230104T161854Z
UID:10005186-1673721000-1673728200@disfruta-denia.com
SUMMARY:Tardeo en Dorian Gray
DESCRIPTION: SÁBADO • 18’30h• TARDEO\nj  en cabina #urbanmusic
URL:https://disfruta-denia.com/evento/tardeo-en-dorian-gray-2-2-2-2-3/2023-01-14/
LOCATION:Dorian Gray Denia\, Carrer de la Mar\, 14\, Denia\, Alicante\, 03700\, España
CATEGORIES:DJ,Música,Tardeo
ATTACH;FMTTYPE=image/jpeg:https://disfruta-denia.com/wp-content/uploads/2022/11/324152304_710862790436120_7924792018688332668_n.jpg
END:VEVENT
BEGIN:VEVENT
DTSTART;TZID=Europe/Madrid:20230114T235900
DTEND;TZID=Europe/Madrid:20230114T235900
DTSTAMP:20260425T170345
CREATED:20230104T161809Z
LAST-MODIFIED:20230104T161809Z
UID:10004038-1673740740-1673740740@disfruta-denia.com
SUMMARY:Sábado de Dorian Gray
DESCRIPTION:• NOCHE
URL:https://disfruta-denia.com/evento/sabado-de-dorian-gray-2-2-2-2-3-2-3/2023-01-14/
LOCATION:Dorian Gray Denia\, Carrer de la Mar\, 14\, Denia\, Alicante\, 03700\, España
CATEGORIES:DJ,Música,Ocio nocturno
ATTACH;FMTTYPE=image/jpeg:https://disfruta-denia.com/wp-content/uploads/2022/12/323784193_699155455185573_1558473261106704109_n-1.jpg
END:VEVENT
BEGIN:VEVENT
DTSTART;TZID=Europe/Madrid:20230120T235900
DTEND;TZID=Europe/Madrid:20230120T235900
DTSTAMP:20260425T170345
CREATED:20230104T161753Z
LAST-MODIFIED:20230104T161754Z
UID:10003778-1674259140-1674259140@disfruta-denia.com
SUMMARY:Viernes de Dorian Gray
DESCRIPTION:Cada viernes una experiencia diferente
URL:https://disfruta-denia.com/evento/viernes-de-dorian-gray-2-3-2-2-2-2-3/2023-01-20/
LOCATION:Dorian Gray Denia\, Carrer de la Mar\, 14\, Denia\, Alicante\, 03700\, España
CATEGORIES:Concierto,DJ,Música,Ocio nocturno
ATTACH;FMTTYPE=image/jpeg:https://disfruta-denia.com/wp-content/uploads/2022/11/324152304_710862790436120_7924792018688332668_n.jpg
END:VEVENT
BEGIN:VEVENT
DTSTART;TZID=Europe/Madrid:20230121T130000
DTEND;TZID=Europe/Madrid:20230121T170000
DTSTAMP:20260425T170345
CREATED:20221129T083248Z
LAST-MODIFIED:20221129T083248Z
UID:10009452-1674306000-1674320400@disfruta-denia.com
SUMMARY:Loco Brunch en Botanic
DESCRIPTION:Esto si que no te lo esperabas..¡Nos encanta sorprenderte! ⁣\nLlega el LOCO BRUNCH a Botānic  Una experiencia gastronómica diferente y muuuy divertida ⁣\n⁣\nTodos los sábados de diciembre⁣\n A partir de las 13:00h⁣\nTardeo TOP con DJ Javi Mengu⁣\n\n⁣\n¿Te lo vas a perder?
URL:https://disfruta-denia.com/evento/loco-brunch-en-botanic/2023-01-21/
LOCATION:Botanic Denia\, C/ de la Mar 18\, Denia\, Alicante\, 03700\, España
CATEGORIES:DJ,Música,Tardeo
ATTACH;FMTTYPE=image/jpeg:https://disfruta-denia.com/wp-content/uploads/2022/11/316689250_195990046273019_8044592669097497158_n.jpg
END:VEVENT
BEGIN:VEVENT
DTSTART;TZID=Europe/Madrid:20230121T183000
DTEND;TZID=Europe/Madrid:20230121T203000
DTSTAMP:20260425T170345
CREATED:20230121T093852Z
LAST-MODIFIED:20230121T093853Z
UID:10005187-1674325800-1674333000@disfruta-denia.com
SUMMARY:Tardeo en Dorian Gray
DESCRIPTION: SÁBADO • 18’30h• TARDEO\nj  en cabina #urbanmusic
URL:https://disfruta-denia.com/evento/tardeo-en-dorian-gray-2-2-2-2-3-2/
LOCATION:Dorian Gray Denia\, Carrer de la Mar\, 14\, Denia\, Alicante\, 03700\, España
CATEGORIES:DJ,Música,Tardeo
ATTACH;FMTTYPE=image/jpeg:https://disfruta-denia.com/wp-content/uploads/2023/01/326666985_2096594473868729_3014812074023672834_n.jpg
END:VEVENT
BEGIN:VEVENT
DTSTART;TZID=Europe/Madrid:20230121T235900
DTEND;TZID=Europe/Madrid:20230121T235900
DTSTAMP:20260425T170345
CREATED:20230121T093903Z
LAST-MODIFIED:20230121T093904Z
UID:10004039-1674345540-1674345540@disfruta-denia.com
SUMMARY:Sábado de Dorian Gray
DESCRIPTION:• NOCHE
URL:https://disfruta-denia.com/evento/sabado-de-dorian-gray-2-2-2-2-3-2-3-2/
LOCATION:Dorian Gray Denia\, Carrer de la Mar\, 14\, Denia\, Alicante\, 03700\, España
CATEGORIES:DJ,Música,Ocio nocturno
ATTACH;FMTTYPE=image/jpeg:https://disfruta-denia.com/wp-content/uploads/2023/01/326666985_2096594473868729_3014812074023672834_n.jpg
END:VEVENT
BEGIN:VEVENT
DTSTART;TZID=Europe/Madrid:20230127T235900
DTEND;TZID=Europe/Madrid:20230127T235900
DTSTAMP:20260425T170345
CREATED:20230124T132505Z
LAST-MODIFIED:20230124T132507Z
UID:10003779-1674863940-1674863940@disfruta-denia.com
SUMMARY:Viernes de Dorian Gray
DESCRIPTION:Cada viernes una experiencia diferente
URL:https://disfruta-denia.com/evento/viernes-de-dorian-gray-2-3-2-2-2-2-3-2/2023-01-27/
LOCATION:Dorian Gray Denia\, Carrer de la Mar\, 14\, Denia\, Alicante\, 03700\, España
CATEGORIES:Concierto,DJ,Música,Ocio nocturno
ATTACH;FMTTYPE=image/jpeg:https://disfruta-denia.com/wp-content/uploads/2023/01/326941969_554471663365286_2359858441694471234_n.jpg
END:VEVENT
BEGIN:VEVENT
DTSTART;TZID=Europe/Madrid:20230128T130000
DTEND;TZID=Europe/Madrid:20230128T170000
DTSTAMP:20260425T170345
CREATED:20221129T083248Z
LAST-MODIFIED:20221129T083248Z
UID:10009453-1674910800-1674925200@disfruta-denia.com
SUMMARY:Loco Brunch en Botanic
DESCRIPTION:Esto si que no te lo esperabas..¡Nos encanta sorprenderte! ⁣\nLlega el LOCO BRUNCH a Botānic  Una experiencia gastronómica diferente y muuuy divertida ⁣\n⁣\nTodos los sábados de diciembre⁣\n A partir de las 13:00h⁣\nTardeo TOP con DJ Javi Mengu⁣\n\n⁣\n¿Te lo vas a perder?
URL:https://disfruta-denia.com/evento/loco-brunch-en-botanic/2023-01-28/
LOCATION:Botanic Denia\, C/ de la Mar 18\, Denia\, Alicante\, 03700\, España
CATEGORIES:DJ,Música,Tardeo
ATTACH;FMTTYPE=image/jpeg:https://disfruta-denia.com/wp-content/uploads/2022/11/316689250_195990046273019_8044592669097497158_n.jpg
END:VEVENT
BEGIN:VEVENT
DTSTART;TZID=Europe/Madrid:20230128T183000
DTEND;TZID=Europe/Madrid:20230128T203000
DTSTAMP:20260425T170345
CREATED:20230124T132537Z
LAST-MODIFIED:20230124T132537Z
UID:10005188-1674930600-1674937800@disfruta-denia.com
SUMMARY:Tardeo en Dorian Gray
DESCRIPTION: SÁBADO • 18’30h• TARDEO\nj  en cabina #urbanmusic
URL:https://disfruta-denia.com/evento/tardeo-en-dorian-gray-2-2-2-2-3-2-2/2023-01-28/
LOCATION:Dorian Gray Denia\, Carrer de la Mar\, 14\, Denia\, Alicante\, 03700\, España
CATEGORIES:DJ,Música,Tardeo
ATTACH;FMTTYPE=image/jpeg:https://disfruta-denia.com/wp-content/uploads/2023/01/326941969_554471663365286_2359858441694471234_n.jpg
END:VEVENT
BEGIN:VEVENT
DTSTART;TZID=Europe/Madrid:20230128T235900
DTEND;TZID=Europe/Madrid:20230128T235900
DTSTAMP:20260425T170345
CREATED:20230124T132534Z
LAST-MODIFIED:20230124T132534Z
UID:10004040-1674950340-1674950340@disfruta-denia.com
SUMMARY:Sábado de Dorian Gray
DESCRIPTION:• NOCHE
URL:https://disfruta-denia.com/evento/sabado-de-dorian-gray-2-2-2-2-3-2-3-2-2/2023-01-28/
LOCATION:Dorian Gray Denia\, Carrer de la Mar\, 14\, Denia\, Alicante\, 03700\, España
CATEGORIES:DJ,Música,Ocio nocturno
ATTACH;FMTTYPE=image/jpeg:https://disfruta-denia.com/wp-content/uploads/2023/01/326941969_554471663365286_2359858441694471234_n.jpg
END:VEVENT
END:VCALENDAR