BEGIN:VCALENDAR
VERSION:2.0
PRODID:-//Disfruta Denia - ECPv6.15.20//NONSGML v1.0//EN
CALSCALE:GREGORIAN
METHOD:PUBLISH
X-ORIGINAL-URL:https://disfruta-denia.com
X-WR-CALDESC:Eventos para Disfruta Denia
REFRESH-INTERVAL;VALUE=DURATION:PT1H
X-Robots-Tag:noindex
X-PUBLISHED-TTL:PT1H
BEGIN:VTIMEZONE
TZID:Europe/Madrid
BEGIN:DAYLIGHT
TZOFFSETFROM:+0100
TZOFFSETTO:+0200
TZNAME:CEST
DTSTART:20220327T010000
END:DAYLIGHT
BEGIN:STANDARD
TZOFFSETFROM:+0200
TZOFFSETTO:+0100
TZNAME:CET
DTSTART:20221030T010000
END:STANDARD
BEGIN:DAYLIGHT
TZOFFSETFROM:+0100
TZOFFSETTO:+0200
TZNAME:CEST
DTSTART:20230326T010000
END:DAYLIGHT
BEGIN:STANDARD
TZOFFSETFROM:+0200
TZOFFSETTO:+0100
TZNAME:CET
DTSTART:20231029T010000
END:STANDARD
BEGIN:DAYLIGHT
TZOFFSETFROM:+0100
TZOFFSETTO:+0200
TZNAME:CEST
DTSTART:20240331T010000
END:DAYLIGHT
BEGIN:STANDARD
TZOFFSETFROM:+0200
TZOFFSETTO:+0100
TZNAME:CET
DTSTART:20241027T010000
END:STANDARD
END:VTIMEZONE
BEGIN:VEVENT
DTSTART;TZID=Europe/Madrid:20230303T235900
DTEND;TZID=Europe/Madrid:20230303T235900
DTSTAMP:20260425T134734
CREATED:20230207T120017Z
LAST-MODIFIED:20230207T120018Z
UID:10003784-1677887940-1677887940@disfruta-denia.com
SUMMARY:Viernes de Dorian Gray
DESCRIPTION:Cada viernes una experiencia diferente
URL:https://disfruta-denia.com/evento/viernes-de-dorian-gray-2-3-2-2-2-2-3-2-2/2023-03-03/
LOCATION:Dorian Gray Denia\, Carrer de la Mar\, 14\, Denia\, Alicante\, 03700\, España
CATEGORIES:Concierto,DJ,Música,Ocio nocturno
ATTACH;FMTTYPE=image/jpeg:https://disfruta-denia.com/wp-content/uploads/2023/01/329155387_1535859300271252_2319541893212470404_n.jpg
END:VEVENT
BEGIN:VEVENT
DTSTART;TZID=Europe/Madrid:20230304T130000
DTEND;TZID=Europe/Madrid:20230304T170000
DTSTAMP:20260425T134734
CREATED:20221129T083248Z
LAST-MODIFIED:20221129T083248Z
UID:10009458-1677934800-1677949200@disfruta-denia.com
SUMMARY:Loco Brunch en Botanic
DESCRIPTION:Esto si que no te lo esperabas..¡Nos encanta sorprenderte! ⁣\nLlega el LOCO BRUNCH a Botānic  Una experiencia gastronómica diferente y muuuy divertida ⁣\n⁣\nTodos los sábados de diciembre⁣\n A partir de las 13:00h⁣\nTardeo TOP con DJ Javi Mengu⁣\n\n⁣\n¿Te lo vas a perder?
URL:https://disfruta-denia.com/evento/loco-brunch-en-botanic/2023-03-04/
LOCATION:Botanic Denia\, C/ de la Mar 18\, Denia\, Alicante\, 03700\, España
CATEGORIES:DJ,Música,Tardeo
ATTACH;FMTTYPE=image/jpeg:https://disfruta-denia.com/wp-content/uploads/2022/11/316689250_195990046273019_8044592669097497158_n.jpg
END:VEVENT
BEGIN:VEVENT
DTSTART;TZID=Europe/Madrid:20230304T183000
DTEND;TZID=Europe/Madrid:20230304T203000
DTSTAMP:20260425T134734
CREATED:20230207T120030Z
LAST-MODIFIED:20230207T120030Z
UID:10005193-1677954600-1677961800@disfruta-denia.com
SUMMARY:Tardeo en Dorian Gray
DESCRIPTION: SÁBADO • 18’30h• TARDEO\nj  en cabina #urbanmusic
URL:https://disfruta-denia.com/evento/tardeo-en-dorian-gray-2-2-2-2-3-2-2-2/2023-03-04/
LOCATION:Dorian Gray Denia\, Carrer de la Mar\, 14\, Denia\, Alicante\, 03700\, España
CATEGORIES:DJ,Música,Tardeo
ATTACH;FMTTYPE=image/jpeg:https://disfruta-denia.com/wp-content/uploads/2023/01/329155387_1535859300271252_2319541893212470404_n.jpg
END:VEVENT
BEGIN:VEVENT
DTSTART;TZID=Europe/Madrid:20230304T235900
DTEND;TZID=Europe/Madrid:20230304T235900
DTSTAMP:20260425T134734
CREATED:20230207T120036Z
LAST-MODIFIED:20230207T120037Z
UID:10004045-1677974340-1677974340@disfruta-denia.com
SUMMARY:Sábado de Dorian Gray
DESCRIPTION:• NOCHE
URL:https://disfruta-denia.com/evento/sabado-de-dorian-gray-2-2-2-2-3-2-3-2-2-2/2023-03-04/
LOCATION:Dorian Gray Denia\, Carrer de la Mar\, 14\, Denia\, Alicante\, 03700\, España
CATEGORIES:DJ,Música,Ocio nocturno
ATTACH;FMTTYPE=image/jpeg:https://disfruta-denia.com/wp-content/uploads/2023/01/329155387_1535859300271252_2319541893212470404_n.jpg
END:VEVENT
BEGIN:VEVENT
DTSTART;TZID=Europe/Madrid:20230310T235900
DTEND;TZID=Europe/Madrid:20230310T235900
DTSTAMP:20260425T134734
CREATED:20230207T120017Z
LAST-MODIFIED:20230207T120018Z
UID:10003785-1678492740-1678492740@disfruta-denia.com
SUMMARY:Viernes de Dorian Gray
DESCRIPTION:Cada viernes una experiencia diferente
URL:https://disfruta-denia.com/evento/viernes-de-dorian-gray-2-3-2-2-2-2-3-2-2/2023-03-10/
LOCATION:Dorian Gray Denia\, Carrer de la Mar\, 14\, Denia\, Alicante\, 03700\, España
CATEGORIES:Concierto,DJ,Música,Ocio nocturno
ATTACH;FMTTYPE=image/jpeg:https://disfruta-denia.com/wp-content/uploads/2023/01/329155387_1535859300271252_2319541893212470404_n.jpg
END:VEVENT
BEGIN:VEVENT
DTSTART;TZID=Europe/Madrid:20230311T130000
DTEND;TZID=Europe/Madrid:20230311T170000
DTSTAMP:20260425T134734
CREATED:20221129T083248Z
LAST-MODIFIED:20221129T083248Z
UID:10009459-1678539600-1678554000@disfruta-denia.com
SUMMARY:Loco Brunch en Botanic
DESCRIPTION:Esto si que no te lo esperabas..¡Nos encanta sorprenderte! ⁣\nLlega el LOCO BRUNCH a Botānic  Una experiencia gastronómica diferente y muuuy divertida ⁣\n⁣\nTodos los sábados de diciembre⁣\n A partir de las 13:00h⁣\nTardeo TOP con DJ Javi Mengu⁣\n\n⁣\n¿Te lo vas a perder?
URL:https://disfruta-denia.com/evento/loco-brunch-en-botanic/2023-03-11/
LOCATION:Botanic Denia\, C/ de la Mar 18\, Denia\, Alicante\, 03700\, España
CATEGORIES:DJ,Música,Tardeo
ATTACH;FMTTYPE=image/jpeg:https://disfruta-denia.com/wp-content/uploads/2022/11/316689250_195990046273019_8044592669097497158_n.jpg
END:VEVENT
BEGIN:VEVENT
DTSTART;TZID=Europe/Madrid:20230311T183000
DTEND;TZID=Europe/Madrid:20230311T203000
DTSTAMP:20260425T134734
CREATED:20230207T120030Z
LAST-MODIFIED:20230207T120030Z
UID:10005194-1678559400-1678566600@disfruta-denia.com
SUMMARY:Tardeo en Dorian Gray
DESCRIPTION: SÁBADO • 18’30h• TARDEO\nj  en cabina #urbanmusic
URL:https://disfruta-denia.com/evento/tardeo-en-dorian-gray-2-2-2-2-3-2-2-2/2023-03-11/
LOCATION:Dorian Gray Denia\, Carrer de la Mar\, 14\, Denia\, Alicante\, 03700\, España
CATEGORIES:DJ,Música,Tardeo
ATTACH;FMTTYPE=image/jpeg:https://disfruta-denia.com/wp-content/uploads/2023/01/329155387_1535859300271252_2319541893212470404_n.jpg
END:VEVENT
BEGIN:VEVENT
DTSTART;TZID=Europe/Madrid:20230311T235900
DTEND;TZID=Europe/Madrid:20230311T235900
DTSTAMP:20260425T134734
CREATED:20230207T120036Z
LAST-MODIFIED:20230207T120037Z
UID:10004046-1678579140-1678579140@disfruta-denia.com
SUMMARY:Sábado de Dorian Gray
DESCRIPTION:• NOCHE
URL:https://disfruta-denia.com/evento/sabado-de-dorian-gray-2-2-2-2-3-2-3-2-2-2/2023-03-11/
LOCATION:Dorian Gray Denia\, Carrer de la Mar\, 14\, Denia\, Alicante\, 03700\, España
CATEGORIES:DJ,Música,Ocio nocturno
ATTACH;FMTTYPE=image/jpeg:https://disfruta-denia.com/wp-content/uploads/2023/01/329155387_1535859300271252_2319541893212470404_n.jpg
END:VEVENT
BEGIN:VEVENT
DTSTART;TZID=Europe/Madrid:20230317T235900
DTEND;TZID=Europe/Madrid:20230317T235900
DTSTAMP:20260425T134734
CREATED:20230207T120017Z
LAST-MODIFIED:20230207T120018Z
UID:10003786-1679097540-1679097540@disfruta-denia.com
SUMMARY:Viernes de Dorian Gray
DESCRIPTION:Cada viernes una experiencia diferente
URL:https://disfruta-denia.com/evento/viernes-de-dorian-gray-2-3-2-2-2-2-3-2-2/2023-03-17/
LOCATION:Dorian Gray Denia\, Carrer de la Mar\, 14\, Denia\, Alicante\, 03700\, España
CATEGORIES:Concierto,DJ,Música,Ocio nocturno
ATTACH;FMTTYPE=image/jpeg:https://disfruta-denia.com/wp-content/uploads/2023/01/329155387_1535859300271252_2319541893212470404_n.jpg
END:VEVENT
BEGIN:VEVENT
DTSTART;TZID=Europe/Madrid:20230318T130000
DTEND;TZID=Europe/Madrid:20230318T170000
DTSTAMP:20260425T134734
CREATED:20221129T083248Z
LAST-MODIFIED:20221129T083248Z
UID:10009460-1679144400-1679158800@disfruta-denia.com
SUMMARY:Loco Brunch en Botanic
DESCRIPTION:Esto si que no te lo esperabas..¡Nos encanta sorprenderte! ⁣\nLlega el LOCO BRUNCH a Botānic  Una experiencia gastronómica diferente y muuuy divertida ⁣\n⁣\nTodos los sábados de diciembre⁣\n A partir de las 13:00h⁣\nTardeo TOP con DJ Javi Mengu⁣\n\n⁣\n¿Te lo vas a perder?
URL:https://disfruta-denia.com/evento/loco-brunch-en-botanic/2023-03-18/
LOCATION:Botanic Denia\, C/ de la Mar 18\, Denia\, Alicante\, 03700\, España
CATEGORIES:DJ,Música,Tardeo
ATTACH;FMTTYPE=image/jpeg:https://disfruta-denia.com/wp-content/uploads/2022/11/316689250_195990046273019_8044592669097497158_n.jpg
END:VEVENT
BEGIN:VEVENT
DTSTART;TZID=Europe/Madrid:20230318T183000
DTEND;TZID=Europe/Madrid:20230318T203000
DTSTAMP:20260425T134734
CREATED:20230207T120030Z
LAST-MODIFIED:20230207T120030Z
UID:10005195-1679164200-1679171400@disfruta-denia.com
SUMMARY:Tardeo en Dorian Gray
DESCRIPTION: SÁBADO • 18’30h• TARDEO\nj  en cabina #urbanmusic
URL:https://disfruta-denia.com/evento/tardeo-en-dorian-gray-2-2-2-2-3-2-2-2/2023-03-18/
LOCATION:Dorian Gray Denia\, Carrer de la Mar\, 14\, Denia\, Alicante\, 03700\, España
CATEGORIES:DJ,Música,Tardeo
ATTACH;FMTTYPE=image/jpeg:https://disfruta-denia.com/wp-content/uploads/2023/01/329155387_1535859300271252_2319541893212470404_n.jpg
END:VEVENT
BEGIN:VEVENT
DTSTART;TZID=Europe/Madrid:20230318T235900
DTEND;TZID=Europe/Madrid:20230318T235900
DTSTAMP:20260425T134734
CREATED:20230207T120036Z
LAST-MODIFIED:20230207T120037Z
UID:10004047-1679183940-1679183940@disfruta-denia.com
SUMMARY:Sábado de Dorian Gray
DESCRIPTION:• NOCHE
URL:https://disfruta-denia.com/evento/sabado-de-dorian-gray-2-2-2-2-3-2-3-2-2-2/2023-03-18/
LOCATION:Dorian Gray Denia\, Carrer de la Mar\, 14\, Denia\, Alicante\, 03700\, España
CATEGORIES:DJ,Música,Ocio nocturno
ATTACH;FMTTYPE=image/jpeg:https://disfruta-denia.com/wp-content/uploads/2023/01/329155387_1535859300271252_2319541893212470404_n.jpg
END:VEVENT
BEGIN:VEVENT
DTSTART;TZID=Europe/Madrid:20230324T235900
DTEND;TZID=Europe/Madrid:20230324T235900
DTSTAMP:20260425T134734
CREATED:20230324T141852Z
LAST-MODIFIED:20230324T141853Z
UID:10003787-1679702340-1679702340@disfruta-denia.com
SUMMARY:Viernes de Dorian Gray
DESCRIPTION:Cada viernes una experiencia diferente
URL:https://disfruta-denia.com/evento/viernes-de-dorian-gray-2-3-2-2-2-2-3-2-2-2/2023-03-24/
LOCATION:Dorian Gray Denia\, Carrer de la Mar\, 14\, Denia\, Alicante\, 03700\, España
CATEGORIES:Concierto,DJ,Música,Ocio nocturno
ATTACH;FMTTYPE=image/jpeg:https://disfruta-denia.com/wp-content/uploads/2023/02/336757412_241053248288662_999733356299447556_n.jpg
END:VEVENT
BEGIN:VEVENT
DTSTART;TZID=Europe/Madrid:20230325T130000
DTEND;TZID=Europe/Madrid:20230325T170000
DTSTAMP:20260425T134734
CREATED:20221129T083248Z
LAST-MODIFIED:20221129T083248Z
UID:10009461-1679749200-1679763600@disfruta-denia.com
SUMMARY:Loco Brunch en Botanic
DESCRIPTION:Esto si que no te lo esperabas..¡Nos encanta sorprenderte! ⁣\nLlega el LOCO BRUNCH a Botānic  Una experiencia gastronómica diferente y muuuy divertida ⁣\n⁣\nTodos los sábados de diciembre⁣\n A partir de las 13:00h⁣\nTardeo TOP con DJ Javi Mengu⁣\n\n⁣\n¿Te lo vas a perder?
URL:https://disfruta-denia.com/evento/loco-brunch-en-botanic/2023-03-25/
LOCATION:Botanic Denia\, C/ de la Mar 18\, Denia\, Alicante\, 03700\, España
CATEGORIES:DJ,Música,Tardeo
ATTACH;FMTTYPE=image/jpeg:https://disfruta-denia.com/wp-content/uploads/2022/11/316689250_195990046273019_8044592669097497158_n.jpg
END:VEVENT
BEGIN:VEVENT
DTSTART;TZID=Europe/Madrid:20230325T183000
DTEND;TZID=Europe/Madrid:20230325T203000
DTSTAMP:20260425T134734
CREATED:20230207T120030Z
LAST-MODIFIED:20230207T120030Z
UID:10005196-1679769000-1679776200@disfruta-denia.com
SUMMARY:Tardeo en Dorian Gray
DESCRIPTION: SÁBADO • 18’30h• TARDEO\nj  en cabina #urbanmusic
URL:https://disfruta-denia.com/evento/tardeo-en-dorian-gray-2-2-2-2-3-2-2-2/2023-03-25/
LOCATION:Dorian Gray Denia\, Carrer de la Mar\, 14\, Denia\, Alicante\, 03700\, España
CATEGORIES:DJ,Música,Tardeo
ATTACH;FMTTYPE=image/jpeg:https://disfruta-denia.com/wp-content/uploads/2023/01/329155387_1535859300271252_2319541893212470404_n.jpg
END:VEVENT
BEGIN:VEVENT
DTSTART;TZID=Europe/Madrid:20230325T235900
DTEND;TZID=Europe/Madrid:20230325T235900
DTSTAMP:20260425T134734
CREATED:20230207T120036Z
LAST-MODIFIED:20230207T120037Z
UID:10004048-1679788740-1679788740@disfruta-denia.com
SUMMARY:Sábado de Dorian Gray
DESCRIPTION:• NOCHE
URL:https://disfruta-denia.com/evento/sabado-de-dorian-gray-2-2-2-2-3-2-3-2-2-2/2023-03-25/
LOCATION:Dorian Gray Denia\, Carrer de la Mar\, 14\, Denia\, Alicante\, 03700\, España
CATEGORIES:DJ,Música,Ocio nocturno
ATTACH;FMTTYPE=image/jpeg:https://disfruta-denia.com/wp-content/uploads/2023/01/329155387_1535859300271252_2319541893212470404_n.jpg
END:VEVENT
BEGIN:VEVENT
DTSTART;TZID=Europe/Madrid:20230331T233000
DTEND;TZID=Europe/Madrid:20230331T233000
DTSTAMP:20260425T134734
CREATED:20230319T094046Z
LAST-MODIFIED:20230319T094046Z
UID:10010539-1680305400-1680305400@disfruta-denia.com
SUMMARY:Reapertura Sounders
DESCRIPTION:Reapertura Sounders – 31 de Marzo con @anthonygodfather \n\n\nVa a ser inolvidable \n\n\nEn cabina: @bernatortega @djdiondobbe @domfeliu\n\n\n Venta de entradas: https://www.fourvenues.com/sounders-denia/AA4J\n\n\n️ RESERVAS VIP: WhatsApp 636917599
URL:https://disfruta-denia.com/evento/reapertura-sounders/
LOCATION:Sounders Discoteca\, Moll de la Pansa\, Marina El Portet\, Denia\, Alicante\, 03700\, España
CATEGORIES:DJ,Música,Ocio nocturno
ATTACH;FMTTYPE=image/jpeg:https://disfruta-denia.com/wp-content/uploads/2023/03/Tlesvrl0y041f015h3ejbhhmcunVGmmR.jpeg
END:VEVENT
BEGIN:VEVENT
DTSTART;TZID=Europe/Madrid:20230331T235900
DTEND;TZID=Europe/Madrid:20230331T235900
DTSTAMP:20260425T134734
CREATED:20230324T141852Z
LAST-MODIFIED:20230324T141853Z
UID:10003788-1680307140-1680307140@disfruta-denia.com
SUMMARY:Viernes de Dorian Gray
DESCRIPTION:Cada viernes una experiencia diferente
URL:https://disfruta-denia.com/evento/viernes-de-dorian-gray-2-3-2-2-2-2-3-2-2-2/2023-03-31/
LOCATION:Dorian Gray Denia\, Carrer de la Mar\, 14\, Denia\, Alicante\, 03700\, España
CATEGORIES:Concierto,DJ,Música,Ocio nocturno
ATTACH;FMTTYPE=image/jpeg:https://disfruta-denia.com/wp-content/uploads/2023/02/336757412_241053248288662_999733356299447556_n.jpg
END:VEVENT
END:VCALENDAR