BEGIN:VCALENDAR
VERSION:2.0
PRODID:-//Disfruta Denia - ECPv6.15.20//NONSGML v1.0//EN
CALSCALE:GREGORIAN
METHOD:PUBLISH
X-ORIGINAL-URL:https://disfruta-denia.com
X-WR-CALDESC:Eventos para Disfruta Denia
REFRESH-INTERVAL;VALUE=DURATION:PT1H
X-Robots-Tag:noindex
X-PUBLISHED-TTL:PT1H
BEGIN:VTIMEZONE
TZID:Europe/Madrid
BEGIN:DAYLIGHT
TZOFFSETFROM:+0100
TZOFFSETTO:+0200
TZNAME:CEST
DTSTART:20220327T010000
END:DAYLIGHT
BEGIN:STANDARD
TZOFFSETFROM:+0200
TZOFFSETTO:+0100
TZNAME:CET
DTSTART:20221030T010000
END:STANDARD
BEGIN:DAYLIGHT
TZOFFSETFROM:+0100
TZOFFSETTO:+0200
TZNAME:CEST
DTSTART:20230326T010000
END:DAYLIGHT
BEGIN:STANDARD
TZOFFSETFROM:+0200
TZOFFSETTO:+0100
TZNAME:CET
DTSTART:20231029T010000
END:STANDARD
BEGIN:DAYLIGHT
TZOFFSETFROM:+0100
TZOFFSETTO:+0200
TZNAME:CEST
DTSTART:20240331T010000
END:DAYLIGHT
BEGIN:STANDARD
TZOFFSETFROM:+0200
TZOFFSETTO:+0100
TZNAME:CET
DTSTART:20241027T010000
END:STANDARD
END:VTIMEZONE
BEGIN:VEVENT
DTSTART;TZID=Europe/Madrid:20230401T130000
DTEND;TZID=Europe/Madrid:20230401T170000
DTSTAMP:20260425T134617
CREATED:20221129T083248Z
LAST-MODIFIED:20221129T083248Z
UID:10009462-1680354000-1680368400@disfruta-denia.com
SUMMARY:Loco Brunch en Botanic
DESCRIPTION:Esto si que no te lo esperabas..¡Nos encanta sorprenderte! ⁣\nLlega el LOCO BRUNCH a Botānic  Una experiencia gastronómica diferente y muuuy divertida ⁣\n⁣\nTodos los sábados de diciembre⁣\n A partir de las 13:00h⁣\nTardeo TOP con DJ Javi Mengu⁣\n\n⁣\n¿Te lo vas a perder?
URL:https://disfruta-denia.com/evento/loco-brunch-en-botanic/2023-04-01/
LOCATION:Botanic Denia\, C/ de la Mar 18\, Denia\, Alicante\, 03700\, España
CATEGORIES:DJ,Música,Tardeo
ATTACH;FMTTYPE=image/jpeg:https://disfruta-denia.com/wp-content/uploads/2022/11/316689250_195990046273019_8044592669097497158_n.jpg
END:VEVENT
BEGIN:VEVENT
DTSTART;TZID=Europe/Madrid:20230401T183000
DTEND;TZID=Europe/Madrid:20230401T203000
DTSTAMP:20260425T134617
CREATED:20230207T120030Z
LAST-MODIFIED:20230207T120030Z
UID:10005197-1680373800-1680381000@disfruta-denia.com
SUMMARY:Tardeo en Dorian Gray
DESCRIPTION: SÁBADO • 18’30h• TARDEO\nj  en cabina #urbanmusic
URL:https://disfruta-denia.com/evento/tardeo-en-dorian-gray-2-2-2-2-3-2-2-2/2023-04-01/
LOCATION:Dorian Gray Denia\, Carrer de la Mar\, 14\, Denia\, Alicante\, 03700\, España
CATEGORIES:DJ,Música,Tardeo
ATTACH;FMTTYPE=image/jpeg:https://disfruta-denia.com/wp-content/uploads/2023/01/329155387_1535859300271252_2319541893212470404_n.jpg
END:VEVENT
BEGIN:VEVENT
DTSTART;TZID=Europe/Madrid:20230401T235900
DTEND;TZID=Europe/Madrid:20230401T235900
DTSTAMP:20260425T134617
CREATED:20230207T120036Z
LAST-MODIFIED:20230207T120037Z
UID:10004049-1680393540-1680393540@disfruta-denia.com
SUMMARY:Sábado de Dorian Gray
DESCRIPTION:• NOCHE
URL:https://disfruta-denia.com/evento/sabado-de-dorian-gray-2-2-2-2-3-2-3-2-2-2/2023-04-01/
LOCATION:Dorian Gray Denia\, Carrer de la Mar\, 14\, Denia\, Alicante\, 03700\, España
CATEGORIES:DJ,Música,Ocio nocturno
ATTACH;FMTTYPE=image/jpeg:https://disfruta-denia.com/wp-content/uploads/2023/01/329155387_1535859300271252_2319541893212470404_n.jpg
END:VEVENT
BEGIN:VEVENT
DTSTART;TZID=Europe/Madrid:20230407T235900
DTEND;TZID=Europe/Madrid:20230407T235900
DTSTAMP:20260425T134617
CREATED:20230406T102439Z
LAST-MODIFIED:20230406T102439Z
UID:10003789-1680911940-1680911940@disfruta-denia.com
SUMMARY:Viernes de Dorian Gray
DESCRIPTION:Cada viernes una experiencia diferente
URL:https://disfruta-denia.com/evento/viernes-de-dorian-gray-2-3-2-2-2-2-3-2-2-2-2/
LOCATION:Dorian Gray Denia\, Carrer de la Mar\, 14\, Denia\, Alicante\, 03700\, España
CATEGORIES:Concierto,DJ,Música,Ocio nocturno
ATTACH;FMTTYPE=image/jpeg:https://disfruta-denia.com/wp-content/uploads/2023/03/339899042_902938627663314_3350344352520668382_n.jpg
END:VEVENT
BEGIN:VEVENT
DTSTART;TZID=Europe/Madrid:20230408T130000
DTEND;TZID=Europe/Madrid:20230408T170000
DTSTAMP:20260425T134617
CREATED:20221129T083248Z
LAST-MODIFIED:20221129T083248Z
UID:10009463-1680958800-1680973200@disfruta-denia.com
SUMMARY:Loco Brunch en Botanic
DESCRIPTION:Esto si que no te lo esperabas..¡Nos encanta sorprenderte! ⁣\nLlega el LOCO BRUNCH a Botānic  Una experiencia gastronómica diferente y muuuy divertida ⁣\n⁣\nTodos los sábados de diciembre⁣\n A partir de las 13:00h⁣\nTardeo TOP con DJ Javi Mengu⁣\n\n⁣\n¿Te lo vas a perder?
URL:https://disfruta-denia.com/evento/loco-brunch-en-botanic/2023-04-08/
LOCATION:Botanic Denia\, C/ de la Mar 18\, Denia\, Alicante\, 03700\, España
CATEGORIES:DJ,Música,Tardeo
ATTACH;FMTTYPE=image/jpeg:https://disfruta-denia.com/wp-content/uploads/2022/11/316689250_195990046273019_8044592669097497158_n.jpg
END:VEVENT
BEGIN:VEVENT
DTSTART;TZID=Europe/Madrid:20230408T170000
DTEND;TZID=Europe/Madrid:20230408T170000
DTSTAMP:20260425T134617
CREATED:20230406T103236Z
LAST-MODIFIED:20230406T103236Z
UID:10010558-1680973200-1680973200@disfruta-denia.com
SUMMARY:DJ's Residentes
DESCRIPTION:Amigxs de Lamarserena\nEste sábado 8 de abril\, nuestros Dj ‘s residentes Miguel Lema\, The Alchemyst\, Jose Diaz y Marcos Rivera se van a escuchar hasta Ibiza!!!\nNo te lo puedes perder  \nTe esperamos desde las 17h
URL:https://disfruta-denia.com/evento/djs-residentes/
LOCATION:La Mar Serena\, Moll de la Pansa s/n Edificio Marina el Portet\, Denia\, Alicante\, 03700\, España
CATEGORIES:DJ,Música,Ocio nocturno,Tardeo
ATTACH;FMTTYPE=image/jpeg:https://disfruta-denia.com/wp-content/uploads/2023/04/339628589_757332005944146_8858089786070358995_n-1.jpg
END:VEVENT
BEGIN:VEVENT
DTSTART;TZID=Europe/Madrid:20230408T183000
DTEND;TZID=Europe/Madrid:20230408T203000
DTSTAMP:20260425T134617
CREATED:20230406T102521Z
LAST-MODIFIED:20230406T102522Z
UID:10005198-1680978600-1680985800@disfruta-denia.com
SUMMARY:Tardeo en Dorian Gray
DESCRIPTION: SÁBADO • 18’30h• TARDEO\nj  en cabina #urbanmusic
URL:https://disfruta-denia.com/evento/tardeo-en-dorian-gray-2-2-2-2-3-2-2-2-2/
LOCATION:Dorian Gray Denia\, Carrer de la Mar\, 14\, Denia\, Alicante\, 03700\, España
CATEGORIES:DJ,Música,Tardeo
ATTACH;FMTTYPE=image/jpeg:https://disfruta-denia.com/wp-content/uploads/2023/03/339899042_902938627663314_3350344352520668382_n.jpg
END:VEVENT
BEGIN:VEVENT
DTSTART;TZID=Europe/Madrid:20230408T235900
DTEND;TZID=Europe/Madrid:20230408T235900
DTSTAMP:20260425T134617
CREATED:20230406T102529Z
LAST-MODIFIED:20230406T102530Z
UID:10004050-1680998340-1680998340@disfruta-denia.com
SUMMARY:Sábado de Dorian Gray
DESCRIPTION:• NOCHE
URL:https://disfruta-denia.com/evento/sabado-de-dorian-gray-2-2-2-2-3-2-3-2-2-2-2/
LOCATION:Dorian Gray Denia\, Carrer de la Mar\, 14\, Denia\, Alicante\, 03700\, España
CATEGORIES:DJ,Música,Ocio nocturno
ATTACH;FMTTYPE=image/jpeg:https://disfruta-denia.com/wp-content/uploads/2023/03/339899042_902938627663314_3350344352520668382_n.jpg
END:VEVENT
BEGIN:VEVENT
DTSTART;TZID=Europe/Madrid:20230409T233000
DTEND;TZID=Europe/Madrid:20230409T233000
DTSTAMP:20260425T134617
CREATED:20230406T102646Z
LAST-MODIFIED:20230406T102646Z
UID:10010556-1681083000-1681083000@disfruta-denia.com
SUMMARY:Borja Conesa en el Dorian
DESCRIPTION: MENJDA SEMANA SANTA NOS ESPERA \n MIÉRCOLES • 23’00h • NOCHE\nBORJA CONESA  en cabina #urbanmusic \nJUEVES • 00’00h • NOCHE\n•Sala Dorian LA MOCHA  en directo #poprocknacional\n•Sala Gray BORJA CONESA  en cabina #urbanmusic \nVIERNES • 18’30h • TARDEO\n•Sala Dorian CAPITAL 90  en directo #poprocknacional\n•Sala Gray BORJA CONESA  en cabina #urbanmusic \nVIERNES • 00’00h • NOCHE\n•Sala Dorian CAPITAL 90  en cabina•Sala Gray BORJA CONESA  en cabina #urbanmusic\nSÁBADO • 18’30h • TARDEO\n•Sala Gray TARON  en cabina #urbanmusic \n•Sala Gray JUAN GIMENO  en cabina #housemusic \nSÁBADO • 00’00h • NOCHE\n•Sala Dorian ORQUESTA EMOJI  en cabina #poprocknacional\n•Sala Gray BORJA CONESA  en cabina #urbanmusic \nDOMINGO • 18’30h • TARDEO\nSONAKAYS RUMBA  en directo #rumbaflamenco \nDOMINGO • 23’00h • NOCHE\nBORJA CONESA  en cabin
URL:https://disfruta-denia.com/evento/borja-conesa-en-el-dorian/
LOCATION:Dorian Gray Denia\, Carrer de la Mar\, 14\, Denia\, Alicante\, 03700\, España
CATEGORIES:DJ,Música,Ocio nocturno
ATTACH;FMTTYPE=image/jpeg:https://disfruta-denia.com/wp-content/uploads/2023/03/339899042_902938627663314_3350344352520668382_n.jpg
END:VEVENT
BEGIN:VEVENT
DTSTART;TZID=Europe/Madrid:20230412T233000
DTEND;TZID=Europe/Madrid:20230412T233000
DTSTAMP:20260425T134617
CREATED:20230412T073851Z
LAST-MODIFIED:20230412T073851Z
UID:10010579-1681342200-1681342200@disfruta-denia.com
SUMMARY:Noche DJ en el Dorian
DESCRIPTION:
URL:https://disfruta-denia.com/evento/noche-dj-en-el-dorian/2023-04-12/
LOCATION:Dorian Gray Denia\, Carrer de la Mar\, 14\, Denia\, Alicante\, 03700\, España
CATEGORIES:DJ,Música,Ocio nocturno
ATTACH;FMTTYPE=image/jpeg:https://disfruta-denia.com/wp-content/uploads/2023/04/340972786_6185217901534761_8405886246076465285_n.jpg
END:VEVENT
BEGIN:VEVENT
DTSTART;TZID=Europe/Madrid:20230413T233000
DTEND;TZID=Europe/Madrid:20230413T233000
DTSTAMP:20260425T134617
CREATED:20230412T073851Z
LAST-MODIFIED:20230412T073851Z
UID:10010580-1681428600-1681428600@disfruta-denia.com
SUMMARY:Noche DJ en el Dorian
DESCRIPTION:
URL:https://disfruta-denia.com/evento/noche-dj-en-el-dorian/2023-04-13/
LOCATION:Dorian Gray Denia\, Carrer de la Mar\, 14\, Denia\, Alicante\, 03700\, España
CATEGORIES:DJ,Música,Ocio nocturno
ATTACH;FMTTYPE=image/jpeg:https://disfruta-denia.com/wp-content/uploads/2023/04/340972786_6185217901534761_8405886246076465285_n.jpg
END:VEVENT
BEGIN:VEVENT
DTSTART;TZID=Europe/Madrid:20230414T235900
DTEND;TZID=Europe/Madrid:20230414T235900
DTSTAMP:20260425T134617
CREATED:20230412T073945Z
LAST-MODIFIED:20230412T073946Z
UID:10003790-1681516740-1681516740@disfruta-denia.com
SUMMARY:Viernes de Dorian Gray
DESCRIPTION:Cada viernes una experiencia diferente
URL:https://disfruta-denia.com/evento/viernes-de-dorian-gray-2-3-2-2-2-2-3-2-2-2-2-2/2023-04-14/
LOCATION:Dorian Gray Denia\, Carrer de la Mar\, 14\, Denia\, Alicante\, 03700\, España
CATEGORIES:Concierto,DJ,Música,Ocio nocturno
ATTACH;FMTTYPE=image/jpeg:https://disfruta-denia.com/wp-content/uploads/2023/04/340972786_6185217901534761_8405886246076465285_n.jpg
END:VEVENT
BEGIN:VEVENT
DTSTART;TZID=Europe/Madrid:20230415T130000
DTEND;TZID=Europe/Madrid:20230415T170000
DTSTAMP:20260425T134617
CREATED:20221129T083248Z
LAST-MODIFIED:20221129T083248Z
UID:10009464-1681563600-1681578000@disfruta-denia.com
SUMMARY:Loco Brunch en Botanic
DESCRIPTION:Esto si que no te lo esperabas..¡Nos encanta sorprenderte! ⁣\nLlega el LOCO BRUNCH a Botānic  Una experiencia gastronómica diferente y muuuy divertida ⁣\n⁣\nTodos los sábados de diciembre⁣\n A partir de las 13:00h⁣\nTardeo TOP con DJ Javi Mengu⁣\n\n⁣\n¿Te lo vas a perder?
URL:https://disfruta-denia.com/evento/loco-brunch-en-botanic/2023-04-15/
LOCATION:Botanic Denia\, C/ de la Mar 18\, Denia\, Alicante\, 03700\, España
CATEGORIES:DJ,Música,Tardeo
ATTACH;FMTTYPE=image/jpeg:https://disfruta-denia.com/wp-content/uploads/2022/11/316689250_195990046273019_8044592669097497158_n.jpg
END:VEVENT
BEGIN:VEVENT
DTSTART;TZID=Europe/Madrid:20230415T183000
DTEND;TZID=Europe/Madrid:20230415T203000
DTSTAMP:20260425T134617
CREATED:20230412T074058Z
LAST-MODIFIED:20230412T074059Z
UID:10005199-1681583400-1681590600@disfruta-denia.com
SUMMARY:Tardeo en Dorian Gray
DESCRIPTION: SÁBADO • 18’30h• TARDEO\nj  en cabina #urbanmusic
URL:https://disfruta-denia.com/evento/tardeo-en-dorian-gray-2-2-2-2-3-2-2-2-2-2/2023-04-15/
LOCATION:Dorian Gray Denia\, Carrer de la Mar\, 14\, Denia\, Alicante\, 03700\, España
CATEGORIES:DJ,Música,Tardeo
ATTACH;FMTTYPE=image/jpeg:https://disfruta-denia.com/wp-content/uploads/2023/04/340972786_6185217901534761_8405886246076465285_n.jpg
END:VEVENT
BEGIN:VEVENT
DTSTART;TZID=Europe/Madrid:20230415T235900
DTEND;TZID=Europe/Madrid:20230415T235900
DTSTAMP:20260425T134617
CREATED:20230412T074109Z
LAST-MODIFIED:20230412T074109Z
UID:10004051-1681603140-1681603140@disfruta-denia.com
SUMMARY:Sábado de Dorian Gray
DESCRIPTION:• NOCHE
URL:https://disfruta-denia.com/evento/sabado-de-dorian-gray-2-2-2-2-3-2-3-2-2-2-2-2/2023-04-15/
LOCATION:Dorian Gray Denia\, Carrer de la Mar\, 14\, Denia\, Alicante\, 03700\, España
CATEGORIES:DJ,Música,Ocio nocturno
ATTACH;FMTTYPE=image/jpeg:https://disfruta-denia.com/wp-content/uploads/2023/04/340972786_6185217901534761_8405886246076465285_n.jpg
END:VEVENT
BEGIN:VEVENT
DTSTART;TZID=Europe/Madrid:20230416T183000
DTEND;TZID=Europe/Madrid:20230416T183000
DTSTAMP:20260425T134617
CREATED:20230412T074320Z
LAST-MODIFIED:20230412T074320Z
UID:10010581-1681669800-1681669800@disfruta-denia.com
SUMMARY:Domingo en el Dorian
DESCRIPTION:DOMINGO • 18’30h • TARDEO\nRUMBADOS  en directo #rumbaflamenco \nDOMINGO • 23’00h • NOCHE\nBORJA CONESA  en cabina #urbanmusic \nY si aun no te has comido la mona no te preocupes que pa mona\, la que te coges en el Dorian
URL:https://disfruta-denia.com/evento/domingo-en-el-dorian/2023-04-16/1/
LOCATION:Dorian Gray Denia\, Carrer de la Mar\, 14\, Denia\, Alicante\, 03700\, España
CATEGORIES:Concierto,DJ,Música,Ocio nocturno,Tardeo
ATTACH;FMTTYPE=image/jpeg:https://disfruta-denia.com/wp-content/uploads/2023/04/340972786_6185217901534761_8405886246076465285_n.jpg
END:VEVENT
BEGIN:VEVENT
DTSTART;TZID=Europe/Madrid:20230416T230000
DTEND;TZID=Europe/Madrid:20230416T233000
DTSTAMP:20260425T134617
CREATED:20230412T074320Z
LAST-MODIFIED:20230412T074320Z
UID:10010582-1681686000-1681687800@disfruta-denia.com
SUMMARY:Domingo en el Dorian
DESCRIPTION:DOMINGO • 18’30h • TARDEO\nRUMBADOS  en directo #rumbaflamenco \nDOMINGO • 23’00h • NOCHE\nBORJA CONESA  en cabina #urbanmusic \nY si aun no te has comido la mona no te preocupes que pa mona\, la que te coges en el Dorian
URL:https://disfruta-denia.com/evento/domingo-en-el-dorian/2023-04-16/2/
LOCATION:Dorian Gray Denia\, Carrer de la Mar\, 14\, Denia\, Alicante\, 03700\, España
CATEGORIES:Concierto,DJ,Música,Ocio nocturno,Tardeo
ATTACH;FMTTYPE=image/jpeg:https://disfruta-denia.com/wp-content/uploads/2023/04/340972786_6185217901534761_8405886246076465285_n.jpg
END:VEVENT
BEGIN:VEVENT
DTSTART;TZID=Europe/Madrid:20230421T235900
DTEND;TZID=Europe/Madrid:20230421T235900
DTSTAMP:20260425T134617
CREATED:20230412T073945Z
LAST-MODIFIED:20230412T073946Z
UID:10003791-1682121540-1682121540@disfruta-denia.com
SUMMARY:Viernes de Dorian Gray
DESCRIPTION:Cada viernes una experiencia diferente
URL:https://disfruta-denia.com/evento/viernes-de-dorian-gray-2-3-2-2-2-2-3-2-2-2-2-2/2023-04-21/
LOCATION:Dorian Gray Denia\, Carrer de la Mar\, 14\, Denia\, Alicante\, 03700\, España
CATEGORIES:Concierto,DJ,Música,Ocio nocturno
ATTACH;FMTTYPE=image/jpeg:https://disfruta-denia.com/wp-content/uploads/2023/04/340972786_6185217901534761_8405886246076465285_n.jpg
END:VEVENT
BEGIN:VEVENT
DTSTART;TZID=Europe/Madrid:20230422T130000
DTEND;TZID=Europe/Madrid:20230422T170000
DTSTAMP:20260425T134617
CREATED:20221129T083248Z
LAST-MODIFIED:20221129T083248Z
UID:10009465-1682168400-1682182800@disfruta-denia.com
SUMMARY:Loco Brunch en Botanic
DESCRIPTION:Esto si que no te lo esperabas..¡Nos encanta sorprenderte! ⁣\nLlega el LOCO BRUNCH a Botānic  Una experiencia gastronómica diferente y muuuy divertida ⁣\n⁣\nTodos los sábados de diciembre⁣\n A partir de las 13:00h⁣\nTardeo TOP con DJ Javi Mengu⁣\n\n⁣\n¿Te lo vas a perder?
URL:https://disfruta-denia.com/evento/loco-brunch-en-botanic/2023-04-22/
LOCATION:Botanic Denia\, C/ de la Mar 18\, Denia\, Alicante\, 03700\, España
CATEGORIES:DJ,Música,Tardeo
ATTACH;FMTTYPE=image/jpeg:https://disfruta-denia.com/wp-content/uploads/2022/11/316689250_195990046273019_8044592669097497158_n.jpg
END:VEVENT
BEGIN:VEVENT
DTSTART;TZID=Europe/Madrid:20230422T183000
DTEND;TZID=Europe/Madrid:20230422T203000
DTSTAMP:20260425T134617
CREATED:20230412T074058Z
LAST-MODIFIED:20230412T074059Z
UID:10005200-1682188200-1682195400@disfruta-denia.com
SUMMARY:Tardeo en Dorian Gray
DESCRIPTION: SÁBADO • 18’30h• TARDEO\nj  en cabina #urbanmusic
URL:https://disfruta-denia.com/evento/tardeo-en-dorian-gray-2-2-2-2-3-2-2-2-2-2/2023-04-22/
LOCATION:Dorian Gray Denia\, Carrer de la Mar\, 14\, Denia\, Alicante\, 03700\, España
CATEGORIES:DJ,Música,Tardeo
ATTACH;FMTTYPE=image/jpeg:https://disfruta-denia.com/wp-content/uploads/2023/04/340972786_6185217901534761_8405886246076465285_n.jpg
END:VEVENT
BEGIN:VEVENT
DTSTART;TZID=Europe/Madrid:20230422T235900
DTEND;TZID=Europe/Madrid:20230422T235900
DTSTAMP:20260425T134617
CREATED:20230412T074109Z
LAST-MODIFIED:20230412T074109Z
UID:10004052-1682207940-1682207940@disfruta-denia.com
SUMMARY:Sábado de Dorian Gray
DESCRIPTION:• NOCHE
URL:https://disfruta-denia.com/evento/sabado-de-dorian-gray-2-2-2-2-3-2-3-2-2-2-2-2/2023-04-22/
LOCATION:Dorian Gray Denia\, Carrer de la Mar\, 14\, Denia\, Alicante\, 03700\, España
CATEGORIES:DJ,Música,Ocio nocturno
ATTACH;FMTTYPE=image/jpeg:https://disfruta-denia.com/wp-content/uploads/2023/04/340972786_6185217901534761_8405886246076465285_n.jpg
END:VEVENT
BEGIN:VEVENT
DTSTART;TZID=Europe/Madrid:20230428T235900
DTEND;TZID=Europe/Madrid:20230428T235900
DTSTAMP:20260425T134617
CREATED:20230412T073945Z
LAST-MODIFIED:20230412T073946Z
UID:10003792-1682726340-1682726340@disfruta-denia.com
SUMMARY:Viernes de Dorian Gray
DESCRIPTION:Cada viernes una experiencia diferente
URL:https://disfruta-denia.com/evento/viernes-de-dorian-gray-2-3-2-2-2-2-3-2-2-2-2-2/2023-04-28/
LOCATION:Dorian Gray Denia\, Carrer de la Mar\, 14\, Denia\, Alicante\, 03700\, España
CATEGORIES:Concierto,DJ,Música,Ocio nocturno
ATTACH;FMTTYPE=image/jpeg:https://disfruta-denia.com/wp-content/uploads/2023/04/340972786_6185217901534761_8405886246076465285_n.jpg
END:VEVENT
BEGIN:VEVENT
DTSTART;TZID=Europe/Madrid:20230429T130000
DTEND;TZID=Europe/Madrid:20230429T170000
DTSTAMP:20260425T134617
CREATED:20221129T083248Z
LAST-MODIFIED:20221129T083248Z
UID:10009466-1682773200-1682787600@disfruta-denia.com
SUMMARY:Loco Brunch en Botanic
DESCRIPTION:Esto si que no te lo esperabas..¡Nos encanta sorprenderte! ⁣\nLlega el LOCO BRUNCH a Botānic  Una experiencia gastronómica diferente y muuuy divertida ⁣\n⁣\nTodos los sábados de diciembre⁣\n A partir de las 13:00h⁣\nTardeo TOP con DJ Javi Mengu⁣\n\n⁣\n¿Te lo vas a perder?
URL:https://disfruta-denia.com/evento/loco-brunch-en-botanic/2023-04-29/
LOCATION:Botanic Denia\, C/ de la Mar 18\, Denia\, Alicante\, 03700\, España
CATEGORIES:DJ,Música,Tardeo
ATTACH;FMTTYPE=image/jpeg:https://disfruta-denia.com/wp-content/uploads/2022/11/316689250_195990046273019_8044592669097497158_n.jpg
END:VEVENT
BEGIN:VEVENT
DTSTART;TZID=Europe/Madrid:20230429T183000
DTEND;TZID=Europe/Madrid:20230429T203000
DTSTAMP:20260425T134617
CREATED:20230412T074058Z
LAST-MODIFIED:20230412T074059Z
UID:10005201-1682793000-1682800200@disfruta-denia.com
SUMMARY:Tardeo en Dorian Gray
DESCRIPTION: SÁBADO • 18’30h• TARDEO\nj  en cabina #urbanmusic
URL:https://disfruta-denia.com/evento/tardeo-en-dorian-gray-2-2-2-2-3-2-2-2-2-2/2023-04-29/
LOCATION:Dorian Gray Denia\, Carrer de la Mar\, 14\, Denia\, Alicante\, 03700\, España
CATEGORIES:DJ,Música,Tardeo
ATTACH;FMTTYPE=image/jpeg:https://disfruta-denia.com/wp-content/uploads/2023/04/340972786_6185217901534761_8405886246076465285_n.jpg
END:VEVENT
BEGIN:VEVENT
DTSTART;TZID=Europe/Madrid:20230429T235900
DTEND;TZID=Europe/Madrid:20230429T235900
DTSTAMP:20260425T134617
CREATED:20230412T074109Z
LAST-MODIFIED:20230412T074109Z
UID:10004053-1682812740-1682812740@disfruta-denia.com
SUMMARY:Sábado de Dorian Gray
DESCRIPTION:• NOCHE
URL:https://disfruta-denia.com/evento/sabado-de-dorian-gray-2-2-2-2-3-2-3-2-2-2-2-2/2023-04-29/
LOCATION:Dorian Gray Denia\, Carrer de la Mar\, 14\, Denia\, Alicante\, 03700\, España
CATEGORIES:DJ,Música,Ocio nocturno
ATTACH;FMTTYPE=image/jpeg:https://disfruta-denia.com/wp-content/uploads/2023/04/340972786_6185217901534761_8405886246076465285_n.jpg
END:VEVENT
BEGIN:VEVENT
DTSTART;TZID=Europe/Madrid:20230430T200000
DTEND;TZID=Europe/Madrid:20230430T200000
DTSTAMP:20260425T134617
CREATED:20230428T183655Z
LAST-MODIFIED:20230428T183833Z
UID:10010634-1682884800-1682884800@disfruta-denia.com
SUMMARY:Marien Baker en La Mar Serena
DESCRIPTION:¡Prepárate para una fiesta épica!  Este domingo 30 de abril\, ven y disfruta de LOS RUMBADOS 18h\, MARIEN BAKER y MIGUEL LEMA desde las 20h para un tarde inolvidable de flamenquito y con dos DJs increíbles\n\n\n¡No te pierdas la oportunidad de bailar sin parar de 17h a 3h!
URL:https://disfruta-denia.com/evento/marien-baker-en-la-mar-serena/
LOCATION:La Mar Serena\, Moll de la Pansa s/n Edificio Marina el Portet\, Denia\, Alicante\, 03700\, España
CATEGORIES:Concierto,DJ,Música,Ocio nocturno,Tardeo
ATTACH;FMTTYPE=image/jpeg:https://disfruta-denia.com/wp-content/uploads/2023/04/343012198_245311087988510_1718052910318897076_n.jpg
END:VEVENT
END:VCALENDAR