BEGIN:VCALENDAR
VERSION:2.0
PRODID:-//Disfruta Denia - ECPv6.15.20//NONSGML v1.0//EN
CALSCALE:GREGORIAN
METHOD:PUBLISH
X-ORIGINAL-URL:https://disfruta-denia.com
X-WR-CALDESC:Eventos para Disfruta Denia
REFRESH-INTERVAL;VALUE=DURATION:PT1H
X-Robots-Tag:noindex
X-PUBLISHED-TTL:PT1H
BEGIN:VTIMEZONE
TZID:Europe/Madrid
BEGIN:DAYLIGHT
TZOFFSETFROM:+0100
TZOFFSETTO:+0200
TZNAME:CEST
DTSTART:20220327T010000
END:DAYLIGHT
BEGIN:STANDARD
TZOFFSETFROM:+0200
TZOFFSETTO:+0100
TZNAME:CET
DTSTART:20221030T010000
END:STANDARD
BEGIN:DAYLIGHT
TZOFFSETFROM:+0100
TZOFFSETTO:+0200
TZNAME:CEST
DTSTART:20230326T010000
END:DAYLIGHT
BEGIN:STANDARD
TZOFFSETFROM:+0200
TZOFFSETTO:+0100
TZNAME:CET
DTSTART:20231029T010000
END:STANDARD
BEGIN:DAYLIGHT
TZOFFSETFROM:+0100
TZOFFSETTO:+0200
TZNAME:CEST
DTSTART:20240331T010000
END:DAYLIGHT
BEGIN:STANDARD
TZOFFSETFROM:+0200
TZOFFSETTO:+0100
TZNAME:CET
DTSTART:20241027T010000
END:STANDARD
END:VTIMEZONE
BEGIN:VEVENT
DTSTART;TZID=Europe/Madrid:20230801T180000
DTEND;TZID=Europe/Madrid:20230801T180000
DTSTAMP:20260425T051215
CREATED:20230801T070727Z
LAST-MODIFIED:20230801T070729Z
UID:10012100-1690912800-1690912800@disfruta-denia.com
SUMMARY:Martes con The Black Rose en La Mar Serena
DESCRIPTION:Martes con The Black Rose by @marienbaker \nUna sesión que no te puedes perder\, todos los Martes en Lamarserena
URL:https://disfruta-denia.com/evento/martes-con-the-black-rose-en-la-mar-serena-2-2-4/
LOCATION:La Mar Serena\, Moll de la Pansa s/n Edificio Marina el Portet\, Denia\, Alicante\, 03700\, España
CATEGORIES:DJ,Música,Tardeo
ATTACH;FMTTYPE=image/png:https://disfruta-denia.com/wp-content/uploads/2023/07/Stories-•-Instagram.png
END:VEVENT
BEGIN:VEVENT
DTSTART;TZID=Europe/Madrid:20230802T180000
DTEND;TZID=Europe/Madrid:20230802T180000
DTSTAMP:20260425T051215
CREATED:20230705T111531Z
LAST-MODIFIED:20230712T120513Z
UID:10012366-1690999200-1690999200@disfruta-denia.com
SUMMARY:La Chalada en La Mar Serena
DESCRIPTION:Miércoles porque quieres Vive un día increíble en Lamarserena con las canciones más top  \n @djpiqueras & @diondobbe\n Miércoles 05 de Julio\nA partir de ls 18:00h
URL:https://disfruta-denia.com/evento/la-chalada-en-la-mar-serena/2023-08-02/
LOCATION:La Mar Serena\, Moll de la Pansa s/n Edificio Marina el Portet\, Denia\, Alicante\, 03700\, España
CATEGORIES:DJ,Música,Tardeo
ATTACH;FMTTYPE=image/png:https://disfruta-denia.com/wp-content/uploads/2023/07/Instagram-4.png
END:VEVENT
BEGIN:VEVENT
DTSTART;TZID=Europe/Madrid:20230803T180000
DTEND;TZID=Europe/Madrid:20230803T180000
DTSTAMP:20260425T051215
CREATED:20230630T095255Z
LAST-MODIFIED:20230630T095255Z
UID:10012234-1691085600-1691085600@disfruta-denia.com
SUMMARY:Noches de Aruma en La Mar Serena
DESCRIPTION:Por fin llegan las noches de ARUMA by @marcels_music \nTodos los jueves en Lamarserena  \n @marcels_music & @miguellemadj \n  A partir de las 18:00h \n• Reservas para grupos 674 645 869
URL:https://disfruta-denia.com/evento/noches-de-aruma-en-la-mar-serena/2023-08-03/
LOCATION:La Mar Serena\, Moll de la Pansa s/n Edificio Marina el Portet\, Denia\, Alicante\, 03700\, España
CATEGORIES:DJ,Música,Tardeo
ATTACH;FMTTYPE=image/jpeg:https://disfruta-denia.com/wp-content/uploads/2023/06/356889599_654515610055691_2160824364104112719_n.jpg
END:VEVENT
BEGIN:VEVENT
DTSTART;TZID=Europe/Madrid:20230803T233000
DTEND;TZID=Europe/Madrid:20230803T233000
DTSTAMP:20260425T051215
CREATED:20230803T091114Z
LAST-MODIFIED:20230803T091114Z
UID:10010856-1691105400-1691105400@disfruta-denia.com
SUMMARY:Jueves en el Dorian
DESCRIPTION:MIÉRCOLES • 23’30h • NOCHE\nLA MOCHA acústico  en directo #poprocknacional\n\n\n JUEVES • 00’00h • NOCHE\nRUMBADOS  en directo #rumbaflamenco\n\n\n VIERNES • 00’00h • NOCHE\n•Sala Dorian LA MOCHA  en directo #poprocknacional\n•Sala Gray BORJA CONESA  #urbanmusic\n\n\n SÁBADO • 00’00h • NOCHE\nBORJA CONESA  en cabina #urbanmusic\n\n\n DOMINGO • 23’30h • NOCHE\nJUNTOS Y REVUELTOS acústico  en directo #poprocknacional
URL:https://disfruta-denia.com/evento/jueves-en-el-dorian-2-2/2023-08-03/
LOCATION:Dorian Gray Denia\, Carrer de la Mar\, 14\, Denia\, Alicante\, 03700\, España
CATEGORIES:DJ,Música,Ocio nocturno
ATTACH;FMTTYPE=image/jpeg:https://disfruta-denia.com/wp-content/uploads/2023/06/365165913_10228242104535229_598191351121149251_n.jpg
END:VEVENT
BEGIN:VEVENT
DTSTART;TZID=Europe/Madrid:20230804T163000
DTEND;TZID=Europe/Madrid:20230804T163000
DTSTAMP:20260425T051215
CREATED:20230718T084938Z
LAST-MODIFIED:20230718T084938Z
UID:10012469-1691166600-1691166600@disfruta-denia.com
SUMMARY:Sunset Sessions en Nauta Port
DESCRIPTION:¡Celebra la llegada del buen clima en Nauta Lounge con nuestras Sunset Sessions!  \nTodos los viernes y sábados a partir de las 16:30h\, te invitamos a sumergirte en una experiencia única en nuestra terraza\, donde podrás disfrutar de una atmósfera musical de la mano de talentosos DJ’s. \nDéjate seducir por los ritmos mientras contemplas un increíble atardecer y disfrutas de una exquisita variedad de cócteles que harán que tu experiencia sea aún más placentera  \nAdemás\, tendrás la oportunidad de disfrutar de nuestros deliciosos menús de tardeo a partir de las 14:30h.
URL:https://disfruta-denia.com/evento/sunset-sessions-en-nauta-port/2023-08-04/
LOCATION:Nauta Port\, Moll de la Pansa\, s/n\, Denia\, Alicante\, 03700\, España
CATEGORIES:DJ,Música,Tardeo
ATTACH;FMTTYPE=image/jpeg:https://disfruta-denia.com/wp-content/uploads/2023/07/352295192_943001747027565_7598492220951828941_n.jpg
END:VEVENT
BEGIN:VEVENT
DTSTART;TZID=Europe/Madrid:20230804T163000
DTEND;TZID=Europe/Madrid:20230804T170000
DTSTAMP:20260425T051215
CREATED:20230731T120931Z
LAST-MODIFIED:20230731T120931Z
UID:10012879-1691166600-1691168400@disfruta-denia.com
SUMMARY:HIPPIE CHIC PARTY
DESCRIPTION:Este viernes\, Zensa se convierte en el lugar donde la magia de la música electrónica se hace presente.  La gran percusión de Abel Escolano Percussion Live y Chus Ballesteros DJ te invitan a vivir una tarde llena de buenos beats y muy buen rollo.  No pierdas la oportunidad de disfrutar de la mejor música en un ambiente increíble\, ¡te esperamos para una fiesta que promete ser épica!
URL:https://disfruta-denia.com/evento/hippie-chic-party/
LOCATION:Zensa Marina\, Calle Darsena de Babor\, s/n\, Denia\, Alicante\, 03700\, España
CATEGORIES:DJ,Música,Tardeo
ATTACH;FMTTYPE=image/jpeg:https://disfruta-denia.com/wp-content/uploads/2023/07/358131717_660637586097883_2504766566795225549_n.jpg
END:VEVENT
BEGIN:VEVENT
DTSTART;TZID=Europe/Madrid:20230804T235900
DTEND;TZID=Europe/Madrid:20230804T235900
DTSTAMP:20260425T051215
CREATED:20230803T091355Z
LAST-MODIFIED:20230803T091356Z
UID:10003806-1691193540-1691193540@disfruta-denia.com
SUMMARY:Viernes de Dorian Gray
DESCRIPTION:MIÉRCOLES • 23’30h • NOCHE\nLA MOCHA acústico  en directo #poprocknacional\n\n\n JUEVES • 00’00h • NOCHE\nRUMBADOS  en directo #rumbaflamenco\n\n\n VIERNES • 00’00h • NOCHE\n•Sala Dorian LA MOCHA  en directo #poprocknacional\n•Sala Gray BORJA CONESA  #urbanmusic\n\n\n SÁBADO • 00’00h • NOCHE\nBORJA CONESA  en cabina #urbanmusic\n\n\n DOMINGO • 23’30h • NOCHE\nJUNTOS Y REVUELTOS acústico  en directo #poprocknacional
URL:https://disfruta-denia.com/evento/viernes-de-dorian-gray-3-2-2/2023-08-04/
LOCATION:Dorian Gray Denia\, Carrer de la Mar\, 14\, Denia\, Alicante\, 03700\, España
CATEGORIES:Concierto,DJ,Música,Ocio nocturno
ATTACH;FMTTYPE=image/jpeg:https://disfruta-denia.com/wp-content/uploads/2023/06/365165913_10228242104535229_598191351121149251_n.jpg
END:VEVENT
BEGIN:VEVENT
DTSTART;TZID=Europe/Madrid:20230805T130000
DTEND;TZID=Europe/Madrid:20230805T170000
DTSTAMP:20260425T051215
CREATED:20221129T083248Z
LAST-MODIFIED:20221129T083248Z
UID:10009480-1691240400-1691254800@disfruta-denia.com
SUMMARY:Loco Brunch en Botanic
DESCRIPTION:Esto si que no te lo esperabas..¡Nos encanta sorprenderte! ⁣\nLlega el LOCO BRUNCH a Botānic  Una experiencia gastronómica diferente y muuuy divertida ⁣\n⁣\nTodos los sábados de diciembre⁣\n A partir de las 13:00h⁣\nTardeo TOP con DJ Javi Mengu⁣\n\n⁣\n¿Te lo vas a perder?
URL:https://disfruta-denia.com/evento/loco-brunch-en-botanic/2023-08-05/
LOCATION:Botanic Denia\, C/ de la Mar 18\, Denia\, Alicante\, 03700\, España
CATEGORIES:DJ,Música,Tardeo
ATTACH;FMTTYPE=image/jpeg:https://disfruta-denia.com/wp-content/uploads/2022/11/316689250_195990046273019_8044592669097497158_n.jpg
END:VEVENT
BEGIN:VEVENT
DTSTART;TZID=Europe/Madrid:20230805T160000
DTEND;TZID=Europe/Madrid:20230805T160000
DTSTAMP:20260425T051215
CREATED:20230801T141811Z
LAST-MODIFIED:20230801T141812Z
UID:10012340-1691251200-1691251200@disfruta-denia.com
SUMMARY:House sessions en Zensa Marina
DESCRIPTION:¡Sábado de pura fiesta en Zensa Marina! ¡No te pierdas las ⭐House Sessions⭐ este sábado en Zensa Marina! 🎶 Disfruta de una tarde llena de magia con la mejor música electrónica. 🎵 Chus Ballesteros DJ y Marf Daniels crearán una atmósfera única que te transportará a otro nivel. ¡Te esperamos para vivir una experiencia inolvidable! ✨🏝️🎉\n——————————-\nSaturday of pure partying at Zensa Marina! Don’t miss the ⭐House Sessions⭐ this Saturday at Zensa Marina! 🎶 Enjoy an afternoon full of magic with the best electronic music. 🎵 @Chusballesteros10 and @marfdaniels will create a unique atmosphere that will transport you to another level. We are waiting for you to live an unforgettable experience! ✨🏝️🎉 \nReservas👉https://www.zensa.es/es/reservas \n#zensamarina #denia #mediterranéamente
URL:https://disfruta-denia.com/evento/house-sessions-en-zensa-marina-2-2-2-2-2-4/
LOCATION:Zensa Marina\, Calle Darsena de Babor\, s/n\, Denia\, Alicante\, 03700\, España
CATEGORIES:DJ,Música,Tardeo
ATTACH;FMTTYPE=image/jpeg:https://disfruta-denia.com/wp-content/uploads/2023/07/2FF077C5-DD7A-4367-B4DE-8797F67DFC30.jpeg
END:VEVENT
BEGIN:VEVENT
DTSTART;TZID=Europe/Madrid:20230805T235900
DTEND;TZID=Europe/Madrid:20230805T235900
DTSTAMP:20260425T051215
CREATED:20230803T091358Z
LAST-MODIFIED:20230803T091359Z
UID:10004067-1691279940-1691279940@disfruta-denia.com
SUMMARY:Sábado de Dorian Gray
DESCRIPTION:MIÉRCOLES • 23’30h • NOCHE\nLA MOCHA acústico  en directo #poprocknacional\n\n\n JUEVES • 00’00h • NOCHE\nRUMBADOS  en directo #rumbaflamenco\n\n\n VIERNES • 00’00h • NOCHE\n•Sala Dorian LA MOCHA  en directo #poprocknacional\n•Sala Gray BORJA CONESA  #urbanmusic\n\n\n SÁBADO • 00’00h • NOCHE\nBORJA CONESA  en cabina #urbanmusic\n\n\n DOMINGO • 23’30h • NOCHE\nJUNTOS Y REVUELTOS acústico  en directo #poprocknacional
URL:https://disfruta-denia.com/evento/sabado-de-dorian-gray-3-2-2-2/
LOCATION:Dorian Gray Denia\, Carrer de la Mar\, 14\, Denia\, Alicante\, 03700\, España
CATEGORIES:DJ,Música,Ocio nocturno
ATTACH;FMTTYPE=image/jpeg:https://disfruta-denia.com/wp-content/uploads/2023/06/365165913_10228242104535229_598191351121149251_n.jpg
END:VEVENT
BEGIN:VEVENT
DTSTART;TZID=Europe/Madrid:20230808T180000
DTEND;TZID=Europe/Madrid:20230808T180000
DTSTAMP:20260425T051215
CREATED:20230807T182613Z
LAST-MODIFIED:20230807T182614Z
UID:10012101-1691517600-1691517600@disfruta-denia.com
SUMMARY:Martes con The Black Rose en La Mar Serena
DESCRIPTION:Martes con The Black Rose by @marienbaker \nUna sesión que no te puedes perder\, todos los Martes en Lamarserena
URL:https://disfruta-denia.com/evento/martes-con-the-black-rose-en-la-mar-serena-2-2-5/
LOCATION:La Mar Serena\, Moll de la Pansa s/n Edificio Marina el Portet\, Denia\, Alicante\, 03700\, España
CATEGORIES:DJ,Música,Tardeo
ATTACH;FMTTYPE=image/jpeg:https://disfruta-denia.com/wp-content/uploads/2023/07/B39AC89D-CF05-49B6-8319-22E06F367A70.jpeg
END:VEVENT
BEGIN:VEVENT
DTSTART;TZID=Europe/Madrid:20230808T233000
DTEND;TZID=Europe/Madrid:20230808T233000
DTSTAMP:20260425T051215
CREATED:20230808T035830Z
LAST-MODIFIED:20230808T035830Z
UID:10012979-1691537400-1691537400@disfruta-denia.com
SUMMARY:Tasty Sounders
DESCRIPTION:Tasty
URL:https://disfruta-denia.com/evento/tasty-sounders-2/
LOCATION:Sounders Discoteca\, Moll de la Pansa\, Marina El Portet\, Denia\, Alicante\, 03700\, España
CATEGORIES:DJ,Música,Ocio nocturno
ATTACH;FMTTYPE=image/jpeg:https://disfruta-denia.com/wp-content/uploads/2023/08/IMG_0476.jpeg
END:VEVENT
BEGIN:VEVENT
DTSTART;TZID=Europe/Madrid:20230809T180000
DTEND;TZID=Europe/Madrid:20230809T180000
DTSTAMP:20260425T051215
CREATED:20230705T111531Z
LAST-MODIFIED:20230712T120513Z
UID:10012367-1691604000-1691604000@disfruta-denia.com
SUMMARY:La Chalada en La Mar Serena
DESCRIPTION:Miércoles porque quieres Vive un día increíble en Lamarserena con las canciones más top  \n @djpiqueras & @diondobbe\n Miércoles 05 de Julio\nA partir de ls 18:00h
URL:https://disfruta-denia.com/evento/la-chalada-en-la-mar-serena/2023-08-09/
LOCATION:La Mar Serena\, Moll de la Pansa s/n Edificio Marina el Portet\, Denia\, Alicante\, 03700\, España
CATEGORIES:DJ,Música,Tardeo
ATTACH;FMTTYPE=image/png:https://disfruta-denia.com/wp-content/uploads/2023/07/Instagram-4.png
END:VEVENT
BEGIN:VEVENT
DTSTART;TZID=Europe/Madrid:20230809T233000
DTEND;TZID=Europe/Madrid:20230809T233000
DTSTAMP:20260425T051215
CREATED:20230808T040218Z
LAST-MODIFIED:20230808T040218Z
UID:10012980-1691623800-1691623800@disfruta-denia.com
SUMMARY:Vice City en Sounders
DESCRIPTION:Vice city
URL:https://disfruta-denia.com/evento/vice-city-en-sounders/
LOCATION:Sounders Discoteca\, Moll de la Pansa\, Marina El Portet\, Denia\, Alicante\, 03700\, España
CATEGORIES:DJ,Música,Ocio nocturno
ATTACH;FMTTYPE=image/jpeg:https://disfruta-denia.com/wp-content/uploads/2023/08/IMG_0478.jpeg
END:VEVENT
BEGIN:VEVENT
DTSTART;TZID=Europe/Madrid:20230810T180000
DTEND;TZID=Europe/Madrid:20230810T180000
DTSTAMP:20260425T051215
CREATED:20230630T095255Z
LAST-MODIFIED:20230630T095255Z
UID:10012235-1691690400-1691690400@disfruta-denia.com
SUMMARY:Noches de Aruma en La Mar Serena
DESCRIPTION:Por fin llegan las noches de ARUMA by @marcels_music \nTodos los jueves en Lamarserena  \n @marcels_music & @miguellemadj \n  A partir de las 18:00h \n• Reservas para grupos 674 645 869
URL:https://disfruta-denia.com/evento/noches-de-aruma-en-la-mar-serena/2023-08-10/
LOCATION:La Mar Serena\, Moll de la Pansa s/n Edificio Marina el Portet\, Denia\, Alicante\, 03700\, España
CATEGORIES:DJ,Música,Tardeo
ATTACH;FMTTYPE=image/jpeg:https://disfruta-denia.com/wp-content/uploads/2023/06/356889599_654515610055691_2160824364104112719_n.jpg
END:VEVENT
BEGIN:VEVENT
DTSTART;TZID=Europe/Madrid:20230810T233000
DTEND;TZID=Europe/Madrid:20230810T233000
DTSTAMP:20260425T051215
CREATED:20230803T091114Z
LAST-MODIFIED:20230803T091114Z
UID:10010857-1691710200-1691710200@disfruta-denia.com
SUMMARY:Jueves en el Dorian
DESCRIPTION:MIÉRCOLES • 23’30h • NOCHE\nLA MOCHA acústico  en directo #poprocknacional\n\n\n JUEVES • 00’00h • NOCHE\nRUMBADOS  en directo #rumbaflamenco\n\n\n VIERNES • 00’00h • NOCHE\n•Sala Dorian LA MOCHA  en directo #poprocknacional\n•Sala Gray BORJA CONESA  #urbanmusic\n\n\n SÁBADO • 00’00h • NOCHE\nBORJA CONESA  en cabina #urbanmusic\n\n\n DOMINGO • 23’30h • NOCHE\nJUNTOS Y REVUELTOS acústico  en directo #poprocknacional
URL:https://disfruta-denia.com/evento/jueves-en-el-dorian-2-2/2023-08-10/
LOCATION:Dorian Gray Denia\, Carrer de la Mar\, 14\, Denia\, Alicante\, 03700\, España
CATEGORIES:DJ,Música,Ocio nocturno
ATTACH;FMTTYPE=image/jpeg:https://disfruta-denia.com/wp-content/uploads/2023/06/365165913_10228242104535229_598191351121149251_n.jpg
END:VEVENT
BEGIN:VEVENT
DTSTART;TZID=Europe/Madrid:20230811T163000
DTEND;TZID=Europe/Madrid:20230811T163000
DTSTAMP:20260425T051215
CREATED:20230718T084938Z
LAST-MODIFIED:20230718T084938Z
UID:10012470-1691771400-1691771400@disfruta-denia.com
SUMMARY:Sunset Sessions en Nauta Port
DESCRIPTION:¡Celebra la llegada del buen clima en Nauta Lounge con nuestras Sunset Sessions!  \nTodos los viernes y sábados a partir de las 16:30h\, te invitamos a sumergirte en una experiencia única en nuestra terraza\, donde podrás disfrutar de una atmósfera musical de la mano de talentosos DJ’s. \nDéjate seducir por los ritmos mientras contemplas un increíble atardecer y disfrutas de una exquisita variedad de cócteles que harán que tu experiencia sea aún más placentera  \nAdemás\, tendrás la oportunidad de disfrutar de nuestros deliciosos menús de tardeo a partir de las 14:30h.
URL:https://disfruta-denia.com/evento/sunset-sessions-en-nauta-port/2023-08-11/
LOCATION:Nauta Port\, Moll de la Pansa\, s/n\, Denia\, Alicante\, 03700\, España
CATEGORIES:DJ,Música,Tardeo
ATTACH;FMTTYPE=image/jpeg:https://disfruta-denia.com/wp-content/uploads/2023/07/352295192_943001747027565_7598492220951828941_n.jpg
END:VEVENT
BEGIN:VEVENT
DTSTART;TZID=Europe/Madrid:20230811T233000
DTEND;TZID=Europe/Madrid:20230811T233000
DTSTAMP:20260425T051215
CREATED:20230808T070448Z
LAST-MODIFIED:20230808T070448Z
UID:10012982-1691796600-1691796600@disfruta-denia.com
SUMMARY:Flower power en Sounders
DESCRIPTION:Flower power en Sounders
URL:https://disfruta-denia.com/evento/flower-power-en-sounders/
LOCATION:Sounders Discoteca\, Moll de la Pansa\, Marina El Portet\, Denia\, Alicante\, 03700\, España
CATEGORIES:DJ,Música,Ocio nocturno
ATTACH;FMTTYPE=image/jpeg:https://disfruta-denia.com/wp-content/uploads/2023/08/IMG_0479.jpg
END:VEVENT
BEGIN:VEVENT
DTSTART;TZID=Europe/Madrid:20230811T235900
DTEND;TZID=Europe/Madrid:20230811T235900
DTSTAMP:20260425T051215
CREATED:20230803T091355Z
LAST-MODIFIED:20230803T091356Z
UID:10003807-1691798340-1691798340@disfruta-denia.com
SUMMARY:Viernes de Dorian Gray
DESCRIPTION:MIÉRCOLES • 23’30h • NOCHE\nLA MOCHA acústico  en directo #poprocknacional\n\n\n JUEVES • 00’00h • NOCHE\nRUMBADOS  en directo #rumbaflamenco\n\n\n VIERNES • 00’00h • NOCHE\n•Sala Dorian LA MOCHA  en directo #poprocknacional\n•Sala Gray BORJA CONESA  #urbanmusic\n\n\n SÁBADO • 00’00h • NOCHE\nBORJA CONESA  en cabina #urbanmusic\n\n\n DOMINGO • 23’30h • NOCHE\nJUNTOS Y REVUELTOS acústico  en directo #poprocknacional
URL:https://disfruta-denia.com/evento/viernes-de-dorian-gray-3-2-2/2023-08-11/
LOCATION:Dorian Gray Denia\, Carrer de la Mar\, 14\, Denia\, Alicante\, 03700\, España
CATEGORIES:Concierto,DJ,Música,Ocio nocturno
ATTACH;FMTTYPE=image/jpeg:https://disfruta-denia.com/wp-content/uploads/2023/06/365165913_10228242104535229_598191351121149251_n.jpg
END:VEVENT
BEGIN:VEVENT
DTSTART;TZID=Europe/Madrid:20230812T130000
DTEND;TZID=Europe/Madrid:20230812T170000
DTSTAMP:20260425T051215
CREATED:20221129T083248Z
LAST-MODIFIED:20221129T083248Z
UID:10009481-1691845200-1691859600@disfruta-denia.com
SUMMARY:Loco Brunch en Botanic
DESCRIPTION:Esto si que no te lo esperabas..¡Nos encanta sorprenderte! ⁣\nLlega el LOCO BRUNCH a Botānic  Una experiencia gastronómica diferente y muuuy divertida ⁣\n⁣\nTodos los sábados de diciembre⁣\n A partir de las 13:00h⁣\nTardeo TOP con DJ Javi Mengu⁣\n\n⁣\n¿Te lo vas a perder?
URL:https://disfruta-denia.com/evento/loco-brunch-en-botanic/2023-08-12/
LOCATION:Botanic Denia\, C/ de la Mar 18\, Denia\, Alicante\, 03700\, España
CATEGORIES:DJ,Música,Tardeo
ATTACH;FMTTYPE=image/jpeg:https://disfruta-denia.com/wp-content/uploads/2022/11/316689250_195990046273019_8044592669097497158_n.jpg
END:VEVENT
BEGIN:VEVENT
DTSTART;TZID=Europe/Madrid:20230812T160000
DTEND;TZID=Europe/Madrid:20230812T160000
DTSTAMP:20260425T051215
CREATED:20230811T183113Z
LAST-MODIFIED:20230811T183113Z
UID:10012341-1691856000-1691856000@disfruta-denia.com
SUMMARY:House sessions en Zensa Marina
DESCRIPTION:¡Prepárate para una tarde llena de música y buena vibra en Zensa Marina!  Nuestra House Sessions contará con la participación especial de @mcastejonsax y @tomwilderuiz\, quienes pondrán su talento único al servicio de la música electrónica.  Acompañados de nuestro DJ Residente\, Chus Ballesteros DJ\, te aseguramos una tarde inolvidable llena de buena música y energía positiva. ¡No te pierdas esta fiesta imperdible!
URL:https://disfruta-denia.com/evento/house-sessions-en-zensa-marina-2-2-2-2-2-5/
LOCATION:Zensa Marina\, Calle Darsena de Babor\, s/n\, Denia\, Alicante\, 03700\, España
CATEGORIES:DJ,Música,Tardeo
ATTACH;FMTTYPE=image/jpeg:https://disfruta-denia.com/wp-content/uploads/2023/07/365202228_666807652147543_2970803532151535996_n.jpg
END:VEVENT
BEGIN:VEVENT
DTSTART;TZID=Europe/Madrid:20230812T233000
DTEND;TZID=Europe/Madrid:20230812T233000
DTSTAMP:20260425T051215
CREATED:20230808T071026Z
LAST-MODIFIED:20230808T071026Z
UID:10012983-1691883000-1691883000@disfruta-denia.com
SUMMARY:Secret Sounders
DESCRIPTION:Secret Sounders
URL:https://disfruta-denia.com/evento/secret-sounders/
LOCATION:Sounders Discoteca\, Moll de la Pansa\, Marina El Portet\, Denia\, Alicante\, 03700\, España
CATEGORIES:DJ,Música,Ocio nocturno
ATTACH;FMTTYPE=image/jpeg:https://disfruta-denia.com/wp-content/uploads/2023/08/IMG_0480.jpg
END:VEVENT
BEGIN:VEVENT
DTSTART;TZID=Europe/Madrid:20230812T233000
DTEND;TZID=Europe/Madrid:20230812T233000
DTSTAMP:20260425T051215
CREATED:20230812T072745Z
LAST-MODIFIED:20230812T072745Z
UID:10012999-1691883000-1691883000@disfruta-denia.com
SUMMARY:Privé Condado
DESCRIPTION:𝑺𝑼𝑷𝑬𝑹𝑪𝑳𝑨𝑺𝑺 Este Sábado 11 de Agosto vive una 𝑺𝒖𝒑𝒆𝒓𝒇𝒊𝒆𝒔𝒕𝒂 de lujo\n–\nA los platos nuestro invitado @diazxavi y la dupla de la fiesta @mitch_van_staveren & @ivan_suel 
URL:https://disfruta-denia.com/evento/prive-condado/
LOCATION:Condado Club\, Calle marques de campo\, 42 B\, Denia\, Alicante\, 03700\, España
CATEGORIES:DJ,Música,Ocio nocturno
ATTACH;FMTTYPE=image/jpeg:https://disfruta-denia.com/wp-content/uploads/2023/08/366339780_675737004583110_2629242303245875599_n.jpg
END:VEVENT
BEGIN:VEVENT
DTSTART;TZID=Europe/Madrid:20230812T235900
DTEND;TZID=Europe/Madrid:20230812T235900
DTSTAMP:20260425T051215
CREATED:20230811T183006Z
LAST-MODIFIED:20230811T183007Z
UID:10004068-1691884740-1691884740@disfruta-denia.com
SUMMARY:Sábado de Dorian Gray
DESCRIPTION:SE VIENE PUENTAZO DE AGOSTO! \n JUEVES • 00’00h • NOCHE\n•Sala Dorian RUMBADOS  en directo #rumbaflamenco\n•Sala Gray BORJA CONESA  en directo #urbanmusic \n VIERNES • 00’00h • NOCHE\n• BORJA CONESA  #urbanmusic \n SÁBADO • 00’00h • NOCHE\nBORJA CONESA  en cabina #urbanmusic \n DOMINGO • 23’30h • NOCHE\nJUNTOS Y REVUELTOS acústico  en directo #poprocknacional \n LUNES • 00’00h • NOCHE\n•Sala Dorian LA MOCHA acústico  en directo #poprocknacional\n•Sala Gray BORJA CONESA  en cabina #urbanmusic \n MARTES • 00’00h • NOCHE\nBORJA CONESA  en cabina #urbanmusic
URL:https://disfruta-denia.com/evento/sabado-de-dorian-gray-3-2-2-2-2/
LOCATION:Dorian Gray Denia\, Carrer de la Mar\, 14\, Denia\, Alicante\, 03700\, España
CATEGORIES:DJ,Música,Ocio nocturno
ATTACH;FMTTYPE=image/jpeg:https://disfruta-denia.com/wp-content/uploads/2023/08/365301345_747326840737025_7339006030603845871_n-1.jpg
END:VEVENT
BEGIN:VEVENT
DTSTART;TZID=Europe/Madrid:20230813T170000
DTEND;TZID=Europe/Madrid:20230813T220000
DTSTAMP:20260425T051215
CREATED:20230808T130441Z
LAST-MODIFIED:20230808T130441Z
UID:10012987-1691946000-1691964000@disfruta-denia.com
SUMMARY:CORONA SUNSET en Zensa
DESCRIPTION:El mejor plan para este Domingo está en Zensa Marina con CORONA SUNSET.  Viviremos una tarde única llena de buena música con la participación especial de @djsuzukid y @bonetti.  ¡No te quedes sin disfrutar de esta fiesta que promete ser épica\, te esperamos para cerrar el fin de semana por todo lo alto! 
URL:https://disfruta-denia.com/evento/corona-sunset-en-zensa/
LOCATION:Zensa Marina\, Calle Darsena de Babor\, s/n\, Denia\, Alicante\, 03700\, España
CATEGORIES:DJ,Música,Tardeo
ATTACH;FMTTYPE=image/jpeg:https://disfruta-denia.com/wp-content/uploads/2023/08/363445500_665111322317176_1059216024808484864_n-1.jpg
END:VEVENT
BEGIN:VEVENT
DTSTART;TZID=Europe/Madrid:20230813T233000
DTEND;TZID=Europe/Madrid:20230813T233000
DTSTAMP:20260425T051215
CREATED:20230808T071417Z
LAST-MODIFIED:20230808T071417Z
UID:10012984-1691969400-1691969400@disfruta-denia.com
SUMMARY:Esther Bronchal en Sounders
DESCRIPTION:Esther Bronchal en Sounders
URL:https://disfruta-denia.com/evento/esther-bronchal-en-sounders/
LOCATION:Sounders Discoteca\, Moll de la Pansa\, Marina El Portet\, Denia\, Alicante\, 03700\, España
CATEGORIES:DJ,Música,Ocio nocturno
ATTACH;FMTTYPE=image/jpeg:https://disfruta-denia.com/wp-content/uploads/2023/08/IMG_0481.jpg
END:VEVENT
BEGIN:VEVENT
DTSTART;TZID=Europe/Madrid:20230813T233000
DTEND;TZID=Europe/Madrid:20230813T233000
DTSTAMP:20260425T051215
CREATED:20230811T205620Z
LAST-MODIFIED:20230811T205620Z
UID:10012996-1691969400-1691969400@disfruta-denia.com
SUMMARY:Música en el Dorian
DESCRIPTION:Música en el Dorian
URL:https://disfruta-denia.com/evento/musica-en-el-dorian/2023-08-13/
LOCATION:Dorian Gray Denia\, Carrer de la Mar\, 14\, Denia\, Alicante\, 03700\, España
CATEGORIES:Concierto,DJ,Música,Ocio nocturno
ATTACH;FMTTYPE=image/jpeg:https://disfruta-denia.com/wp-content/uploads/2023/07/365301345_747326840737025_7339006030603845871_n.jpg
END:VEVENT
BEGIN:VEVENT
DTSTART;TZID=Europe/Madrid:20230814T233000
DTEND;TZID=Europe/Madrid:20230814T233000
DTSTAMP:20260425T051215
CREATED:20230811T205620Z
LAST-MODIFIED:20230811T205620Z
UID:10012997-1692055800-1692055800@disfruta-denia.com
SUMMARY:Música en el Dorian
DESCRIPTION:Música en el Dorian
URL:https://disfruta-denia.com/evento/musica-en-el-dorian/2023-08-14/
LOCATION:Dorian Gray Denia\, Carrer de la Mar\, 14\, Denia\, Alicante\, 03700\, España
CATEGORIES:Concierto,DJ,Música,Ocio nocturno
ATTACH;FMTTYPE=image/jpeg:https://disfruta-denia.com/wp-content/uploads/2023/07/365301345_747326840737025_7339006030603845871_n.jpg
END:VEVENT
BEGIN:VEVENT
DTSTART;TZID=Europe/Madrid:20230814T233000
DTEND;TZID=Europe/Madrid:20230814T233000
DTSTAMP:20260425T051215
CREATED:20230812T144546Z
LAST-MODIFIED:20230812T144546Z
UID:10013001-1692055800-1692055800@disfruta-denia.com
SUMMARY:LOCOCLUB
DESCRIPTION:El Lunes vamos a vivir algo realmente loco…  Ready? \n Lunes 14 de Agosto \nEn cabina: @bernatortega @diondobbe @domfeliu @jgarciadj_ \n Venta de entradas link en bio.\nENTRADA 15€ con consumición antes de las 02:00h | 20€ con consumición después de las 02:00h
URL:https://disfruta-denia.com/evento/lococlub/
LOCATION:Sounders Discoteca\, Moll de la Pansa\, Marina El Portet\, Denia\, Alicante\, 03700\, España
CATEGORIES:DJ,Música,Ocio nocturno
ATTACH;FMTTYPE=image/jpeg:https://disfruta-denia.com/wp-content/uploads/2023/08/366747765_268763042534062_2410563278355554626_n.jpg
END:VEVENT
BEGIN:VEVENT
DTSTART;TZID=Europe/Madrid:20230815T180000
DTEND;TZID=Europe/Madrid:20230815T180000
DTSTAMP:20260425T051215
CREATED:20230815T081939Z
LAST-MODIFIED:20230815T081940Z
UID:10012102-1692122400-1692122400@disfruta-denia.com
SUMMARY:Martes con The Black Rose en La Mar Serena
DESCRIPTION:Martes con The Black Rose by @marienbaker \nUna sesión que no te puedes perder\, todos los Martes en Lamarserena
URL:https://disfruta-denia.com/evento/martes-con-the-black-rose-en-la-mar-serena-2-2-6/
LOCATION:La Mar Serena\, Moll de la Pansa s/n Edificio Marina el Portet\, Denia\, Alicante\, 03700\, España
CATEGORIES:DJ,Música,Tardeo
ATTACH;FMTTYPE=image/jpeg:https://disfruta-denia.com/wp-content/uploads/2023/07/366753420_829457841817255_1896052643980755498_n.jpg
END:VEVENT
END:VCALENDAR