BEGIN:VCALENDAR
VERSION:2.0
PRODID:-//Disfruta Denia - ECPv6.15.20//NONSGML v1.0//EN
CALSCALE:GREGORIAN
METHOD:PUBLISH
X-ORIGINAL-URL:https://disfruta-denia.com
X-WR-CALDESC:Eventos para Disfruta Denia
REFRESH-INTERVAL;VALUE=DURATION:PT1H
X-Robots-Tag:noindex
X-PUBLISHED-TTL:PT1H
BEGIN:VTIMEZONE
TZID:Europe/Madrid
BEGIN:DAYLIGHT
TZOFFSETFROM:+0100
TZOFFSETTO:+0200
TZNAME:CEST
DTSTART:20220327T010000
END:DAYLIGHT
BEGIN:STANDARD
TZOFFSETFROM:+0200
TZOFFSETTO:+0100
TZNAME:CET
DTSTART:20221030T010000
END:STANDARD
BEGIN:DAYLIGHT
TZOFFSETFROM:+0100
TZOFFSETTO:+0200
TZNAME:CEST
DTSTART:20230326T010000
END:DAYLIGHT
BEGIN:STANDARD
TZOFFSETFROM:+0200
TZOFFSETTO:+0100
TZNAME:CET
DTSTART:20231029T010000
END:STANDARD
BEGIN:DAYLIGHT
TZOFFSETFROM:+0100
TZOFFSETTO:+0200
TZNAME:CEST
DTSTART:20240331T010000
END:DAYLIGHT
BEGIN:STANDARD
TZOFFSETFROM:+0200
TZOFFSETTO:+0100
TZNAME:CET
DTSTART:20241027T010000
END:STANDARD
END:VTIMEZONE
BEGIN:VEVENT
DTSTART;TZID=Europe/Madrid:20230901T233000
DTEND;TZID=Europe/Madrid:20230901T233000
DTSTAMP:20260425T031149
CREATED:20230830T152302Z
LAST-MODIFIED:20230830T152302Z
UID:10013063-1693611000-1693611000@disfruta-denia.com
SUMMARY:Noche Perla Negra
DESCRIPTION:La Perla Negra esta de regreso en Sounders para una noche increíble \nEste Viernes forma parte de la tripulación mas canalla y baila como nunca  \n Viernes 01 de Septiembre \nEn cabina: @bernatortega @diondobbe @domfeliu @jgarciadj_ \n Apertura: 24:00h
URL:https://disfruta-denia.com/evento/noche-perla-negra/
LOCATION:Sounders Discoteca\, Moll de la Pansa\, Marina El Portet\, Denia\, Alicante\, 03700\, España
CATEGORIES:DJ,Música,Ocio nocturno
ATTACH;FMTTYPE=image/jpeg:https://disfruta-denia.com/wp-content/uploads/2023/08/370232008_18354835891079864_8629568472644121411_n.jpg
END:VEVENT
BEGIN:VEVENT
DTSTART;TZID=Europe/Madrid:20230901T235900
DTEND;TZID=Europe/Madrid:20230901T235900
DTSTAMP:20260425T031149
CREATED:20230829T103039Z
LAST-MODIFIED:20230829T103041Z
UID:10003810-1693612740-1693612740@disfruta-denia.com
SUMMARY:Viernes de Dorian Gray
DESCRIPTION: ADIOS AGOSTO\, HOLA SEPTIEMBRE! \n MIÉRCOLES • 23’30h • NOCHE\n• BORJA CONESA  en cabina #urbanmusic \n JUEVES • 00’00h • NOCHE\n• JUNTOS Y REVUELTOS acústico  en directo #poprocknacional \n VIERNES • 00’00h • NOCHE\n• Sala Dorian LA MOCHA  en directo #poprocknacional\n• Sala Gray BORJA CONESA  en cabina #urbanmusic \n SÁBADO • 00’00h • NOCHE\n• DION DOBBE  en cabina #urbanmusic \nVen a tomarte los últimos cubatas antes de la vuelta al gym
URL:https://disfruta-denia.com/evento/viernes-de-dorian-gray-3-2-2-2-2-2/
LOCATION:Dorian Gray Denia\, Carrer de la Mar\, 14\, Denia\, Alicante\, 03700\, España
CATEGORIES:Concierto,DJ,Música,Ocio nocturno
ATTACH;FMTTYPE=image/jpeg:https://disfruta-denia.com/wp-content/uploads/2023/08/370049864_758670556269320_7698028194298604830_n.jpg
END:VEVENT
BEGIN:VEVENT
DTSTART;TZID=Europe/Madrid:20230902T130000
DTEND;TZID=Europe/Madrid:20230902T170000
DTSTAMP:20260425T031149
CREATED:20221129T083248Z
LAST-MODIFIED:20221129T083248Z
UID:10009484-1693659600-1693674000@disfruta-denia.com
SUMMARY:Loco Brunch en Botanic
DESCRIPTION:Esto si que no te lo esperabas..¡Nos encanta sorprenderte! ⁣\nLlega el LOCO BRUNCH a Botānic  Una experiencia gastronómica diferente y muuuy divertida ⁣\n⁣\nTodos los sábados de diciembre⁣\n A partir de las 13:00h⁣\nTardeo TOP con DJ Javi Mengu⁣\n\n⁣\n¿Te lo vas a perder?
URL:https://disfruta-denia.com/evento/loco-brunch-en-botanic/2023-09-02/
LOCATION:Botanic Denia\, C/ de la Mar 18\, Denia\, Alicante\, 03700\, España
CATEGORIES:DJ,Música,Tardeo
ATTACH;FMTTYPE=image/jpeg:https://disfruta-denia.com/wp-content/uploads/2022/11/316689250_195990046273019_8044592669097497158_n.jpg
END:VEVENT
BEGIN:VEVENT
DTSTART;TZID=Europe/Madrid:20230902T160000
DTEND;TZID=Europe/Madrid:20230902T160000
DTSTAMP:20260425T031149
CREATED:20230828T130523Z
LAST-MODIFIED:20230828T130538Z
UID:10012344-1693670400-1693670400@disfruta-denia.com
SUMMARY:House sessions en Zensa Marina
DESCRIPTION:Sábado + Zensa Marina + ⭐House Sessions⭐ = Fórmula perfecta para una tarde inolvidable. 🎉 Chus Ballesteros DJ y Dj Chacu te harán vibrar con la mejor música electrónica. 🎶 Baila con pasión\, disfruta de cada momento y crea tu propia historia de felicidad\, ¡Te esperamos! ✨🎵\n—————–\nSaturday + Zensa Marina + ⭐House Sessions⭐ = Perfect formula for an unforgettable afternoon. 🎉 Chus Ballesteros DJ and Dj Chacu will make you vibrate with the best electronic music. 🎶 Dance with passion\, enjoy every moment and create your own story of happiness\, we are waiting for you! ✨🎵
URL:https://disfruta-denia.com/evento/house-sessions-en-zensa-marina-2-2-2-2-2-6/
LOCATION:Zensa Marina\, Calle Darsena de Babor\, s/n\, Denia\, Alicante\, 03700\, España
CATEGORIES:DJ,Música,Tardeo
ATTACH;FMTTYPE=image/jpeg:https://disfruta-denia.com/wp-content/uploads/2023/07/370869186_676084367886538_4259169634434956029_n.jpg
END:VEVENT
BEGIN:VEVENT
DTSTART;TZID=Europe/Madrid:20230902T235900
DTEND;TZID=Europe/Madrid:20230902T235900
DTSTAMP:20260425T031149
CREATED:20230829T103055Z
LAST-MODIFIED:20230829T103057Z
UID:10004071-1693699140-1693699140@disfruta-denia.com
SUMMARY:Sábado de Dorian Gray
DESCRIPTION: ADIOS AGOSTO\, HOLA SEPTIEMBRE! \n MIÉRCOLES • 23’30h • NOCHE\n• BORJA CONESA  en cabina #urbanmusic \n JUEVES • 00’00h • NOCHE\n• JUNTOS Y REVUELTOS acústico  en directo #poprocknacional \n VIERNES • 00’00h • NOCHE\n• Sala Dorian LA MOCHA  en directo #poprocknacional\n• Sala Gray BORJA CONESA  en cabina #urbanmusic \n SÁBADO • 00’00h • NOCHE\n• DION DOBBE  en cabina #urbanmusic \nVen a tomarte los últimos cubatas antes de la vuelta al gym
URL:https://disfruta-denia.com/evento/sabado-de-dorian-gray-3-2-2-2-2-2-2-2/
LOCATION:Dorian Gray Denia\, Carrer de la Mar\, 14\, Denia\, Alicante\, 03700\, España
CATEGORIES:DJ,Música,Ocio nocturno
ATTACH;FMTTYPE=image/jpeg:https://disfruta-denia.com/wp-content/uploads/2023/08/370049864_758670556269320_7698028194298604830_n.jpg
END:VEVENT
BEGIN:VEVENT
DTSTART;TZID=Europe/Madrid:20230906T180000
DTEND;TZID=Europe/Madrid:20230906T180000
DTSTAMP:20260425T031149
CREATED:20230705T111531Z
LAST-MODIFIED:20230712T120513Z
UID:10012371-1694023200-1694023200@disfruta-denia.com
SUMMARY:La Chalada en La Mar Serena
DESCRIPTION:Miércoles porque quieres Vive un día increíble en Lamarserena con las canciones más top  \n @djpiqueras & @diondobbe\n Miércoles 05 de Julio\nA partir de ls 18:00h
URL:https://disfruta-denia.com/evento/la-chalada-en-la-mar-serena/2023-09-06/
LOCATION:La Mar Serena\, Moll de la Pansa s/n Edificio Marina el Portet\, Denia\, Alicante\, 03700\, España
CATEGORIES:DJ,Música,Tardeo
ATTACH;FMTTYPE=image/png:https://disfruta-denia.com/wp-content/uploads/2023/07/Instagram-4.png
END:VEVENT
BEGIN:VEVENT
DTSTART;TZID=Europe/Madrid:20230907T180000
DTEND;TZID=Europe/Madrid:20230907T180000
DTSTAMP:20260425T031149
CREATED:20230630T095255Z
LAST-MODIFIED:20230630T095255Z
UID:10012239-1694109600-1694109600@disfruta-denia.com
SUMMARY:Noches de Aruma en La Mar Serena
DESCRIPTION:Por fin llegan las noches de ARUMA by @marcels_music \nTodos los jueves en Lamarserena  \n @marcels_music & @miguellemadj \n  A partir de las 18:00h \n• Reservas para grupos 674 645 869
URL:https://disfruta-denia.com/evento/noches-de-aruma-en-la-mar-serena/2023-09-07/
LOCATION:La Mar Serena\, Moll de la Pansa s/n Edificio Marina el Portet\, Denia\, Alicante\, 03700\, España
CATEGORIES:DJ,Música,Tardeo
ATTACH;FMTTYPE=image/jpeg:https://disfruta-denia.com/wp-content/uploads/2023/06/356889599_654515610055691_2160824364104112719_n.jpg
END:VEVENT
BEGIN:VEVENT
DTSTART;TZID=Europe/Madrid:20230908T235900
DTEND;TZID=Europe/Madrid:20230908T235900
DTSTAMP:20260425T031149
CREATED:20230907T200150Z
LAST-MODIFIED:20230907T200152Z
UID:10003811-1694217540-1694217540@disfruta-denia.com
SUMMARY:Viernes de Dorian Gray
DESCRIPTION: BIENVENIDXS A LA VUELTA AL COLE \n VIERNES • 00’00h • NOCHE\n• Sala Dorian JUNTOS Y REVUELTOS  en directo #poprocknacional\n• Sala Gray BORJA CONESA  en cabina #urbanmusic \n SÁBADO • 00’00h • NOCHE\n• BORJA CONESA  en cabina #urbanmusic \nATENCIÓN QUE PASAMOS LISTA
URL:https://disfruta-denia.com/evento/viernes-de-dorian-gray-3-2-2-2-2-2-2/
LOCATION:Dorian Gray Denia\, Carrer de la Mar\, 14\, Denia\, Alicante\, 03700\, España
CATEGORIES:Concierto,DJ,Música,Ocio nocturno
ATTACH;FMTTYPE=image/jpeg:https://disfruta-denia.com/wp-content/uploads/2023/08/376285762_764549292348113_3517530018275746335_n.jpg
END:VEVENT
BEGIN:VEVENT
DTSTART;TZID=Europe/Madrid:20230909T130000
DTEND;TZID=Europe/Madrid:20230909T170000
DTSTAMP:20260425T031149
CREATED:20221129T083248Z
LAST-MODIFIED:20221129T083248Z
UID:10009485-1694264400-1694278800@disfruta-denia.com
SUMMARY:Loco Brunch en Botanic
DESCRIPTION:Esto si que no te lo esperabas..¡Nos encanta sorprenderte! ⁣\nLlega el LOCO BRUNCH a Botānic  Una experiencia gastronómica diferente y muuuy divertida ⁣\n⁣\nTodos los sábados de diciembre⁣\n A partir de las 13:00h⁣\nTardeo TOP con DJ Javi Mengu⁣\n\n⁣\n¿Te lo vas a perder?
URL:https://disfruta-denia.com/evento/loco-brunch-en-botanic/2023-09-09/
LOCATION:Botanic Denia\, C/ de la Mar 18\, Denia\, Alicante\, 03700\, España
CATEGORIES:DJ,Música,Tardeo
ATTACH;FMTTYPE=image/jpeg:https://disfruta-denia.com/wp-content/uploads/2022/11/316689250_195990046273019_8044592669097497158_n.jpg
END:VEVENT
BEGIN:VEVENT
DTSTART;TZID=Europe/Madrid:20230909T160000
DTEND;TZID=Europe/Madrid:20230909T160000
DTSTAMP:20260425T031149
CREATED:20230904T192402Z
LAST-MODIFIED:20230904T192403Z
UID:10012345-1694275200-1694275200@disfruta-denia.com
SUMMARY:House sessions en Zensa Marina
DESCRIPTION:¡Sábado de pura fiesta en Zensa Marina!  No te pierdas la House Sessions de este sábado en Zensa Marina.  Disfruta de una tarde llena de magia con la mejor música electrónica.  Chus Ballesteros DJ \, nuestro DJ residente\, creará una atmósfera única que te transportará a otro nivel. ¡Te esperamos para vivir una experiencia inolvidable! \n————\nSaturday of pure partying at Zensa Marina!  Don’t miss the House Sessions this Saturday at Zensa Marina.  Enjoy an afternoon full of magic with the best electronic music.  Chus Ballesteros\, our resident DJ\, will create a unique atmosphere that will transport you to another level. We are waiting for you to live an unforgettable experience! 
URL:https://disfruta-denia.com/evento/house-sessions-en-zensa-marina-2-2-2-2-2-7/
LOCATION:Zensa Marina\, Calle Darsena de Babor\, s/n\, Denia\, Alicante\, 03700\, España
CATEGORIES:DJ,Música,Tardeo
ATTACH;FMTTYPE=image/jpeg:https://disfruta-denia.com/wp-content/uploads/2023/07/374771943_679870710841237_206657041054010037_n.jpg
END:VEVENT
BEGIN:VEVENT
DTSTART;TZID=Europe/Madrid:20230909T235900
DTEND;TZID=Europe/Madrid:20230909T235900
DTSTAMP:20260425T031149
CREATED:20230907T200208Z
LAST-MODIFIED:20230907T200209Z
UID:10004072-1694303940-1694303940@disfruta-denia.com
SUMMARY:Sábado de Dorian Gray
DESCRIPTION: BIENVENIDXS A LA VUELTA AL COLE \n VIERNES • 00’00h • NOCHE\n• Sala Dorian JUNTOS Y REVUELTOS  en directo #poprocknacional\n• Sala Gray BORJA CONESA  en cabina #urbanmusic \n SÁBADO • 00’00h • NOCHE\n• BORJA CONESA  en cabina #urbanmusic \nATENCIÓN QUE PASAMOS LISTA
URL:https://disfruta-denia.com/evento/sabado-de-dorian-gray-3-2-2-2-2-2-2-2-2/
LOCATION:Dorian Gray Denia\, Carrer de la Mar\, 14\, Denia\, Alicante\, 03700\, España
CATEGORIES:DJ,Música,Ocio nocturno
ATTACH;FMTTYPE=image/jpeg:https://disfruta-denia.com/wp-content/uploads/2023/08/376285762_764549292348113_3517530018275746335_n.jpg
END:VEVENT
BEGIN:VEVENT
DTSTART;TZID=Europe/Madrid:20230913T180000
DTEND;TZID=Europe/Madrid:20230913T180000
DTSTAMP:20260425T031149
CREATED:20230705T111531Z
LAST-MODIFIED:20230712T120513Z
UID:10012372-1694628000-1694628000@disfruta-denia.com
SUMMARY:La Chalada en La Mar Serena
DESCRIPTION:Miércoles porque quieres Vive un día increíble en Lamarserena con las canciones más top  \n @djpiqueras & @diondobbe\n Miércoles 05 de Julio\nA partir de ls 18:00h
URL:https://disfruta-denia.com/evento/la-chalada-en-la-mar-serena/2023-09-13/
LOCATION:La Mar Serena\, Moll de la Pansa s/n Edificio Marina el Portet\, Denia\, Alicante\, 03700\, España
CATEGORIES:DJ,Música,Tardeo
ATTACH;FMTTYPE=image/png:https://disfruta-denia.com/wp-content/uploads/2023/07/Instagram-4.png
END:VEVENT
BEGIN:VEVENT
DTSTART;TZID=Europe/Madrid:20230914T180000
DTEND;TZID=Europe/Madrid:20230914T180000
DTSTAMP:20260425T031149
CREATED:20230630T095255Z
LAST-MODIFIED:20230630T095255Z
UID:10012240-1694714400-1694714400@disfruta-denia.com
SUMMARY:Noches de Aruma en La Mar Serena
DESCRIPTION:Por fin llegan las noches de ARUMA by @marcels_music \nTodos los jueves en Lamarserena  \n @marcels_music & @miguellemadj \n  A partir de las 18:00h \n• Reservas para grupos 674 645 869
URL:https://disfruta-denia.com/evento/noches-de-aruma-en-la-mar-serena/2023-09-14/
LOCATION:La Mar Serena\, Moll de la Pansa s/n Edificio Marina el Portet\, Denia\, Alicante\, 03700\, España
CATEGORIES:DJ,Música,Tardeo
ATTACH;FMTTYPE=image/jpeg:https://disfruta-denia.com/wp-content/uploads/2023/06/356889599_654515610055691_2160824364104112719_n.jpg
END:VEVENT
BEGIN:VEVENT
DTSTART;TZID=Europe/Madrid:20230915T233000
DTEND;TZID=Europe/Madrid:20230915T233000
DTSTAMP:20260425T031149
CREATED:20230912T092012Z
LAST-MODIFIED:20230912T092012Z
UID:10013393-1694820600-1694820600@disfruta-denia.com
SUMMARY:Cachondeo Party
DESCRIPTION:C͓̽A͓̽C͓̽H͓̽O͓̽N͓̽D͓̽E͓̽O͓̽ ͓̽P͓̽A͓̽R͓̽T͓̽Y͓̽ SORTEO VIP\n–\n¡Este viernes toca mucho cachondeoooo!\n–\nVivirás un 𝗦𝗛𝗢𝗪 𝗧𝗢𝗧𝗔𝗟 con el 𝗗𝗷 𝗢𝗳𝗶𝗰𝗶𝗮𝗹 @javimengudj 𝘆 𝗲𝗹 𝗘𝗾𝘂𝗶𝗽𝗼 𝗱𝗲 𝗔𝗻𝗶𝗺𝗮𝗰𝗶ó𝗻 de 𝑪𝑨𝑪𝑯𝑶𝑵𝑫𝑬𝑶 𝑷𝑨𝑹𝑻𝒀 junto a nuestro residente @ivan_suel
URL:https://disfruta-denia.com/evento/cachondeo-party/
LOCATION:Condado Club\, Calle marques de campo\, 42 B\, Denia\, Alicante\, 03700\, España
CATEGORIES:DJ,Música,Ocio nocturno
ATTACH;FMTTYPE=image/jpeg:https://disfruta-denia.com/wp-content/uploads/2023/09/376289045_692850922871718_1963241635453462577_n-1.jpg
END:VEVENT
BEGIN:VEVENT
DTSTART;TZID=Europe/Madrid:20230915T235900
DTEND;TZID=Europe/Madrid:20230915T235900
DTSTAMP:20260425T031149
CREATED:20230914T073200Z
LAST-MODIFIED:20230914T073201Z
UID:10003812-1694822340-1694822340@disfruta-denia.com
SUMMARY:Viernes de Dorian Gray
DESCRIPTION:VIERNES • 00’00h • NOCHE\n• Sala Dorian SONAKAYS RUMBA  en directo #rumbaflamenco\n• Sala Gray BORJA CONESA  en cabina #urbanmusic \n SÁBADO • 18’30h• TARDEO\nRUMBADOS  en directo #rumbaflamenco \n SÁBADO • 00’00h • NOCHE\n•Sala Dorian PEP ORTOLÀ  en cabina #indiepoprock\n•Sala Gray BORJA CONESA  en cabina #urbanmusic \nNos avisan desde AEMET que se viene un huracán de musicón para el fin de semana\, coger las botas por lo que pueda pasar
URL:https://disfruta-denia.com/evento/viernes-de-dorian-gray-3-2-2-2-2-2-2-2/
LOCATION:Dorian Gray Denia\, Carrer de la Mar\, 14\, Denia\, Alicante\, 03700\, España
CATEGORIES:Concierto,DJ,Música,Ocio nocturno
ATTACH;FMTTYPE=image/jpeg:https://disfruta-denia.com/wp-content/uploads/2023/09/378897367_768709915265384_7880243079740165194_n.jpg
END:VEVENT
BEGIN:VEVENT
DTSTART;TZID=Europe/Madrid:20230916T130000
DTEND;TZID=Europe/Madrid:20230916T170000
DTSTAMP:20260425T031149
CREATED:20221129T083248Z
LAST-MODIFIED:20221129T083248Z
UID:10009486-1694869200-1694883600@disfruta-denia.com
SUMMARY:Loco Brunch en Botanic
DESCRIPTION:Esto si que no te lo esperabas..¡Nos encanta sorprenderte! ⁣\nLlega el LOCO BRUNCH a Botānic  Una experiencia gastronómica diferente y muuuy divertida ⁣\n⁣\nTodos los sábados de diciembre⁣\n A partir de las 13:00h⁣\nTardeo TOP con DJ Javi Mengu⁣\n\n⁣\n¿Te lo vas a perder?
URL:https://disfruta-denia.com/evento/loco-brunch-en-botanic/2023-09-16/
LOCATION:Botanic Denia\, C/ de la Mar 18\, Denia\, Alicante\, 03700\, España
CATEGORIES:DJ,Música,Tardeo
ATTACH;FMTTYPE=image/jpeg:https://disfruta-denia.com/wp-content/uploads/2022/11/316689250_195990046273019_8044592669097497158_n.jpg
END:VEVENT
BEGIN:VEVENT
DTSTART;TZID=Europe/Madrid:20230916T160000
DTEND;TZID=Europe/Madrid:20230916T160000
DTSTAMP:20260425T031149
CREATED:20230912T090957Z
LAST-MODIFIED:20230912T090958Z
UID:10012346-1694880000-1694880000@disfruta-denia.com
SUMMARY:House sessions en Zensa Marina
DESCRIPTION:te sábado\, fiesta y música se fusionan en Zensa Marina. Las  LaHouse Sessions te llevará a una tarde inolvidable en la que los ritmos electrónicos serán los protagonistas.  Chus Ballesteros DJ te hará bailar y disfrutar al máximo.  No te pierdas esta experiencia que promete ser única y emocionante. ¡Te esperamos!
URL:https://disfruta-denia.com/evento/house-sessions-en-zensa-marina-2-2-2-2-2-8/
LOCATION:Zensa Marina\, Calle Darsena de Babor\, s/n\, Denia\, Alicante\, 03700\, España
CATEGORIES:DJ,Música,Tardeo
ATTACH;FMTTYPE=image/jpeg:https://disfruta-denia.com/wp-content/uploads/2023/07/376797824_683586840469624_7987019423451360704_n.jpg
END:VEVENT
BEGIN:VEVENT
DTSTART;TZID=Europe/Madrid:20230916T235900
DTEND;TZID=Europe/Madrid:20230916T235900
DTSTAMP:20260425T031149
CREATED:20230914T073136Z
LAST-MODIFIED:20230914T073137Z
UID:10004073-1694908740-1694908740@disfruta-denia.com
SUMMARY:Sábado de Dorian Gray
DESCRIPTION:VIERNES • 00’00h • NOCHE\n• Sala Dorian SONAKAYS RUMBA  en directo #rumbaflamenco\n• Sala Gray BORJA CONESA  en cabina #urbanmusic \n SÁBADO • 18’30h• TARDEO\nRUMBADOS  en directo #rumbaflamenco \n SÁBADO • 00’00h • NOCHE\n•Sala Dorian PEP ORTOLÀ  en cabina #indiepoprock\n•Sala Gray BORJA CONESA  en cabina #urbanmusic \nNos avisan desde AEMET que se viene un huracán de musicón para el fin de semana\, coger las botas por lo que pueda pasar
URL:https://disfruta-denia.com/evento/sabado-de-dorian-gray-3-2-2-2-2-2-2-2-2-2/
LOCATION:Dorian Gray Denia\, Carrer de la Mar\, 14\, Denia\, Alicante\, 03700\, España
CATEGORIES:DJ,Música,Ocio nocturno
ATTACH;FMTTYPE=image/jpeg:https://disfruta-denia.com/wp-content/uploads/2023/09/378897367_768709915265384_7880243079740165194_n.jpg
END:VEVENT
BEGIN:VEVENT
DTSTART;TZID=Europe/Madrid:20230920T180000
DTEND;TZID=Europe/Madrid:20230920T180000
DTSTAMP:20260425T031149
CREATED:20230705T111531Z
LAST-MODIFIED:20230712T120513Z
UID:10012373-1695232800-1695232800@disfruta-denia.com
SUMMARY:La Chalada en La Mar Serena
DESCRIPTION:Miércoles porque quieres Vive un día increíble en Lamarserena con las canciones más top  \n @djpiqueras & @diondobbe\n Miércoles 05 de Julio\nA partir de ls 18:00h
URL:https://disfruta-denia.com/evento/la-chalada-en-la-mar-serena/2023-09-20/
LOCATION:La Mar Serena\, Moll de la Pansa s/n Edificio Marina el Portet\, Denia\, Alicante\, 03700\, España
CATEGORIES:DJ,Música,Tardeo
ATTACH;FMTTYPE=image/png:https://disfruta-denia.com/wp-content/uploads/2023/07/Instagram-4.png
END:VEVENT
BEGIN:VEVENT
DTSTART;TZID=Europe/Madrid:20230921T180000
DTEND;TZID=Europe/Madrid:20230921T180000
DTSTAMP:20260425T031149
CREATED:20230630T095255Z
LAST-MODIFIED:20230630T095255Z
UID:10012241-1695319200-1695319200@disfruta-denia.com
SUMMARY:Noches de Aruma en La Mar Serena
DESCRIPTION:Por fin llegan las noches de ARUMA by @marcels_music \nTodos los jueves en Lamarserena  \n @marcels_music & @miguellemadj \n  A partir de las 18:00h \n• Reservas para grupos 674 645 869
URL:https://disfruta-denia.com/evento/noches-de-aruma-en-la-mar-serena/2023-09-21/
LOCATION:La Mar Serena\, Moll de la Pansa s/n Edificio Marina el Portet\, Denia\, Alicante\, 03700\, España
CATEGORIES:DJ,Música,Tardeo
ATTACH;FMTTYPE=image/jpeg:https://disfruta-denia.com/wp-content/uploads/2023/06/356889599_654515610055691_2160824364104112719_n.jpg
END:VEVENT
BEGIN:VEVENT
DTSTART;TZID=Europe/Madrid:20230922T235900
DTEND;TZID=Europe/Madrid:20230922T235900
DTSTAMP:20260425T031149
CREATED:20230918T220412Z
LAST-MODIFIED:20230918T220413Z
UID:10003813-1695427140-1695427140@disfruta-denia.com
SUMMARY:Viernes de Dorian Gray
DESCRIPTION: CONCIERTO + AMIGXS + FIESTA = DORIAN GRAY \n JUEVES • 00’00h • NOCHE\n• JUNTOS Y REVUELTOS acústico  en directo #poprocknacional \n VIERNES • 00’00h • NOCHE\n• Sala Dorian CAPITAL 90 en directo #poprocknacional\n• Sala Gray IVAN REIG  en cabina #urbanmusic \n SÁBADO • 18’30h• TARDEO\nJ GARCÍA  en cabina #urbanmusic \n SÁBADO • 00’00h • NOCHE\n•Sala Dorian LA MOCHA  en directo #poprocknacional\n•Sala Gray TARON  en cabina #urbanmusic
URL:https://disfruta-denia.com/evento/viernes-de-dorian-gray-3-2-2-2-2-2-2-2-2/
LOCATION:Dorian Gray Denia\, Carrer de la Mar\, 14\, Denia\, Alicante\, 03700\, España
CATEGORIES:Concierto,DJ,Música,Ocio nocturno
ATTACH;FMTTYPE=image/jpeg:https://disfruta-denia.com/wp-content/uploads/2023/08/376274987_772037088266000_734026172635910174_n.jpg
END:VEVENT
BEGIN:VEVENT
DTSTART;TZID=Europe/Madrid:20230923T130000
DTEND;TZID=Europe/Madrid:20230923T170000
DTSTAMP:20260425T031149
CREATED:20221129T083248Z
LAST-MODIFIED:20221129T083248Z
UID:10009487-1695474000-1695488400@disfruta-denia.com
SUMMARY:Loco Brunch en Botanic
DESCRIPTION:Esto si que no te lo esperabas..¡Nos encanta sorprenderte! ⁣\nLlega el LOCO BRUNCH a Botānic  Una experiencia gastronómica diferente y muuuy divertida ⁣\n⁣\nTodos los sábados de diciembre⁣\n A partir de las 13:00h⁣\nTardeo TOP con DJ Javi Mengu⁣\n\n⁣\n¿Te lo vas a perder?
URL:https://disfruta-denia.com/evento/loco-brunch-en-botanic/2023-09-23/
LOCATION:Botanic Denia\, C/ de la Mar 18\, Denia\, Alicante\, 03700\, España
CATEGORIES:DJ,Música,Tardeo
ATTACH;FMTTYPE=image/jpeg:https://disfruta-denia.com/wp-content/uploads/2022/11/316689250_195990046273019_8044592669097497158_n.jpg
END:VEVENT
BEGIN:VEVENT
DTSTART;TZID=Europe/Madrid:20230923T160000
DTEND;TZID=Europe/Madrid:20230923T160000
DTSTAMP:20260425T031149
CREATED:20230708T100146Z
LAST-MODIFIED:20230708T100225Z
UID:10012347-1695484800-1695484800@disfruta-denia.com
SUMMARY:House sessions en Zensa Marina
DESCRIPTION:House Sessions  Este sábado te esperamos en Zensa Marina para disfrutar de una tarde llena de magia y la mejor música electrónica. Chus Ballesteros DJ y Marf Daniels serán los encargados de crear una atmósfera única con sus House Sessions. Te esperamos!\n————————-\nHouse Sessions  This Saturday we are waiting for you at Zensa Marina to enjoy an evening full of magic and the best electronic music. Chus Ballesteros DJ and Marf Daniels will be in charge of creating a unique atmosphere with their House Sessions. We are waiting for you!
URL:https://disfruta-denia.com/evento/house-sessions-en-zensa-marina-2-2-2-2-2/2023-09-23/
LOCATION:Zensa Marina\, Calle Darsena de Babor\, s/n\, Denia\, Alicante\, 03700\, España
CATEGORIES:DJ,Música,Tardeo
ATTACH;FMTTYPE=image/jpeg:https://disfruta-denia.com/wp-content/uploads/2023/07/357057098_642639027897739_1958648524832127602_n.jpg
END:VEVENT
BEGIN:VEVENT
DTSTART;TZID=Europe/Madrid:20230923T235900
DTEND;TZID=Europe/Madrid:20230923T235900
DTSTAMP:20260425T031149
CREATED:20230918T220806Z
LAST-MODIFIED:20230918T220807Z
UID:10004074-1695513540-1695513540@disfruta-denia.com
SUMMARY:Sábado de Dorian Gray
DESCRIPTION: CONCIERTO + AMIGXS + FIESTA = DORIAN GRAY \n JUEVES • 00’00h • NOCHE\n• JUNTOS Y REVUELTOS acústico  en directo #poprocknacional \n VIERNES • 00’00h • NOCHE\n• Sala Dorian CAPITAL 90 en directo #poprocknacional\n• Sala Gray IVAN REIG  en cabina #urbanmusic \n SÁBADO • 18’30h• TARDEO\nJ GARCÍA  en cabina #urbanmusic \n SÁBADO • 00’00h • NOCHE\n•Sala Dorian LA MOCHA  en directo #poprocknacional\n•Sala Gray TARON  en cabina #urbanmusic
URL:https://disfruta-denia.com/evento/sabado-de-dorian-gray-3-2-2-2-2-2-2-2-2-2-2/
LOCATION:Dorian Gray Denia\, Carrer de la Mar\, 14\, Denia\, Alicante\, 03700\, España
CATEGORIES:DJ,Música,Ocio nocturno
ATTACH;FMTTYPE=image/jpeg:https://disfruta-denia.com/wp-content/uploads/2023/08/376274987_772037088266000_734026172635910174_n.jpg
END:VEVENT
BEGIN:VEVENT
DTSTART;TZID=Europe/Madrid:20230928T180000
DTEND;TZID=Europe/Madrid:20230928T180000
DTSTAMP:20260425T031149
CREATED:20230630T095255Z
LAST-MODIFIED:20230630T095255Z
UID:10012242-1695924000-1695924000@disfruta-denia.com
SUMMARY:Noches de Aruma en La Mar Serena
DESCRIPTION:Por fin llegan las noches de ARUMA by @marcels_music \nTodos los jueves en Lamarserena  \n @marcels_music & @miguellemadj \n  A partir de las 18:00h \n• Reservas para grupos 674 645 869
URL:https://disfruta-denia.com/evento/noches-de-aruma-en-la-mar-serena/2023-09-28/
LOCATION:La Mar Serena\, Moll de la Pansa s/n Edificio Marina el Portet\, Denia\, Alicante\, 03700\, España
CATEGORIES:DJ,Música,Tardeo
ATTACH;FMTTYPE=image/jpeg:https://disfruta-denia.com/wp-content/uploads/2023/06/356889599_654515610055691_2160824364104112719_n.jpg
END:VEVENT
BEGIN:VEVENT
DTSTART;TZID=Europe/Madrid:20230929T235900
DTEND;TZID=Europe/Madrid:20230929T235900
DTSTAMP:20260425T031149
CREATED:20230925T131423Z
LAST-MODIFIED:20230925T131424Z
UID:10003814-1696031940-1696031940@disfruta-denia.com
SUMMARY:Viernes de Dorian Gray
DESCRIPTION:ADIÓS SEPTIEMBRE HOLA OCTUBRE! \n JUEVES • 00’00h • NOCHE\n• JUNTOS Y REVUELTOS acústico  en directo #poprocknacional \n VIERNES • 00’00h • NOCHE\n• Sala Dorian CAPITAL 90 en directo #poprocknacional\n• Sala Gray J GARCIA  en cabina #urbanmusic \n SÁBADO • 18’30h• TARDEO\nSUITE RUMBA  en directo #rumbapop \n SÁBADO • 00’00h • NOCHE\n•Sala Dorian LA MOCHA  en directo #poprocknacional\n•Sala Gray DION DOBBE  en cabina #urbanmusic \n DOMINGO • 18’30h• TARDEO\nRUMBADOS  en directo #rumbaflamenco \nEste fin de semana despedimos septiembre e inauguramos los tardeos de domingo
URL:https://disfruta-denia.com/evento/viernes-de-dorian-gray-3-2-2-2-2-2-2-2-2-2/2023-09-29/
LOCATION:Dorian Gray Denia\, Carrer de la Mar\, 14\, Denia\, Alicante\, 03700\, España
CATEGORIES:Concierto,DJ,Música,Ocio nocturno
ATTACH;FMTTYPE=image/jpeg:https://disfruta-denia.com/wp-content/uploads/2023/09/382366974_776655097804199_7031844090135420523_n.jpg
END:VEVENT
BEGIN:VEVENT
DTSTART;TZID=Europe/Madrid:20230930T130000
DTEND;TZID=Europe/Madrid:20230930T170000
DTSTAMP:20260425T031149
CREATED:20221129T083248Z
LAST-MODIFIED:20221129T083248Z
UID:10009488-1696078800-1696093200@disfruta-denia.com
SUMMARY:Loco Brunch en Botanic
DESCRIPTION:Esto si que no te lo esperabas..¡Nos encanta sorprenderte! ⁣\nLlega el LOCO BRUNCH a Botānic  Una experiencia gastronómica diferente y muuuy divertida ⁣\n⁣\nTodos los sábados de diciembre⁣\n A partir de las 13:00h⁣\nTardeo TOP con DJ Javi Mengu⁣\n\n⁣\n¿Te lo vas a perder?
URL:https://disfruta-denia.com/evento/loco-brunch-en-botanic/2023-09-30/
LOCATION:Botanic Denia\, C/ de la Mar 18\, Denia\, Alicante\, 03700\, España
CATEGORIES:DJ,Música,Tardeo
ATTACH;FMTTYPE=image/jpeg:https://disfruta-denia.com/wp-content/uploads/2022/11/316689250_195990046273019_8044592669097497158_n.jpg
END:VEVENT
BEGIN:VEVENT
DTSTART;TZID=Europe/Madrid:20230930T190000
DTEND;TZID=Europe/Madrid:20230930T190000
DTSTAMP:20260425T031149
CREATED:20230925T075438Z
LAST-MODIFIED:20230925T075438Z
UID:10013714-1696100400-1696100400@disfruta-denia.com
SUMMARY:Cata de vinos + DJ
DESCRIPTION:Sábado 30 de septiembre desde las 7 pm\nWINE TASTING con DJ …. reserva su mesa!
URL:https://disfruta-denia.com/evento/cata-de-vinos-dj/
LOCATION:Food & lounge Bar\, Dársena de Babor s/n\, Denia\, Alicante\, 03700\, España
CATEGORIES:Cata,DJ,Gastronomía,Música
ATTACH;FMTTYPE=image/jpeg:https://disfruta-denia.com/wp-content/uploads/2023/09/382241105_18002711714044690_6848599242614437988_n-1.jpg
END:VEVENT
BEGIN:VEVENT
DTSTART;TZID=Europe/Madrid:20230930T235900
DTEND;TZID=Europe/Madrid:20230930T235900
DTSTAMP:20260425T031149
CREATED:20230925T131607Z
LAST-MODIFIED:20230925T131608Z
UID:10004075-1696118340-1696118340@disfruta-denia.com
SUMMARY:Sábado de Dorian Gray
DESCRIPTION:ADIÓS SEPTIEMBRE HOLA OCTUBRE! \n JUEVES • 00’00h • NOCHE\n• JUNTOS Y REVUELTOS acústico  en directo #poprocknacional \n VIERNES • 00’00h • NOCHE\n• Sala Dorian CAPITAL 90 en directo #poprocknacional\n• Sala Gray J GARCIA  en cabina #urbanmusic \n SÁBADO • 18’30h• TARDEO\nSUITE RUMBA  en directo #rumbapop \n SÁBADO • 00’00h • NOCHE\n•Sala Dorian LA MOCHA  en directo #poprocknacional\n•Sala Gray DION DOBBE  en cabina #urbanmusic \n DOMINGO • 18’30h• TARDEO\nRUMBADOS  en directo #rumbaflamenco \nEste fin de semana despedimos septiembre e inauguramos los tardeos de domingo
URL:https://disfruta-denia.com/evento/sabado-de-dorian-gray-3-2-2-2-2-2-2-2-2-2-2-2/2023-09-30/
LOCATION:Dorian Gray Denia\, Carrer de la Mar\, 14\, Denia\, Alicante\, 03700\, España
CATEGORIES:DJ,Música,Ocio nocturno
ATTACH;FMTTYPE=image/jpeg:https://disfruta-denia.com/wp-content/uploads/2023/09/382366974_776655097804199_7031844090135420523_n.jpg
END:VEVENT
END:VCALENDAR