BEGIN:VCALENDAR
VERSION:2.0
PRODID:-//Disfruta Denia - ECPv6.15.20//NONSGML v1.0//EN
CALSCALE:GREGORIAN
METHOD:PUBLISH
X-WR-CALNAME:Disfruta Denia
X-ORIGINAL-URL:https://disfruta-denia.com
X-WR-CALDESC:Eventos para Disfruta Denia
REFRESH-INTERVAL;VALUE=DURATION:PT1H
X-Robots-Tag:noindex
X-PUBLISHED-TTL:PT1H
BEGIN:VTIMEZONE
TZID:Europe/Madrid
BEGIN:DAYLIGHT
TZOFFSETFROM:+0100
TZOFFSETTO:+0200
TZNAME:CEST
DTSTART:20220327T010000
END:DAYLIGHT
BEGIN:STANDARD
TZOFFSETFROM:+0200
TZOFFSETTO:+0100
TZNAME:CET
DTSTART:20221030T010000
END:STANDARD
BEGIN:DAYLIGHT
TZOFFSETFROM:+0100
TZOFFSETTO:+0200
TZNAME:CEST
DTSTART:20230326T010000
END:DAYLIGHT
BEGIN:STANDARD
TZOFFSETFROM:+0200
TZOFFSETTO:+0100
TZNAME:CET
DTSTART:20231029T010000
END:STANDARD
BEGIN:DAYLIGHT
TZOFFSETFROM:+0100
TZOFFSETTO:+0200
TZNAME:CEST
DTSTART:20240331T010000
END:DAYLIGHT
BEGIN:STANDARD
TZOFFSETFROM:+0200
TZOFFSETTO:+0100
TZNAME:CET
DTSTART:20241027T010000
END:STANDARD
END:VTIMEZONE
BEGIN:VEVENT
DTSTART;TZID=Europe/Madrid:20231005T180000
DTEND;TZID=Europe/Madrid:20231005T180000
DTSTAMP:20260425T012057
CREATED:20230630T095255Z
LAST-MODIFIED:20230630T095255Z
UID:10012243-1696528800-1696528800@disfruta-denia.com
SUMMARY:Noches de Aruma en La Mar Serena
DESCRIPTION:Por fin llegan las noches de ARUMA by @marcels_music \nTodos los jueves en Lamarserena  \n @marcels_music & @miguellemadj \n  A partir de las 18:00h \n• Reservas para grupos 674 645 869
URL:https://disfruta-denia.com/evento/noches-de-aruma-en-la-mar-serena/2023-10-05/
LOCATION:La Mar Serena\, Moll de la Pansa s/n Edificio Marina el Portet\, Denia\, Alicante\, 03700\, España
CATEGORIES:DJ,Música,Tardeo
ATTACH;FMTTYPE=image/jpeg:https://disfruta-denia.com/wp-content/uploads/2023/06/356889599_654515610055691_2160824364104112719_n.jpg
END:VEVENT
BEGIN:VEVENT
DTSTART;TZID=Europe/Madrid:20231006T235900
DTEND;TZID=Europe/Madrid:20231006T235900
DTSTAMP:20260425T012057
CREATED:20230925T131423Z
LAST-MODIFIED:20230925T131424Z
UID:10003815-1696636740-1696636740@disfruta-denia.com
SUMMARY:Viernes de Dorian Gray
DESCRIPTION:ADIÓS SEPTIEMBRE HOLA OCTUBRE! \n JUEVES • 00’00h • NOCHE\n• JUNTOS Y REVUELTOS acústico  en directo #poprocknacional \n VIERNES • 00’00h • NOCHE\n• Sala Dorian CAPITAL 90 en directo #poprocknacional\n• Sala Gray J GARCIA  en cabina #urbanmusic \n SÁBADO • 18’30h• TARDEO\nSUITE RUMBA  en directo #rumbapop \n SÁBADO • 00’00h • NOCHE\n•Sala Dorian LA MOCHA  en directo #poprocknacional\n•Sala Gray DION DOBBE  en cabina #urbanmusic \n DOMINGO • 18’30h• TARDEO\nRUMBADOS  en directo #rumbaflamenco \nEste fin de semana despedimos septiembre e inauguramos los tardeos de domingo
URL:https://disfruta-denia.com/evento/viernes-de-dorian-gray-3-2-2-2-2-2-2-2-2-2/2023-10-06/
LOCATION:Dorian Gray Denia\, Carrer de la Mar\, 14\, Denia\, Alicante\, 03700\, España
CATEGORIES:Concierto,DJ,Música,Ocio nocturno
ATTACH;FMTTYPE=image/jpeg:https://disfruta-denia.com/wp-content/uploads/2023/09/382366974_776655097804199_7031844090135420523_n.jpg
END:VEVENT
BEGIN:VEVENT
DTSTART;TZID=Europe/Madrid:20231007T130000
DTEND;TZID=Europe/Madrid:20231007T170000
DTSTAMP:20260425T012057
CREATED:20221129T083248Z
LAST-MODIFIED:20221129T083248Z
UID:10009489-1696683600-1696698000@disfruta-denia.com
SUMMARY:Loco Brunch en Botanic
DESCRIPTION:Esto si que no te lo esperabas..¡Nos encanta sorprenderte! ⁣\nLlega el LOCO BRUNCH a Botānic  Una experiencia gastronómica diferente y muuuy divertida ⁣\n⁣\nTodos los sábados de diciembre⁣\n A partir de las 13:00h⁣\nTardeo TOP con DJ Javi Mengu⁣\n\n⁣\n¿Te lo vas a perder?
URL:https://disfruta-denia.com/evento/loco-brunch-en-botanic/2023-10-07/
LOCATION:Botanic Denia\, C/ de la Mar 18\, Denia\, Alicante\, 03700\, España
CATEGORIES:DJ,Música,Tardeo
ATTACH;FMTTYPE=image/jpeg:https://disfruta-denia.com/wp-content/uploads/2022/11/316689250_195990046273019_8044592669097497158_n.jpg
END:VEVENT
BEGIN:VEVENT
DTSTART;TZID=Europe/Madrid:20231007T235900
DTEND;TZID=Europe/Madrid:20231007T235900
DTSTAMP:20260425T012057
CREATED:20230925T131607Z
LAST-MODIFIED:20230925T131608Z
UID:10004076-1696723140-1696723140@disfruta-denia.com
SUMMARY:Sábado de Dorian Gray
DESCRIPTION:ADIÓS SEPTIEMBRE HOLA OCTUBRE! \n JUEVES • 00’00h • NOCHE\n• JUNTOS Y REVUELTOS acústico  en directo #poprocknacional \n VIERNES • 00’00h • NOCHE\n• Sala Dorian CAPITAL 90 en directo #poprocknacional\n• Sala Gray J GARCIA  en cabina #urbanmusic \n SÁBADO • 18’30h• TARDEO\nSUITE RUMBA  en directo #rumbapop \n SÁBADO • 00’00h • NOCHE\n•Sala Dorian LA MOCHA  en directo #poprocknacional\n•Sala Gray DION DOBBE  en cabina #urbanmusic \n DOMINGO • 18’30h• TARDEO\nRUMBADOS  en directo #rumbaflamenco \nEste fin de semana despedimos septiembre e inauguramos los tardeos de domingo
URL:https://disfruta-denia.com/evento/sabado-de-dorian-gray-3-2-2-2-2-2-2-2-2-2-2-2/2023-10-07/
LOCATION:Dorian Gray Denia\, Carrer de la Mar\, 14\, Denia\, Alicante\, 03700\, España
CATEGORIES:DJ,Música,Ocio nocturno
ATTACH;FMTTYPE=image/jpeg:https://disfruta-denia.com/wp-content/uploads/2023/09/382366974_776655097804199_7031844090135420523_n.jpg
END:VEVENT
BEGIN:VEVENT
DTSTART;TZID=Europe/Madrid:20231008T233000
DTEND;TZID=Europe/Madrid:20231008T233000
DTSTAMP:20260425T012057
CREATED:20231006T132000Z
LAST-MODIFIED:20231006T132000Z
UID:10014635-1696807800-1696807800@disfruta-denia.com
SUMMARY:Old School Reggaeton
DESCRIPTION:𝐎𝐋𝐃 𝐒𝐂𝐇𝐎𝐎𝐋 𝐑𝐄𝐆𝐆𝐀𝐄𝐓𝐎𝐍 \n– Este Domingo 8 de octubre te la vas a GOZAR con la nuestra Old School!!\n–\n En Cabina: @miguelpieradj & @ivan_suel \n–\n ENTRADA ᴇɴ “Lɪsᴛᴀ”:\n–\n• 10€ con copa o 2 refrescos antes de la 1am.\n–\n• 12€ con Copa o dos refrescos después de la 1am.\n–\nENTRADA LIBRE ANTES DE LA 1am con tu pulsera de @cantallarina del Domingo ¿Qué más quiereees?\n–\n𝙈𝙚𝙨𝙖𝙨 & 𝙑𝙄𝙋 \n*𝑃𝑟𝑒𝑐𝑖𝑜𝑠 𝑐𝑜𝑛 𝑅𝑒𝑠𝑒𝑟𝑣𝑎.\n–\n• 𝗩𝗜𝗣 #Escenario: 150€\n*𝘐𝘯𝘤𝘭𝘶𝘺𝘦 𝘣𝘰𝘵𝘦𝘭𝘭𝘢 + 12 𝘳𝘦𝘧𝘳𝘦𝘴𝘤𝘰𝘴 + 𝘢𝘤𝘤𝘦𝘴𝘰 6 𝘱𝘦𝘳𝘴𝘰𝘯𝘢𝘴.\n–\n• 𝗩𝗜𝗣 #Palco: 120€\n*𝘐𝘯𝘤𝘭𝘶𝘺𝘦 𝘣𝘰𝘵𝘦𝘭𝘭𝘢 + 12 𝘳𝘦𝘧𝘳𝘦𝘴𝘤𝘰𝘴 + 𝘢𝘤𝘤𝘦𝘴𝘰 6 𝘱𝘦𝘳𝘴𝘰𝘯𝘢𝘴.\n–\nDe 23:30 a 5:30h
URL:https://disfruta-denia.com/evento/old-school-reggaeton/
LOCATION:Condado Club\, Calle marques de campo\, 42 B\, Denia\, Alicante\, 03700\, España
CATEGORIES:DJ,Música,Ocio nocturno
ATTACH;FMTTYPE=image/jpeg:https://disfruta-denia.com/wp-content/uploads/2023/10/385813314_18372727333065938_8493484665834105011_n.jpg
END:VEVENT
BEGIN:VEVENT
DTSTART;TZID=Europe/Madrid:20231011T233000
DTEND;TZID=Europe/Madrid:20231011T233000
DTSTAMP:20260425T012057
CREATED:20231011T100231Z
LAST-MODIFIED:20231011T100231Z
UID:10014682-1697067000-1697067000@disfruta-denia.com
SUMMARY:Miércoles en Dorian
DESCRIPTION:ARRANCAMOS PUENTE! \n MIÉRCOLES • 00’00h • NOCHE\n•Sala Dorian SUITE RUMBA en directo #poprockrumbero\n•Sala Gray BORJA CONESA  en cabina #urbanmusic \n JUEVES • 18’30h • TARDEO\nSONAKAYS  en directo #rumbaflamenco \n JUEVES • 00’00h • NOCHE\nJUNTOS Y REVUELTOS  en directo #poprockindie
URL:https://disfruta-denia.com/evento/miercoles-en-dorian/
LOCATION:Dorian Gray Denia\, Carrer de la Mar\, 14\, Denia\, Alicante\, 03700\, España
CATEGORIES:DJ,Música,Ocio nocturno
ATTACH;FMTTYPE=image/jpeg:https://disfruta-denia.com/wp-content/uploads/2023/09/391604515_18373943950071140_832327810297123109_n.jpg
END:VEVENT
BEGIN:VEVENT
DTSTART;TZID=Europe/Madrid:20231012T180000
DTEND;TZID=Europe/Madrid:20231012T180000
DTSTAMP:20260425T012057
CREATED:20230630T095255Z
LAST-MODIFIED:20230630T095255Z
UID:10012244-1697133600-1697133600@disfruta-denia.com
SUMMARY:Noches de Aruma en La Mar Serena
DESCRIPTION:Por fin llegan las noches de ARUMA by @marcels_music \nTodos los jueves en Lamarserena  \n @marcels_music & @miguellemadj \n  A partir de las 18:00h \n• Reservas para grupos 674 645 869
URL:https://disfruta-denia.com/evento/noches-de-aruma-en-la-mar-serena/2023-10-12/
LOCATION:La Mar Serena\, Moll de la Pansa s/n Edificio Marina el Portet\, Denia\, Alicante\, 03700\, España
CATEGORIES:DJ,Música,Tardeo
ATTACH;FMTTYPE=image/jpeg:https://disfruta-denia.com/wp-content/uploads/2023/06/356889599_654515610055691_2160824364104112719_n.jpg
END:VEVENT
BEGIN:VEVENT
DTSTART;TZID=Europe/Madrid:20231013T235900
DTEND;TZID=Europe/Madrid:20231013T235900
DTSTAMP:20260425T012057
CREATED:20230925T131423Z
LAST-MODIFIED:20230925T131424Z
UID:10003816-1697241540-1697241540@disfruta-denia.com
SUMMARY:Viernes de Dorian Gray
DESCRIPTION:ADIÓS SEPTIEMBRE HOLA OCTUBRE! \n JUEVES • 00’00h • NOCHE\n• JUNTOS Y REVUELTOS acústico  en directo #poprocknacional \n VIERNES • 00’00h • NOCHE\n• Sala Dorian CAPITAL 90 en directo #poprocknacional\n• Sala Gray J GARCIA  en cabina #urbanmusic \n SÁBADO • 18’30h• TARDEO\nSUITE RUMBA  en directo #rumbapop \n SÁBADO • 00’00h • NOCHE\n•Sala Dorian LA MOCHA  en directo #poprocknacional\n•Sala Gray DION DOBBE  en cabina #urbanmusic \n DOMINGO • 18’30h• TARDEO\nRUMBADOS  en directo #rumbaflamenco \nEste fin de semana despedimos septiembre e inauguramos los tardeos de domingo
URL:https://disfruta-denia.com/evento/viernes-de-dorian-gray-3-2-2-2-2-2-2-2-2-2/2023-10-13/
LOCATION:Dorian Gray Denia\, Carrer de la Mar\, 14\, Denia\, Alicante\, 03700\, España
CATEGORIES:Concierto,DJ,Música,Ocio nocturno
ATTACH;FMTTYPE=image/jpeg:https://disfruta-denia.com/wp-content/uploads/2023/09/382366974_776655097804199_7031844090135420523_n.jpg
END:VEVENT
BEGIN:VEVENT
DTSTART;TZID=Europe/Madrid:20231014T080000
DTEND;TZID=Europe/Madrid:20231014T170000
DTSTAMP:20260425T012057
CREATED:20231014T072512Z
LAST-MODIFIED:20231014T072801Z
UID:10014691-1697270400-1697302800@disfruta-denia.com
SUMMARY:Concierto Oktoberfest: Hiisteria
DESCRIPTION:Concierto Oktoberfest: Hiisteria
URL:https://disfruta-denia.com/evento/concierto-oktoberfest-hiisteria/
LOCATION:Recinto El Prado\, Carrer Dr. Barraquer\, 19\, Ondara\, 03760\, España
CATEGORIES:Concierto,DJ,Música
ATTACH;FMTTYPE=image/jpeg:https://disfruta-denia.com/wp-content/uploads/2023/10/image2.jpeg
END:VEVENT
BEGIN:VEVENT
DTSTART;TZID=Europe/Madrid:20231014T130000
DTEND;TZID=Europe/Madrid:20231014T170000
DTSTAMP:20260425T012057
CREATED:20221129T083248Z
LAST-MODIFIED:20221129T083248Z
UID:10009490-1697288400-1697302800@disfruta-denia.com
SUMMARY:Loco Brunch en Botanic
DESCRIPTION:Esto si que no te lo esperabas..¡Nos encanta sorprenderte! ⁣\nLlega el LOCO BRUNCH a Botānic  Una experiencia gastronómica diferente y muuuy divertida ⁣\n⁣\nTodos los sábados de diciembre⁣\n A partir de las 13:00h⁣\nTardeo TOP con DJ Javi Mengu⁣\n\n⁣\n¿Te lo vas a perder?
URL:https://disfruta-denia.com/evento/loco-brunch-en-botanic/2023-10-14/
LOCATION:Botanic Denia\, C/ de la Mar 18\, Denia\, Alicante\, 03700\, España
CATEGORIES:DJ,Música,Tardeo
ATTACH;FMTTYPE=image/jpeg:https://disfruta-denia.com/wp-content/uploads/2022/11/316689250_195990046273019_8044592669097497158_n.jpg
END:VEVENT
BEGIN:VEVENT
DTSTART;TZID=Europe/Madrid:20231014T180000
DTEND;TZID=Europe/Madrid:20231014T180000
DTSTAMP:20260425T012057
CREATED:20231012T100450Z
LAST-MODIFIED:20231012T145256Z
UID:10014685-1697306400-1697306400@disfruta-denia.com
SUMMARY:Closing party La Mar Serena
DESCRIPTION:nuestra temporada llega a su fin y por todo lo alto 🤍\nGracias por tantos momentos increíbles juntos en el paraíso ✨ \n🎧 Cerramos una temporada como toca\, con buena música y buena gente\, disfruta de @100x100remember_denia con @josetur71 @iamraulandrade @pepnacho & @miguellemadj en cabina 🎧 \n▶ Sábado 14 Octubre
URL:https://disfruta-denia.com/evento/closing-party-la-mar-serena/
LOCATION:La Mar Serena\, Moll de la Pansa s/n Edificio Marina el Portet\, Denia\, Alicante\, 03700\, España
CATEGORIES:DJ,Música,Ocio nocturno,Tardeo
ATTACH;FMTTYPE=image/png:https://disfruta-denia.com/wp-content/uploads/2023/10/Lamarserena-lamarserena-denia-•-Photos-et-videos-Instagram.png
END:VEVENT
BEGIN:VEVENT
DTSTART;TZID=Europe/Madrid:20231014T193000
DTEND;TZID=Europe/Madrid:20231014T193000
DTSTAMP:20260425T012057
CREATED:20231004T133758Z
LAST-MODIFIED:20231004T133758Z
UID:10014035-1697311800-1697311800@disfruta-denia.com
SUMMARY:Oktoberfest en The Cut
DESCRIPTION:Oktoberfest en The Cut
URL:https://disfruta-denia.com/evento/oktoberfest-en-the-cut/
LOCATION:The Cut Steackhouse\, Deportivo de la marina Ed. D1\, Dénia\, 03700\, España
CATEGORIES:Concierto,DJ,Fiesta,Música
ATTACH;FMTTYPE=image/jpeg:https://disfruta-denia.com/wp-content/uploads/2023/10/385065426_7117969638222723_6844677662117973764_n.jpg
END:VEVENT
BEGIN:VEVENT
DTSTART;TZID=Europe/Madrid:20231014T235900
DTEND;TZID=Europe/Madrid:20231014T235900
DTSTAMP:20260425T012057
CREATED:20230925T131607Z
LAST-MODIFIED:20230925T131608Z
UID:10004077-1697327940-1697327940@disfruta-denia.com
SUMMARY:Sábado de Dorian Gray
DESCRIPTION:ADIÓS SEPTIEMBRE HOLA OCTUBRE! \n JUEVES • 00’00h • NOCHE\n• JUNTOS Y REVUELTOS acústico  en directo #poprocknacional \n VIERNES • 00’00h • NOCHE\n• Sala Dorian CAPITAL 90 en directo #poprocknacional\n• Sala Gray J GARCIA  en cabina #urbanmusic \n SÁBADO • 18’30h• TARDEO\nSUITE RUMBA  en directo #rumbapop \n SÁBADO • 00’00h • NOCHE\n•Sala Dorian LA MOCHA  en directo #poprocknacional\n•Sala Gray DION DOBBE  en cabina #urbanmusic \n DOMINGO • 18’30h• TARDEO\nRUMBADOS  en directo #rumbaflamenco \nEste fin de semana despedimos septiembre e inauguramos los tardeos de domingo
URL:https://disfruta-denia.com/evento/sabado-de-dorian-gray-3-2-2-2-2-2-2-2-2-2-2-2/2023-10-14/
LOCATION:Dorian Gray Denia\, Carrer de la Mar\, 14\, Denia\, Alicante\, 03700\, España
CATEGORIES:DJ,Música,Ocio nocturno
ATTACH;FMTTYPE=image/jpeg:https://disfruta-denia.com/wp-content/uploads/2023/09/382366974_776655097804199_7031844090135420523_n.jpg
END:VEVENT
BEGIN:VEVENT
DTSTART;TZID=Europe/Madrid:20231020T235900
DTEND;TZID=Europe/Madrid:20231020T235900
DTSTAMP:20260425T012057
CREATED:20230925T131423Z
LAST-MODIFIED:20230925T131424Z
UID:10003817-1697846340-1697846340@disfruta-denia.com
SUMMARY:Viernes de Dorian Gray
DESCRIPTION:ADIÓS SEPTIEMBRE HOLA OCTUBRE! \n JUEVES • 00’00h • NOCHE\n• JUNTOS Y REVUELTOS acústico  en directo #poprocknacional \n VIERNES • 00’00h • NOCHE\n• Sala Dorian CAPITAL 90 en directo #poprocknacional\n• Sala Gray J GARCIA  en cabina #urbanmusic \n SÁBADO • 18’30h• TARDEO\nSUITE RUMBA  en directo #rumbapop \n SÁBADO • 00’00h • NOCHE\n•Sala Dorian LA MOCHA  en directo #poprocknacional\n•Sala Gray DION DOBBE  en cabina #urbanmusic \n DOMINGO • 18’30h• TARDEO\nRUMBADOS  en directo #rumbaflamenco \nEste fin de semana despedimos septiembre e inauguramos los tardeos de domingo
URL:https://disfruta-denia.com/evento/viernes-de-dorian-gray-3-2-2-2-2-2-2-2-2-2/2023-10-20/
LOCATION:Dorian Gray Denia\, Carrer de la Mar\, 14\, Denia\, Alicante\, 03700\, España
CATEGORIES:Concierto,DJ,Música,Ocio nocturno
ATTACH;FMTTYPE=image/jpeg:https://disfruta-denia.com/wp-content/uploads/2023/09/382366974_776655097804199_7031844090135420523_n.jpg
END:VEVENT
BEGIN:VEVENT
DTSTART;TZID=Europe/Madrid:20231021T130000
DTEND;TZID=Europe/Madrid:20231021T170000
DTSTAMP:20260425T012057
CREATED:20221129T083248Z
LAST-MODIFIED:20221129T083248Z
UID:10009491-1697893200-1697907600@disfruta-denia.com
SUMMARY:Loco Brunch en Botanic
DESCRIPTION:Esto si que no te lo esperabas..¡Nos encanta sorprenderte! ⁣\nLlega el LOCO BRUNCH a Botānic  Una experiencia gastronómica diferente y muuuy divertida ⁣\n⁣\nTodos los sábados de diciembre⁣\n A partir de las 13:00h⁣\nTardeo TOP con DJ Javi Mengu⁣\n\n⁣\n¿Te lo vas a perder?
URL:https://disfruta-denia.com/evento/loco-brunch-en-botanic/2023-10-21/
LOCATION:Botanic Denia\, C/ de la Mar 18\, Denia\, Alicante\, 03700\, España
CATEGORIES:DJ,Música,Tardeo
ATTACH;FMTTYPE=image/jpeg:https://disfruta-denia.com/wp-content/uploads/2022/11/316689250_195990046273019_8044592669097497158_n.jpg
END:VEVENT
BEGIN:VEVENT
DTSTART;TZID=Europe/Madrid:20231021T235900
DTEND;TZID=Europe/Madrid:20231021T235900
DTSTAMP:20260425T012057
CREATED:20231020T163925Z
LAST-MODIFIED:20231020T163926Z
UID:10004078-1697932740-1697932740@disfruta-denia.com
SUMMARY:Sábado de Dorian Gray
DESCRIPTION:TODO LO QUE IMPORTA ESTÁ EN EL DORIAN! \n JUEVES • 00’00h • NOCHE\nJUNTOS Y REVUELTOS  en directo #poprocknacional \nVIERNES • 00’00h • NOCHE\n•Sala Dorian SUITE RUMBA  en directo #rumbapopcanalla\n•Sala Gray BORJA CONESA  en cabina #urbanmusic \n SÁBADO • 18’30h • TARDEO\n•Sala Dorian NAUFRAGOS  en directo #poprocknacional\n•Sala Gray ESSENZA  #housemusic \nSÁBADO • 00’00h • NOCHE\n•Sala Dorian CAPITAL 90  en directo #poprocknacional\n•Sala Gray BORJA CONESA  en cabina #urbanmusic \n DOMINGO • 18’30h • TARDEO\nRUMBADOS  en directo #rumbaflamenco
URL:https://disfruta-denia.com/evento/sabado-de-dorian-gray-3-2-2-2-2-2-2-2-2-2-2-2-2/
LOCATION:Dorian Gray Denia\, Carrer de la Mar\, 14\, Denia\, Alicante\, 03700\, España
CATEGORIES:DJ,Música,Ocio nocturno
ATTACH;FMTTYPE=image/jpeg:https://disfruta-denia.com/wp-content/uploads/2023/10/391597119_18374857627071140_8507453182108510742_n.jpg
END:VEVENT
BEGIN:VEVENT
DTSTART;TZID=Europe/Madrid:20231027T235900
DTEND;TZID=Europe/Madrid:20231027T235900
DTSTAMP:20260425T012057
CREATED:20231024T073804Z
LAST-MODIFIED:20231024T073805Z
UID:10003818-1698451140-1698451140@disfruta-denia.com
SUMMARY:Viernes de Dorian Gray
DESCRIPTION: JUEVES • 00’00h • NOCHE\nJUNTOS Y REVUELTOS  en directo #poprocknacional \nVIERNES • 00’00h • NOCHE\n•Sala Dorian LA MOCHA  en directo #poprocknacional \n•Sala Gray BORJA CONESA  en cabina #urbanmusic \n SÁBADO • 18’00h • TARDEO\n•Sala Dorian J GARCÍA  en cabina #urbanmusic\n•Sala Gray ESSENZA Juan Gimeno & Ivan Reig #housemusic \nSÁBADO • 00’00h • NOCHE\n•Sala Dorian SUITE RUMBA  en directo #rumbapopcanalla \n•Sala Gray BORJA CONESA  en cabina #urbanmusic \n DOMINGO • 18’30h • TARDEO\nRUMBADOS  en directo #rumbaflamenco \nRecomendamos que a partir de ahora hagan deporte y duerman sus 8h diarias entre semana porqué se vienen fines de semana de marató
URL:https://disfruta-denia.com/evento/viernes-de-dorian-gray-3-2-2-2-2-2-2-2-2-2-2/2023-10-27/
LOCATION:Dorian Gray Denia\, Carrer de la Mar\, 14\, Denia\, Alicante\, 03700\, España
CATEGORIES:Concierto,DJ,Música,Ocio nocturno
ATTACH;FMTTYPE=image/jpeg:https://disfruta-denia.com/wp-content/uploads/2023/10/394595597_18376097128071140_5329497031642679152_n.jpg
END:VEVENT
BEGIN:VEVENT
DTSTART;TZID=Europe/Madrid:20231028T130000
DTEND;TZID=Europe/Madrid:20231028T170000
DTSTAMP:20260425T012057
CREATED:20221129T083248Z
LAST-MODIFIED:20221129T083248Z
UID:10009492-1698498000-1698512400@disfruta-denia.com
SUMMARY:Loco Brunch en Botanic
DESCRIPTION:Esto si que no te lo esperabas..¡Nos encanta sorprenderte! ⁣\nLlega el LOCO BRUNCH a Botānic  Una experiencia gastronómica diferente y muuuy divertida ⁣\n⁣\nTodos los sábados de diciembre⁣\n A partir de las 13:00h⁣\nTardeo TOP con DJ Javi Mengu⁣\n\n⁣\n¿Te lo vas a perder?
URL:https://disfruta-denia.com/evento/loco-brunch-en-botanic/2023-10-28/
LOCATION:Botanic Denia\, C/ de la Mar 18\, Denia\, Alicante\, 03700\, España
CATEGORIES:DJ,Música,Tardeo
ATTACH;FMTTYPE=image/jpeg:https://disfruta-denia.com/wp-content/uploads/2022/11/316689250_195990046273019_8044592669097497158_n.jpg
END:VEVENT
BEGIN:VEVENT
DTSTART;TZID=Europe/Madrid:20231028T223000
DTEND;TZID=Europe/Madrid:20231028T223000
DTSTAMP:20260425T012057
CREATED:20231024T073028Z
LAST-MODIFIED:20231024T073028Z
UID:10014759-1698532200-1698532200@disfruta-denia.com
SUMMARY:Halloween party en el Silenci
DESCRIPTION:Halloween party en el Silenci
URL:https://disfruta-denia.com/evento/halloween-party-en-el-silenci/
LOCATION:Silenci Pub\, Calle de la Mar\, 16\, Denia\, Alicante\, 03700\, España
CATEGORIES:DJ,Música,Ocio nocturno
ATTACH;FMTTYPE=image/jpeg:https://disfruta-denia.com/wp-content/uploads/2023/10/394642259_629010089444917_1216689770985593888_n.jpg
END:VEVENT
BEGIN:VEVENT
DTSTART;TZID=Europe/Madrid:20231028T233000
DTEND;TZID=Europe/Madrid:20231028T233000
DTSTAMP:20260425T012057
CREATED:20231023T102341Z
LAST-MODIFIED:20231023T102341Z
UID:10014750-1698535800-1698535800@disfruta-denia.com
SUMMARY:La Mansión encantada
DESCRIPTION:La Mansión encantada
URL:https://disfruta-denia.com/evento/la-mansion-encantada/
LOCATION:Condado Club\, Calle marques de campo\, 42 B\, Denia\, Alicante\, 03700\, España
CATEGORIES:DJ,Música,Ocio nocturno
ATTACH;FMTTYPE=image/jpeg:https://disfruta-denia.com/wp-content/uploads/2023/10/394513135_18375371722065938_8834766678067931073_n.jpg
END:VEVENT
BEGIN:VEVENT
DTSTART;TZID=Europe/Madrid:20231028T235900
DTEND;TZID=Europe/Madrid:20231028T235900
DTSTAMP:20260425T012057
CREATED:20231024T073811Z
LAST-MODIFIED:20231024T073812Z
UID:10004079-1698537540-1698537540@disfruta-denia.com
SUMMARY:Sábado de Dorian Gray
DESCRIPTION: JUEVES • 00’00h • NOCHE\nJUNTOS Y REVUELTOS  en directo #poprocknacional \nVIERNES • 00’00h • NOCHE\n•Sala Dorian LA MOCHA  en directo #poprocknacional \n•Sala Gray BORJA CONESA  en cabina #urbanmusic \n SÁBADO • 18’00h • TARDEO\n•Sala Dorian J GARCÍA  en cabina #urbanmusic\n•Sala Gray ESSENZA Juan Gimeno & Ivan Reig #housemusic \nSÁBADO • 00’00h • NOCHE\n•Sala Dorian SUITE RUMBA  en directo #rumbapopcanalla \n•Sala Gray BORJA CONESA  en cabina #urbanmusic \n DOMINGO • 18’30h • TARDEO\nRUMBADOS  en directo #rumbaflamenco \nRecomendamos que a partir de ahora hagan deporte y duerman sus 8h diarias entre semana porqué se vienen fines de semana de marató
URL:https://disfruta-denia.com/evento/sabado-de-dorian-gray-3-2-2-2-2-2-2-2-2-2-2-2-2-2/2023-10-28/
LOCATION:Dorian Gray Denia\, Carrer de la Mar\, 14\, Denia\, Alicante\, 03700\, España
CATEGORIES:DJ,Música,Ocio nocturno
ATTACH;FMTTYPE=image/jpeg:https://disfruta-denia.com/wp-content/uploads/2023/10/394595597_18376097128071140_5329497031642679152_n.jpg
END:VEVENT
BEGIN:VEVENT
DTSTART;TZID=Europe/Madrid:20231031T233000
DTEND;TZID=Europe/Madrid:20231031T233000
DTSTAMP:20260425T012057
CREATED:20231024T074126Z
LAST-MODIFIED:20231024T074126Z
UID:10014763-1698795000-1698795000@disfruta-denia.com
SUMMARY:Halloween en Condado
DESCRIPTION:𝓗𝓐𝓛𝓛𝓞𝓦𝓔𝓔𝓝 𝓒𝓞𝓝𝓓𝓐𝓓𝓞\n–\nEl martes 31 de octubre vas a vivir un festival de miedo\n–\nEn cabina los monstruos de la fiesta @ivan_suel @mitch_van_staveren & @miguelpieradj \n–\nUNA HORA DE FIESTADe 23:30h a 6:30h\n–\n ENTRADAS ᴇɴ “Lɪsᴛᴀ”:\n–\n• 12€ con copa o 2 refrescos antes de la 1am.\n–\n• 15€ con Copa o dos refrescos después de la 1 am\n–\n ENTRADA GENERAL:\n–\n• 15€ con copa o 2 refrescos antes de la 1am.\n–\n• 20€ con Copa o dos refrescos después de la 1 am\n\n\n𝙈𝙚𝙨𝙖𝙨 & 𝙑𝙄𝙋\n*𝑃𝑟𝑒𝑐𝑖𝑜𝑠 𝑐𝑜𝑛 𝑅𝑒𝑠𝑒𝑟𝑣𝑎.\n–\n• 𝗩𝗜𝗣 𝗘𝗦𝗖𝗘𝗡𝗔𝗥𝗜𝗢: 180€\n*𝘐𝘯𝘤𝘭𝘶𝘺𝘦 𝘣𝘰𝘵𝘦𝘭𝘭𝘢 𝘗𝘳𝘦𝘮𝘪𝘶𝘮 + 12 𝘳𝘦𝘧𝘳𝘦𝘴𝘤𝘰𝘴 + 𝘢𝘤𝘤𝘦𝘴𝘰 6 𝘱𝘦𝘳𝘴𝘰𝘯𝘢𝘴.\n–\n• 𝗩𝗜𝗣 𝟭𝗲𝗿 𝘆 𝟮𝗼 𝗣𝗔𝗟𝗖𝗢: 150€\n*𝘐𝘯𝘤𝘭𝘶𝘺𝘦 𝘣𝘰𝘵𝘦𝘭𝘭𝘢 + 12 𝘳𝘦𝘧𝘳𝘦𝘴𝘤𝘰𝘴 + 𝘢𝘤𝘤𝘦𝘴𝘰 6 𝘱𝘦𝘳𝘴𝘰𝘯𝘢𝘴.
URL:https://disfruta-denia.com/evento/halloween-en-condado/
LOCATION:Condado Club\, Calle marques de campo\, 42 B\, Denia\, Alicante\, 03700\, España
CATEGORIES:DJ,Música,Ocio nocturno
ATTACH;FMTTYPE=image/jpeg:https://disfruta-denia.com/wp-content/uploads/2023/10/394567214_18375911947065938_1950894690622193830_n.jpg
END:VEVENT
END:VCALENDAR