BEGIN:VCALENDAR
VERSION:2.0
PRODID:-//Disfruta Denia - ECPv6.15.20//NONSGML v1.0//EN
CALSCALE:GREGORIAN
METHOD:PUBLISH
X-ORIGINAL-URL:https://disfruta-denia.com
X-WR-CALDESC:Eventos para Disfruta Denia
REFRESH-INTERVAL;VALUE=DURATION:PT1H
X-Robots-Tag:noindex
X-PUBLISHED-TTL:PT1H
BEGIN:VTIMEZONE
TZID:Europe/Madrid
BEGIN:DAYLIGHT
TZOFFSETFROM:+0100
TZOFFSETTO:+0200
TZNAME:CEST
DTSTART:20230326T010000
END:DAYLIGHT
BEGIN:STANDARD
TZOFFSETFROM:+0200
TZOFFSETTO:+0100
TZNAME:CET
DTSTART:20231029T010000
END:STANDARD
BEGIN:DAYLIGHT
TZOFFSETFROM:+0100
TZOFFSETTO:+0200
TZNAME:CEST
DTSTART:20240331T010000
END:DAYLIGHT
BEGIN:STANDARD
TZOFFSETFROM:+0200
TZOFFSETTO:+0100
TZNAME:CET
DTSTART:20241027T010000
END:STANDARD
BEGIN:DAYLIGHT
TZOFFSETFROM:+0100
TZOFFSETTO:+0200
TZNAME:CEST
DTSTART:20250330T010000
END:DAYLIGHT
BEGIN:STANDARD
TZOFFSETFROM:+0200
TZOFFSETTO:+0100
TZNAME:CET
DTSTART:20251026T010000
END:STANDARD
END:VTIMEZONE
BEGIN:VEVENT
DTSTART;TZID=Europe/Madrid:20240105T235900
DTEND;TZID=Europe/Madrid:20240105T235900
DTSTAMP:20260424T195953
CREATED:20240105T102533Z
LAST-MODIFIED:20240105T102535Z
UID:10003828-1704499140-1704499140@disfruta-denia.com
SUMMARY:Viernes de Dorian Gray
DESCRIPTION:BIENVENIDO 2024! \nJUEVES • 18’30h • TARDEO\nJUNTOS Y REVUELTOS en directo #poprockindieespañol \nJUEVES • 00’00h • NOCHE\nBORJA CONESA  en cabina #urbanmusic \n VIERNES • 00’00h • NOCHE DE REYES\nBORJA CONESA  en cabina #urbanmusic \n SÁBADO • 18’00h • DIA DE REYES\n•Sala Dorian XARANGA GARANXA  en directo #festapopular\n•Sala Gray DION DOBBE & TARON  en cabina #urbanmusic \nSÁBADO • 00’00h • NOCHE\nBORJA CONESA  en cabina #urbanmusic \nDOMINGO • 18’00h • TARDEO\nRUMBADOS  en directo #rumbaflamenco \nEste fin de semana te traemos a los REYES DE LA FIESTA\, de ti depende si te traen carbón
URL:https://disfruta-denia.com/evento/viernes-de-dorian-gray-3-2-2-2-2-2-2-2-2-2-2-2-2/2024-01-05/
LOCATION:Dorian Gray Denia\, Carrer de la Mar\, 14\, Denia\, Alicante\, 03700\, España
CATEGORIES:Concierto,DJ,Música,Ocio nocturno
ATTACH;FMTTYPE=image/jpeg:https://disfruta-denia.com/wp-content/uploads/2023/11/415227347_18389135182071140_3296587809841164840_n.jpg
END:VEVENT
BEGIN:VEVENT
DTSTART;TZID=Europe/Madrid:20240106T235900
DTEND;TZID=Europe/Madrid:20240106T235900
DTSTAMP:20260424T195953
CREATED:20240105T102557Z
LAST-MODIFIED:20240105T102558Z
UID:10004089-1704585540-1704585540@disfruta-denia.com
SUMMARY:Sábado de Dorian Gray
DESCRIPTION:BIENVENIDO 2024! \nJUEVES • 18’30h • TARDEO\nJUNTOS Y REVUELTOS en directo #poprockindieespañol \nJUEVES • 00’00h • NOCHE\nBORJA CONESA  en cabina #urbanmusic \n VIERNES • 00’00h • NOCHE DE REYES\nBORJA CONESA  en cabina #urbanmusic \n SÁBADO • 18’00h • DIA DE REYES\n•Sala Dorian XARANGA GARANXA  en directo #festapopular\n•Sala Gray DION DOBBE & TARON  en cabina #urbanmusic \nSÁBADO • 00’00h • NOCHE\nBORJA CONESA  en cabina #urbanmusic \nDOMINGO • 18’00h • TARDEO\nRUMBADOS  en directo #rumbaflamenco \nEste fin de semana te traemos a los REYES DE LA FIESTA\, de ti depende si te traen carbón
URL:https://disfruta-denia.com/evento/sabado-de-dorian-gray-3-2-2-2-2-2-2-2-2-2-2-2-2-2-2-2/2024-01-06/
LOCATION:Dorian Gray Denia\, Carrer de la Mar\, 14\, Denia\, Alicante\, 03700\, España
CATEGORIES:DJ,Música,Ocio nocturno
ATTACH;FMTTYPE=image/jpeg:https://disfruta-denia.com/wp-content/uploads/2023/11/415227347_18389135182071140_3296587809841164840_n.jpg
END:VEVENT
BEGIN:VEVENT
DTSTART;TZID=Europe/Madrid:20240112T235900
DTEND;TZID=Europe/Madrid:20240112T235900
DTSTAMP:20260424T195953
CREATED:20240105T102533Z
LAST-MODIFIED:20240105T102535Z
UID:10003829-1705103940-1705103940@disfruta-denia.com
SUMMARY:Viernes de Dorian Gray
DESCRIPTION:BIENVENIDO 2024! \nJUEVES • 18’30h • TARDEO\nJUNTOS Y REVUELTOS en directo #poprockindieespañol \nJUEVES • 00’00h • NOCHE\nBORJA CONESA  en cabina #urbanmusic \n VIERNES • 00’00h • NOCHE DE REYES\nBORJA CONESA  en cabina #urbanmusic \n SÁBADO • 18’00h • DIA DE REYES\n•Sala Dorian XARANGA GARANXA  en directo #festapopular\n•Sala Gray DION DOBBE & TARON  en cabina #urbanmusic \nSÁBADO • 00’00h • NOCHE\nBORJA CONESA  en cabina #urbanmusic \nDOMINGO • 18’00h • TARDEO\nRUMBADOS  en directo #rumbaflamenco \nEste fin de semana te traemos a los REYES DE LA FIESTA\, de ti depende si te traen carbón
URL:https://disfruta-denia.com/evento/viernes-de-dorian-gray-3-2-2-2-2-2-2-2-2-2-2-2-2/2024-01-12/
LOCATION:Dorian Gray Denia\, Carrer de la Mar\, 14\, Denia\, Alicante\, 03700\, España
CATEGORIES:Concierto,DJ,Música,Ocio nocturno
ATTACH;FMTTYPE=image/jpeg:https://disfruta-denia.com/wp-content/uploads/2023/11/415227347_18389135182071140_3296587809841164840_n.jpg
END:VEVENT
BEGIN:VEVENT
DTSTART;TZID=Europe/Madrid:20240113T235900
DTEND;TZID=Europe/Madrid:20240113T235900
DTSTAMP:20260424T195953
CREATED:20240105T102557Z
LAST-MODIFIED:20240105T102558Z
UID:10004090-1705190340-1705190340@disfruta-denia.com
SUMMARY:Sábado de Dorian Gray
DESCRIPTION:BIENVENIDO 2024! \nJUEVES • 18’30h • TARDEO\nJUNTOS Y REVUELTOS en directo #poprockindieespañol \nJUEVES • 00’00h • NOCHE\nBORJA CONESA  en cabina #urbanmusic \n VIERNES • 00’00h • NOCHE DE REYES\nBORJA CONESA  en cabina #urbanmusic \n SÁBADO • 18’00h • DIA DE REYES\n•Sala Dorian XARANGA GARANXA  en directo #festapopular\n•Sala Gray DION DOBBE & TARON  en cabina #urbanmusic \nSÁBADO • 00’00h • NOCHE\nBORJA CONESA  en cabina #urbanmusic \nDOMINGO • 18’00h • TARDEO\nRUMBADOS  en directo #rumbaflamenco \nEste fin de semana te traemos a los REYES DE LA FIESTA\, de ti depende si te traen carbón
URL:https://disfruta-denia.com/evento/sabado-de-dorian-gray-3-2-2-2-2-2-2-2-2-2-2-2-2-2-2-2/2024-01-13/
LOCATION:Dorian Gray Denia\, Carrer de la Mar\, 14\, Denia\, Alicante\, 03700\, España
CATEGORIES:DJ,Música,Ocio nocturno
ATTACH;FMTTYPE=image/jpeg:https://disfruta-denia.com/wp-content/uploads/2023/11/415227347_18389135182071140_3296587809841164840_n.jpg
END:VEVENT
BEGIN:VEVENT
DTSTART;TZID=Europe/Madrid:20240119T235900
DTEND;TZID=Europe/Madrid:20240119T235900
DTSTAMP:20260424T195953
CREATED:20240105T102533Z
LAST-MODIFIED:20240105T102535Z
UID:10003830-1705708740-1705708740@disfruta-denia.com
SUMMARY:Viernes de Dorian Gray
DESCRIPTION:BIENVENIDO 2024! \nJUEVES • 18’30h • TARDEO\nJUNTOS Y REVUELTOS en directo #poprockindieespañol \nJUEVES • 00’00h • NOCHE\nBORJA CONESA  en cabina #urbanmusic \n VIERNES • 00’00h • NOCHE DE REYES\nBORJA CONESA  en cabina #urbanmusic \n SÁBADO • 18’00h • DIA DE REYES\n•Sala Dorian XARANGA GARANXA  en directo #festapopular\n•Sala Gray DION DOBBE & TARON  en cabina #urbanmusic \nSÁBADO • 00’00h • NOCHE\nBORJA CONESA  en cabina #urbanmusic \nDOMINGO • 18’00h • TARDEO\nRUMBADOS  en directo #rumbaflamenco \nEste fin de semana te traemos a los REYES DE LA FIESTA\, de ti depende si te traen carbón
URL:https://disfruta-denia.com/evento/viernes-de-dorian-gray-3-2-2-2-2-2-2-2-2-2-2-2-2/2024-01-19/
LOCATION:Dorian Gray Denia\, Carrer de la Mar\, 14\, Denia\, Alicante\, 03700\, España
CATEGORIES:Concierto,DJ,Música,Ocio nocturno
ATTACH;FMTTYPE=image/jpeg:https://disfruta-denia.com/wp-content/uploads/2023/11/415227347_18389135182071140_3296587809841164840_n.jpg
END:VEVENT
BEGIN:VEVENT
DTSTART;TZID=Europe/Madrid:20240120T235900
DTEND;TZID=Europe/Madrid:20240120T235900
DTSTAMP:20260424T195953
CREATED:20240105T102557Z
LAST-MODIFIED:20240105T102558Z
UID:10004091-1705795140-1705795140@disfruta-denia.com
SUMMARY:Sábado de Dorian Gray
DESCRIPTION:BIENVENIDO 2024! \nJUEVES • 18’30h • TARDEO\nJUNTOS Y REVUELTOS en directo #poprockindieespañol \nJUEVES • 00’00h • NOCHE\nBORJA CONESA  en cabina #urbanmusic \n VIERNES • 00’00h • NOCHE DE REYES\nBORJA CONESA  en cabina #urbanmusic \n SÁBADO • 18’00h • DIA DE REYES\n•Sala Dorian XARANGA GARANXA  en directo #festapopular\n•Sala Gray DION DOBBE & TARON  en cabina #urbanmusic \nSÁBADO • 00’00h • NOCHE\nBORJA CONESA  en cabina #urbanmusic \nDOMINGO • 18’00h • TARDEO\nRUMBADOS  en directo #rumbaflamenco \nEste fin de semana te traemos a los REYES DE LA FIESTA\, de ti depende si te traen carbón
URL:https://disfruta-denia.com/evento/sabado-de-dorian-gray-3-2-2-2-2-2-2-2-2-2-2-2-2-2-2-2/2024-01-20/
LOCATION:Dorian Gray Denia\, Carrer de la Mar\, 14\, Denia\, Alicante\, 03700\, España
CATEGORIES:DJ,Música,Ocio nocturno
ATTACH;FMTTYPE=image/jpeg:https://disfruta-denia.com/wp-content/uploads/2023/11/415227347_18389135182071140_3296587809841164840_n.jpg
END:VEVENT
BEGIN:VEVENT
DTSTART;TZID=Europe/Madrid:20240126T235900
DTEND;TZID=Europe/Madrid:20240126T235900
DTSTAMP:20260424T195953
CREATED:20240105T102533Z
LAST-MODIFIED:20240105T102535Z
UID:10003831-1706313540-1706313540@disfruta-denia.com
SUMMARY:Viernes de Dorian Gray
DESCRIPTION:BIENVENIDO 2024! \nJUEVES • 18’30h • TARDEO\nJUNTOS Y REVUELTOS en directo #poprockindieespañol \nJUEVES • 00’00h • NOCHE\nBORJA CONESA  en cabina #urbanmusic \n VIERNES • 00’00h • NOCHE DE REYES\nBORJA CONESA  en cabina #urbanmusic \n SÁBADO • 18’00h • DIA DE REYES\n•Sala Dorian XARANGA GARANXA  en directo #festapopular\n•Sala Gray DION DOBBE & TARON  en cabina #urbanmusic \nSÁBADO • 00’00h • NOCHE\nBORJA CONESA  en cabina #urbanmusic \nDOMINGO • 18’00h • TARDEO\nRUMBADOS  en directo #rumbaflamenco \nEste fin de semana te traemos a los REYES DE LA FIESTA\, de ti depende si te traen carbón
URL:https://disfruta-denia.com/evento/viernes-de-dorian-gray-3-2-2-2-2-2-2-2-2-2-2-2-2/2024-01-26/
LOCATION:Dorian Gray Denia\, Carrer de la Mar\, 14\, Denia\, Alicante\, 03700\, España
CATEGORIES:Concierto,DJ,Música,Ocio nocturno
ATTACH;FMTTYPE=image/jpeg:https://disfruta-denia.com/wp-content/uploads/2023/11/415227347_18389135182071140_3296587809841164840_n.jpg
END:VEVENT
BEGIN:VEVENT
DTSTART;TZID=Europe/Madrid:20240127T235900
DTEND;TZID=Europe/Madrid:20240127T235900
DTSTAMP:20260424T195953
CREATED:20240105T102557Z
LAST-MODIFIED:20240105T102558Z
UID:10004092-1706399940-1706399940@disfruta-denia.com
SUMMARY:Sábado de Dorian Gray
DESCRIPTION:BIENVENIDO 2024! \nJUEVES • 18’30h • TARDEO\nJUNTOS Y REVUELTOS en directo #poprockindieespañol \nJUEVES • 00’00h • NOCHE\nBORJA CONESA  en cabina #urbanmusic \n VIERNES • 00’00h • NOCHE DE REYES\nBORJA CONESA  en cabina #urbanmusic \n SÁBADO • 18’00h • DIA DE REYES\n•Sala Dorian XARANGA GARANXA  en directo #festapopular\n•Sala Gray DION DOBBE & TARON  en cabina #urbanmusic \nSÁBADO • 00’00h • NOCHE\nBORJA CONESA  en cabina #urbanmusic \nDOMINGO • 18’00h • TARDEO\nRUMBADOS  en directo #rumbaflamenco \nEste fin de semana te traemos a los REYES DE LA FIESTA\, de ti depende si te traen carbón
URL:https://disfruta-denia.com/evento/sabado-de-dorian-gray-3-2-2-2-2-2-2-2-2-2-2-2-2-2-2-2/2024-01-27/
LOCATION:Dorian Gray Denia\, Carrer de la Mar\, 14\, Denia\, Alicante\, 03700\, España
CATEGORIES:DJ,Música,Ocio nocturno
ATTACH;FMTTYPE=image/jpeg:https://disfruta-denia.com/wp-content/uploads/2023/11/415227347_18389135182071140_3296587809841164840_n.jpg
END:VEVENT
END:VCALENDAR