BEGIN:VCALENDAR
VERSION:2.0
PRODID:-//Disfruta Denia - ECPv6.15.20//NONSGML v1.0//EN
CALSCALE:GREGORIAN
METHOD:PUBLISH
X-WR-CALNAME:Disfruta Denia
X-ORIGINAL-URL:https://disfruta-denia.com
X-WR-CALDESC:Eventos para Disfruta Denia
REFRESH-INTERVAL;VALUE=DURATION:PT1H
X-Robots-Tag:noindex
X-PUBLISHED-TTL:PT1H
BEGIN:VTIMEZONE
TZID:Europe/Madrid
BEGIN:DAYLIGHT
TZOFFSETFROM:+0100
TZOFFSETTO:+0200
TZNAME:CEST
DTSTART:20230326T010000
END:DAYLIGHT
BEGIN:STANDARD
TZOFFSETFROM:+0200
TZOFFSETTO:+0100
TZNAME:CET
DTSTART:20231029T010000
END:STANDARD
BEGIN:DAYLIGHT
TZOFFSETFROM:+0100
TZOFFSETTO:+0200
TZNAME:CEST
DTSTART:20240331T010000
END:DAYLIGHT
BEGIN:STANDARD
TZOFFSETFROM:+0200
TZOFFSETTO:+0100
TZNAME:CET
DTSTART:20241027T010000
END:STANDARD
BEGIN:DAYLIGHT
TZOFFSETFROM:+0100
TZOFFSETTO:+0200
TZNAME:CEST
DTSTART:20250330T010000
END:DAYLIGHT
BEGIN:STANDARD
TZOFFSETFROM:+0200
TZOFFSETTO:+0100
TZNAME:CET
DTSTART:20251026T010000
END:STANDARD
END:VTIMEZONE
BEGIN:VEVENT
DTSTART;TZID=Europe/Madrid:20240202T235900
DTEND;TZID=Europe/Madrid:20240202T235900
DTSTAMP:20260424T181625
CREATED:20240202T112748Z
LAST-MODIFIED:20240202T112753Z
UID:10003832-1706918340-1706918340@disfruta-denia.com
SUMMARY:Viernes de Dorian Gray
DESCRIPTION:HOLA FEBRERO! \n VIERNES • 18’00h • TARDEO\nTARON  en cabina #solohits \n VIERNES • 00’00h • NOCHE\nBORJA CONESA  en cabina #urbanmusic \n SÁBADO • 18:30h • TARDEO\n•Sala Dorian BLAT  en directo #poprocknacional\n•Sala Gray BORJA CONESA  en cabina #urbanmusic \n SÁBADO • 23’30h • NOCHE\n•Sala Dorian BLAT  en directo #poprocknacional\n•Sala Gray DION DOBBE  en cabina #urbanmusic \n DOMINGO • 18’30h • TARDEO\nRUMBADOS  en directo #rumbaflamenca \nDespués de sobrevivir a los tres lustros que dura Enero y la vuelta al gym\, ahora toca la vuelta al gin. Nos vemos en los bares!
URL:https://disfruta-denia.com/evento/viernes-de-dorian-gray-3-2-2-2-2-2-2-2-2-2-2-2-2-2/
LOCATION:Dorian Gray Denia\, Carrer de la Mar\, 14\, Denia\, Alicante\, 03700\, España
CATEGORIES:Concierto,DJ,Música,Ocio nocturno
ATTACH;FMTTYPE=image/jpeg:https://disfruta-denia.com/wp-content/uploads/2024/01/424965851_18393647359071140_2481373962398025354_n-1.jpg
END:VEVENT
BEGIN:VEVENT
DTSTART;TZID=Europe/Madrid:20240203T235900
DTEND;TZID=Europe/Madrid:20240203T235900
DTSTAMP:20260424T181625
CREATED:20240202T112732Z
LAST-MODIFIED:20240202T112738Z
UID:10004093-1707004740-1707004740@disfruta-denia.com
SUMMARY:Sábado de Dorian Gray
DESCRIPTION:HOLA FEBRERO! \n VIERNES • 18’00h • TARDEO\nTARON  en cabina #solohits \n VIERNES • 00’00h • NOCHE\nBORJA CONESA  en cabina #urbanmusic \n SÁBADO • 18:30h • TARDEO\n•Sala Dorian BLAT  en directo #poprocknacional\n•Sala Gray BORJA CONESA  en cabina #urbanmusic \n SÁBADO • 23’30h • NOCHE\n•Sala Dorian BLAT  en directo #poprocknacional\n•Sala Gray DION DOBBE  en cabina #urbanmusic \n DOMINGO • 18’30h • TARDEO\nRUMBADOS  en directo #rumbaflamenca \nDespués de sobrevivir a los tres lustros que dura Enero y la vuelta al gym\, ahora toca la vuelta al gin. Nos vemos en los bares!
URL:https://disfruta-denia.com/evento/sabado-de-dorian-gray-3-2-2-2-2-2-2-2-2-2-2-2-2-2-2-2-2/
LOCATION:Dorian Gray Denia\, Carrer de la Mar\, 14\, Denia\, Alicante\, 03700\, España
CATEGORIES:DJ,Música,Ocio nocturno
ATTACH;FMTTYPE=image/jpeg:https://disfruta-denia.com/wp-content/uploads/2024/01/424965851_18393647359071140_2481373962398025354_n-1.jpg
END:VEVENT
BEGIN:VEVENT
DTSTART;TZID=Europe/Madrid:20240209T235900
DTEND;TZID=Europe/Madrid:20240209T235900
DTSTAMP:20260424T181625
CREATED:20240209T170910Z
LAST-MODIFIED:20240209T170912Z
UID:10003833-1707523140-1707523140@disfruta-denia.com
SUMMARY:Viernes de Dorian Gray
DESCRIPTION: CARNAVAL CARNAVAL\, CARNAVAAAL TE QUIEROO \n VIERNES • 00’00h • NOCHE\nBORJA CONESA  en cabina #urbanmusic \n SÁBADO • 18:30h • TARDEO\n•Sala Dorian LA MOCHA  en directo #poprocknacional\n•Sala Gray J GARCÍA  en cabina #urbanmusic \n SÁBADO • 23’30h • NOCHE\n•Sala Dorian LA MOCHA  en directo #poprocknacional\n•Sala Gray BORJA CONESA  en cabina #urbanmusic \n DOMINGO • 18’30h • TARDEO\nRUMBADOS  en directo #rumbaflamenca \nPara unos es el día en que podéis salir en chandal y tacones sin que os miren raro\, para otros el sueño de salir en pijama y batín\, de una manera u otra\, este finde la liamos
URL:https://disfruta-denia.com/evento/viernes-de-dorian-gray-3-2-2-2-2-2-2-2-2-2-2-2-2-2-2/2024-02-09/
LOCATION:Dorian Gray Denia\, Carrer de la Mar\, 14\, Denia\, Alicante\, 03700\, España
CATEGORIES:Concierto,DJ,Música,Ocio nocturno
ATTACH;FMTTYPE=image/jpeg:https://disfruta-denia.com/wp-content/uploads/2024/02/426764897_18394972069071140_5157780507026679645_n.jpg
END:VEVENT
BEGIN:VEVENT
DTSTART;TZID=Europe/Madrid:20240210T235900
DTEND;TZID=Europe/Madrid:20240210T235900
DTSTAMP:20260424T181625
CREATED:20240209T170943Z
LAST-MODIFIED:20240209T170945Z
UID:10004094-1707609540-1707609540@disfruta-denia.com
SUMMARY:Sábado de Dorian Gray
DESCRIPTION: CARNAVAL CARNAVAL\, CARNAVAAAL TE QUIEROO \n VIERNES • 00’00h • NOCHE\nBORJA CONESA  en cabina #urbanmusic \n SÁBADO • 18:30h • TARDEO\n•Sala Dorian LA MOCHA  en directo #poprocknacional\n•Sala Gray J GARCÍA  en cabina #urbanmusic \n SÁBADO • 23’30h • NOCHE\n•Sala Dorian LA MOCHA  en directo #poprocknacional\n•Sala Gray BORJA CONESA  en cabina #urbanmusic \n DOMINGO • 18’30h • TARDEO\nRUMBADOS  en directo #rumbaflamenca \nPara unos es el día en que podéis salir en chandal y tacones sin que os miren raro\, para otros el sueño de salir en pijama y batín\, de una manera u otra\, este finde la liamos
URL:https://disfruta-denia.com/evento/sabado-de-dorian-gray-3-2-2-2-2-2-2-2-2-2-2-2-2-2-2-2-2-2/2024-02-10/
LOCATION:Dorian Gray Denia\, Carrer de la Mar\, 14\, Denia\, Alicante\, 03700\, España
CATEGORIES:DJ,Música,Ocio nocturno
ATTACH;FMTTYPE=image/jpeg:https://disfruta-denia.com/wp-content/uploads/2024/02/426764897_18394972069071140_5157780507026679645_n.jpg
END:VEVENT
BEGIN:VEVENT
DTSTART;TZID=Europe/Madrid:20240216T235900
DTEND;TZID=Europe/Madrid:20240216T235900
DTSTAMP:20260424T181625
CREATED:20240209T170910Z
LAST-MODIFIED:20240209T170912Z
UID:10003834-1708127940-1708127940@disfruta-denia.com
SUMMARY:Viernes de Dorian Gray
DESCRIPTION: CARNAVAL CARNAVAL\, CARNAVAAAL TE QUIEROO \n VIERNES • 00’00h • NOCHE\nBORJA CONESA  en cabina #urbanmusic \n SÁBADO • 18:30h • TARDEO\n•Sala Dorian LA MOCHA  en directo #poprocknacional\n•Sala Gray J GARCÍA  en cabina #urbanmusic \n SÁBADO • 23’30h • NOCHE\n•Sala Dorian LA MOCHA  en directo #poprocknacional\n•Sala Gray BORJA CONESA  en cabina #urbanmusic \n DOMINGO • 18’30h • TARDEO\nRUMBADOS  en directo #rumbaflamenca \nPara unos es el día en que podéis salir en chandal y tacones sin que os miren raro\, para otros el sueño de salir en pijama y batín\, de una manera u otra\, este finde la liamos
URL:https://disfruta-denia.com/evento/viernes-de-dorian-gray-3-2-2-2-2-2-2-2-2-2-2-2-2-2-2/2024-02-16/
LOCATION:Dorian Gray Denia\, Carrer de la Mar\, 14\, Denia\, Alicante\, 03700\, España
CATEGORIES:Concierto,DJ,Música,Ocio nocturno
ATTACH;FMTTYPE=image/jpeg:https://disfruta-denia.com/wp-content/uploads/2024/02/426764897_18394972069071140_5157780507026679645_n.jpg
END:VEVENT
BEGIN:VEVENT
DTSTART;TZID=Europe/Madrid:20240217T235900
DTEND;TZID=Europe/Madrid:20240217T235900
DTSTAMP:20260424T181625
CREATED:20240209T170943Z
LAST-MODIFIED:20240209T170945Z
UID:10004095-1708214340-1708214340@disfruta-denia.com
SUMMARY:Sábado de Dorian Gray
DESCRIPTION: CARNAVAL CARNAVAL\, CARNAVAAAL TE QUIEROO \n VIERNES • 00’00h • NOCHE\nBORJA CONESA  en cabina #urbanmusic \n SÁBADO • 18:30h • TARDEO\n•Sala Dorian LA MOCHA  en directo #poprocknacional\n•Sala Gray J GARCÍA  en cabina #urbanmusic \n SÁBADO • 23’30h • NOCHE\n•Sala Dorian LA MOCHA  en directo #poprocknacional\n•Sala Gray BORJA CONESA  en cabina #urbanmusic \n DOMINGO • 18’30h • TARDEO\nRUMBADOS  en directo #rumbaflamenca \nPara unos es el día en que podéis salir en chandal y tacones sin que os miren raro\, para otros el sueño de salir en pijama y batín\, de una manera u otra\, este finde la liamos
URL:https://disfruta-denia.com/evento/sabado-de-dorian-gray-3-2-2-2-2-2-2-2-2-2-2-2-2-2-2-2-2-2/2024-02-17/
LOCATION:Dorian Gray Denia\, Carrer de la Mar\, 14\, Denia\, Alicante\, 03700\, España
CATEGORIES:DJ,Música,Ocio nocturno
ATTACH;FMTTYPE=image/jpeg:https://disfruta-denia.com/wp-content/uploads/2024/02/426764897_18394972069071140_5157780507026679645_n.jpg
END:VEVENT
BEGIN:VEVENT
DTSTART;TZID=Europe/Madrid:20240223T235900
DTEND;TZID=Europe/Madrid:20240223T235900
DTSTAMP:20260424T181625
CREATED:20240222T132253Z
LAST-MODIFIED:20240222T132256Z
UID:10003835-1708732740-1708732740@disfruta-denia.com
SUMMARY:Viernes de Dorian Gray
DESCRIPTION:EN DORIAN GRAY ESTEM DE MIG ANY!! \n\n\n VIERNES • 00’00h • NOCHE\n•Sala Dorian LA MOCHA  en directo #poprocknacional\n•Sala Gray BORJA CONESA  en cabina #urbanmusic\n\n\n SÁBADO • 18:00h • TARDEO\n•Sala Dorian MENPHIS  en directo #poprocknacional\n•Sala Gray BORJA CONESA & DION DOBBE  en cabina #urbanmusic\n\n\n SÁBADO • 23’30h • NOCHE\n•Sala Dorian MENPHIS  en directo #poprocknacional\n•Sala Gray TARON  en cabina #urbanmusic\n\n\n DOMINGO • 18’30h • TARDEO\nRUMBADOS  en directo #rumbaflamenca\n\n\nEste fin de semana vive la esencia de los Moros y Cristianos de Denia en Dorian Gray
URL:https://disfruta-denia.com/evento/viernes-de-dorian-gray-3-2-2-2-2-2-2-2-2-2-2-2-2-2-2-2/2024-02-23/
LOCATION:Dorian Gray Denia\, Carrer de la Mar\, 14\, Denia\, Alicante\, 03700\, España
CATEGORIES:Concierto,DJ,Música,Ocio nocturno
ATTACH;FMTTYPE=image/jpeg:https://disfruta-denia.com/wp-content/uploads/2024/02/424937912_18397024564071140_8125163716215463298_n-1.jpg
END:VEVENT
BEGIN:VEVENT
DTSTART;TZID=Europe/Madrid:20240224T235900
DTEND;TZID=Europe/Madrid:20240224T235900
DTSTAMP:20260424T181625
CREATED:20240222T132318Z
LAST-MODIFIED:20240222T132320Z
UID:10004096-1708819140-1708819140@disfruta-denia.com
SUMMARY:Sábado de Dorian Gray
DESCRIPTION:EN DORIAN GRAY ESTEM DE MIG ANY!! \n\n\n VIERNES • 00’00h • NOCHE\n•Sala Dorian LA MOCHA  en directo #poprocknacional\n•Sala Gray BORJA CONESA  en cabina #urbanmusic\n\n\n SÁBADO • 18:00h • TARDEO\n•Sala Dorian MENPHIS  en directo #poprocknacional\n•Sala Gray BORJA CONESA & DION DOBBE  en cabina #urbanmusic\n\n\n SÁBADO • 23’30h • NOCHE\n•Sala Dorian MENPHIS  en directo #poprocknacional\n•Sala Gray TARON  en cabina #urbanmusic\n\n\n DOMINGO • 18’30h • TARDEO\nRUMBADOS  en directo #rumbaflamenca\n\n\nEste fin de semana vive la esencia de los Moros y Cristianos de Denia en Dorian Gray
URL:https://disfruta-denia.com/evento/sabado-de-dorian-gray-3-2-2-2-2-2-2-2-2-2-2-2-2-2-2-2-2-2-2/2024-02-24/
LOCATION:Dorian Gray Denia\, Carrer de la Mar\, 14\, Denia\, Alicante\, 03700\, España
CATEGORIES:DJ,Música,Ocio nocturno
ATTACH;FMTTYPE=image/jpeg:https://disfruta-denia.com/wp-content/uploads/2024/02/424937912_18397024564071140_8125163716215463298_n-1.jpg
END:VEVENT
END:VCALENDAR