BEGIN:VCALENDAR
VERSION:2.0
PRODID:-//Disfruta Denia - ECPv6.15.20//NONSGML v1.0//EN
CALSCALE:GREGORIAN
METHOD:PUBLISH
X-ORIGINAL-URL:https://disfruta-denia.com
X-WR-CALDESC:Eventos para Disfruta Denia
REFRESH-INTERVAL;VALUE=DURATION:PT1H
X-Robots-Tag:noindex
X-PUBLISHED-TTL:PT1H
BEGIN:VTIMEZONE
TZID:Europe/Madrid
BEGIN:DAYLIGHT
TZOFFSETFROM:+0100
TZOFFSETTO:+0200
TZNAME:CEST
DTSTART:20230326T010000
END:DAYLIGHT
BEGIN:STANDARD
TZOFFSETFROM:+0200
TZOFFSETTO:+0100
TZNAME:CET
DTSTART:20231029T010000
END:STANDARD
BEGIN:DAYLIGHT
TZOFFSETFROM:+0100
TZOFFSETTO:+0200
TZNAME:CEST
DTSTART:20240331T010000
END:DAYLIGHT
BEGIN:STANDARD
TZOFFSETFROM:+0200
TZOFFSETTO:+0100
TZNAME:CET
DTSTART:20241027T010000
END:STANDARD
BEGIN:DAYLIGHT
TZOFFSETFROM:+0100
TZOFFSETTO:+0200
TZNAME:CEST
DTSTART:20250330T010000
END:DAYLIGHT
BEGIN:STANDARD
TZOFFSETFROM:+0200
TZOFFSETTO:+0100
TZNAME:CET
DTSTART:20251026T010000
END:STANDARD
END:VTIMEZONE
BEGIN:VEVENT
DTSTART;TZID=Europe/Madrid:20240301T235900
DTEND;TZID=Europe/Madrid:20240301T235900
DTSTAMP:20260424T161601
CREATED:20240222T132253Z
LAST-MODIFIED:20240222T132256Z
UID:10003836-1709337540-1709337540@disfruta-denia.com
SUMMARY:Viernes de Dorian Gray
DESCRIPTION:EN DORIAN GRAY ESTEM DE MIG ANY!! \n\n\n VIERNES • 00’00h • NOCHE\n•Sala Dorian LA MOCHA  en directo #poprocknacional\n•Sala Gray BORJA CONESA  en cabina #urbanmusic\n\n\n SÁBADO • 18:00h • TARDEO\n•Sala Dorian MENPHIS  en directo #poprocknacional\n•Sala Gray BORJA CONESA & DION DOBBE  en cabina #urbanmusic\n\n\n SÁBADO • 23’30h • NOCHE\n•Sala Dorian MENPHIS  en directo #poprocknacional\n•Sala Gray TARON  en cabina #urbanmusic\n\n\n DOMINGO • 18’30h • TARDEO\nRUMBADOS  en directo #rumbaflamenca\n\n\nEste fin de semana vive la esencia de los Moros y Cristianos de Denia en Dorian Gray
URL:https://disfruta-denia.com/evento/viernes-de-dorian-gray-3-2-2-2-2-2-2-2-2-2-2-2-2-2-2-2/2024-03-01/
LOCATION:Dorian Gray Denia\, Carrer de la Mar\, 14\, Denia\, Alicante\, 03700\, España
CATEGORIES:Concierto,DJ,Música,Ocio nocturno
ATTACH;FMTTYPE=image/jpeg:https://disfruta-denia.com/wp-content/uploads/2024/02/424937912_18397024564071140_8125163716215463298_n-1.jpg
END:VEVENT
BEGIN:VEVENT
DTSTART;TZID=Europe/Madrid:20240302T235900
DTEND;TZID=Europe/Madrid:20240302T235900
DTSTAMP:20260424T161601
CREATED:20240222T132318Z
LAST-MODIFIED:20240222T132320Z
UID:10004097-1709423940-1709423940@disfruta-denia.com
SUMMARY:Sábado de Dorian Gray
DESCRIPTION:EN DORIAN GRAY ESTEM DE MIG ANY!! \n\n\n VIERNES • 00’00h • NOCHE\n•Sala Dorian LA MOCHA  en directo #poprocknacional\n•Sala Gray BORJA CONESA  en cabina #urbanmusic\n\n\n SÁBADO • 18:00h • TARDEO\n•Sala Dorian MENPHIS  en directo #poprocknacional\n•Sala Gray BORJA CONESA & DION DOBBE  en cabina #urbanmusic\n\n\n SÁBADO • 23’30h • NOCHE\n•Sala Dorian MENPHIS  en directo #poprocknacional\n•Sala Gray TARON  en cabina #urbanmusic\n\n\n DOMINGO • 18’30h • TARDEO\nRUMBADOS  en directo #rumbaflamenca\n\n\nEste fin de semana vive la esencia de los Moros y Cristianos de Denia en Dorian Gray
URL:https://disfruta-denia.com/evento/sabado-de-dorian-gray-3-2-2-2-2-2-2-2-2-2-2-2-2-2-2-2-2-2-2/2024-03-02/
LOCATION:Dorian Gray Denia\, Carrer de la Mar\, 14\, Denia\, Alicante\, 03700\, España
CATEGORIES:DJ,Música,Ocio nocturno
ATTACH;FMTTYPE=image/jpeg:https://disfruta-denia.com/wp-content/uploads/2024/02/424937912_18397024564071140_8125163716215463298_n-1.jpg
END:VEVENT
BEGIN:VEVENT
DTSTART;TZID=Europe/Madrid:20240308T235900
DTEND;TZID=Europe/Madrid:20240308T235900
DTSTAMP:20260424T161601
CREATED:20240222T132253Z
LAST-MODIFIED:20240222T132256Z
UID:10003837-1709942340-1709942340@disfruta-denia.com
SUMMARY:Viernes de Dorian Gray
DESCRIPTION:EN DORIAN GRAY ESTEM DE MIG ANY!! \n\n\n VIERNES • 00’00h • NOCHE\n•Sala Dorian LA MOCHA  en directo #poprocknacional\n•Sala Gray BORJA CONESA  en cabina #urbanmusic\n\n\n SÁBADO • 18:00h • TARDEO\n•Sala Dorian MENPHIS  en directo #poprocknacional\n•Sala Gray BORJA CONESA & DION DOBBE  en cabina #urbanmusic\n\n\n SÁBADO • 23’30h • NOCHE\n•Sala Dorian MENPHIS  en directo #poprocknacional\n•Sala Gray TARON  en cabina #urbanmusic\n\n\n DOMINGO • 18’30h • TARDEO\nRUMBADOS  en directo #rumbaflamenca\n\n\nEste fin de semana vive la esencia de los Moros y Cristianos de Denia en Dorian Gray
URL:https://disfruta-denia.com/evento/viernes-de-dorian-gray-3-2-2-2-2-2-2-2-2-2-2-2-2-2-2-2/2024-03-08/
LOCATION:Dorian Gray Denia\, Carrer de la Mar\, 14\, Denia\, Alicante\, 03700\, España
CATEGORIES:Concierto,DJ,Música,Ocio nocturno
ATTACH;FMTTYPE=image/jpeg:https://disfruta-denia.com/wp-content/uploads/2024/02/424937912_18397024564071140_8125163716215463298_n-1.jpg
END:VEVENT
BEGIN:VEVENT
DTSTART;TZID=Europe/Madrid:20240309T170000
DTEND;TZID=Europe/Madrid:20240309T170000
DTSTAMP:20260424T161601
CREATED:20240215T101446Z
LAST-MODIFIED:20240215T101446Z
UID:10017222-1710003600-1710003600@disfruta-denia.com
SUMMARY:ESENCCIA IBIZA en Sounders
DESCRIPTION:Gente de denia y alrededores\, mucho ojo.\nESENCCIA IBIZA\, aterrizan en la capital de la Marina Alta y además en una sala de referencia en la ciudad\, Sounders.\nSábado 09 de marzo\, desde las 17.00 horas\, la liamos… peeero bien!!!
URL:https://disfruta-denia.com/evento/esenccia-ibiza-en-sounders/
LOCATION:Sounders Discoteca\, Moll de la Pansa\, Marina El Portet\, Denia\, Alicante\, 03700\, España
CATEGORIES:DJ,Música,Ocio nocturno
ATTACH;FMTTYPE=image/jpeg:https://disfruta-denia.com/wp-content/uploads/2024/02/424699415_7245727252157641_6194773028358982962_n-1.jpg
END:VEVENT
BEGIN:VEVENT
DTSTART;TZID=Europe/Madrid:20240309T235900
DTEND;TZID=Europe/Madrid:20240309T235900
DTSTAMP:20260424T161601
CREATED:20240222T132318Z
LAST-MODIFIED:20240222T132320Z
UID:10004098-1710028740-1710028740@disfruta-denia.com
SUMMARY:Sábado de Dorian Gray
DESCRIPTION:EN DORIAN GRAY ESTEM DE MIG ANY!! \n\n\n VIERNES • 00’00h • NOCHE\n•Sala Dorian LA MOCHA  en directo #poprocknacional\n•Sala Gray BORJA CONESA  en cabina #urbanmusic\n\n\n SÁBADO • 18:00h • TARDEO\n•Sala Dorian MENPHIS  en directo #poprocknacional\n•Sala Gray BORJA CONESA & DION DOBBE  en cabina #urbanmusic\n\n\n SÁBADO • 23’30h • NOCHE\n•Sala Dorian MENPHIS  en directo #poprocknacional\n•Sala Gray TARON  en cabina #urbanmusic\n\n\n DOMINGO • 18’30h • TARDEO\nRUMBADOS  en directo #rumbaflamenca\n\n\nEste fin de semana vive la esencia de los Moros y Cristianos de Denia en Dorian Gray
URL:https://disfruta-denia.com/evento/sabado-de-dorian-gray-3-2-2-2-2-2-2-2-2-2-2-2-2-2-2-2-2-2-2/2024-03-09/
LOCATION:Dorian Gray Denia\, Carrer de la Mar\, 14\, Denia\, Alicante\, 03700\, España
CATEGORIES:DJ,Música,Ocio nocturno
ATTACH;FMTTYPE=image/jpeg:https://disfruta-denia.com/wp-content/uploads/2024/02/424937912_18397024564071140_8125163716215463298_n-1.jpg
END:VEVENT
BEGIN:VEVENT
DTSTART;TZID=Europe/Madrid:20240315T235900
DTEND;TZID=Europe/Madrid:20240315T235900
DTSTAMP:20260424T161601
CREATED:20240314T095143Z
LAST-MODIFIED:20240314T095145Z
UID:10003838-1710547140-1710547140@disfruta-denia.com
SUMMARY:Viernes de Dorian Gray
DESCRIPTION:🔸JUEVES • 00’00h • NOCHE\nBORJA CONESA 🎧 en cabina #urbanmusic \n🔹 VIERNES • 18’00h • TARDEO\nJGARCIA 🎧 en cabina #urbanmusic \n🔸 VIERNES • 00’00h • NOCHE\n•Sala Dorian MENPHIS 🎸 en directo #poprocknacional\n•Sala Gray BORJA CONESA 🎧 en cabina #urbanmusic \n🔹 SÁBADO • 18’30h • TARDEO\n•Sala Dorian LA MOCHA 🎸 en directo #poprocknacional\n•Sala Gray CRAZY MONKEYS Chacu & Pitt Franco 🎧 en cabina #housemusic \n🔸SÁBADO • 00’30h • NOCHE\n•Sala Dorian LA MOCHA 🎸 en directo #poprocknacional\n•Sala Gray BORJA CONESA 🎧 en cabina #urbanmusic \nPERÒ ESPEREU QUE ENCARA QUEDA TRACA….
URL:https://disfruta-denia.com/evento/viernes-de-dorian-gray-3-2-2-2-2-2-2-2-2-2-2-2-2-2-2-2-2/2024-03-15/
LOCATION:Dorian Gray Denia\, Carrer de la Mar\, 14\, Denia\, Alicante\, 03700\, España
CATEGORIES:Concierto,DJ,Música,Ocio nocturno
ATTACH;FMTTYPE=image/png:https://disfruta-denia.com/wp-content/uploads/2024/02/Dorian-Gray-Denia-doriangray_denia-•-Instagram-photos-and-videos.png
END:VEVENT
BEGIN:VEVENT
DTSTART;TZID=Europe/Madrid:20240316T235900
DTEND;TZID=Europe/Madrid:20240316T235900
DTSTAMP:20260424T161601
CREATED:20240314T095211Z
LAST-MODIFIED:20240314T095212Z
UID:10004099-1710633540-1710633540@disfruta-denia.com
SUMMARY:Sábado de Dorian Gray
DESCRIPTION:🔸JUEVES • 00’00h • NOCHE\nBORJA CONESA 🎧 en cabina #urbanmusic \n🔹 VIERNES • 18’00h • TARDEO\nJGARCIA 🎧 en cabina #urbanmusic \n🔸 VIERNES • 00’00h • NOCHE\n•Sala Dorian MENPHIS 🎸 en directo #poprocknacional\n•Sala Gray BORJA CONESA 🎧 en cabina #urbanmusic \n🔹 SÁBADO • 18’30h • TARDEO\n•Sala Dorian LA MOCHA 🎸 en directo #poprocknacional\n•Sala Gray CRAZY MONKEYS Chacu & Pitt Franco 🎧 en cabina #housemusic \n🔸SÁBADO • 00’30h • NOCHE\n•Sala Dorian LA MOCHA 🎸 en directo #poprocknacional\n•Sala Gray BORJA CONESA 🎧 en cabina #urbanmusic \nPERÒ ESPEREU QUE ENCARA QUEDA TRACA….
URL:https://disfruta-denia.com/evento/sabado-de-dorian-gray-3-2-2-2-2-2-2-2-2-2-2-2-2-2-2-2-2-2-2-2/2024-03-16/
LOCATION:Dorian Gray Denia\, Carrer de la Mar\, 14\, Denia\, Alicante\, 03700\, España
CATEGORIES:DJ,Música,Ocio nocturno
ATTACH;FMTTYPE=image/png:https://disfruta-denia.com/wp-content/uploads/2024/02/Dorian-Gray-Denia-doriangray_denia-•-Instagram-photos-and-videos.png
END:VEVENT
BEGIN:VEVENT
DTSTART;TZID=Europe/Madrid:20240322T235900
DTEND;TZID=Europe/Madrid:20240322T235900
DTSTAMP:20260424T161601
CREATED:20240314T095143Z
LAST-MODIFIED:20240314T095145Z
UID:10003839-1711151940-1711151940@disfruta-denia.com
SUMMARY:Viernes de Dorian Gray
DESCRIPTION:🔸JUEVES • 00’00h • NOCHE\nBORJA CONESA 🎧 en cabina #urbanmusic \n🔹 VIERNES • 18’00h • TARDEO\nJGARCIA 🎧 en cabina #urbanmusic \n🔸 VIERNES • 00’00h • NOCHE\n•Sala Dorian MENPHIS 🎸 en directo #poprocknacional\n•Sala Gray BORJA CONESA 🎧 en cabina #urbanmusic \n🔹 SÁBADO • 18’30h • TARDEO\n•Sala Dorian LA MOCHA 🎸 en directo #poprocknacional\n•Sala Gray CRAZY MONKEYS Chacu & Pitt Franco 🎧 en cabina #housemusic \n🔸SÁBADO • 00’30h • NOCHE\n•Sala Dorian LA MOCHA 🎸 en directo #poprocknacional\n•Sala Gray BORJA CONESA 🎧 en cabina #urbanmusic \nPERÒ ESPEREU QUE ENCARA QUEDA TRACA….
URL:https://disfruta-denia.com/evento/viernes-de-dorian-gray-3-2-2-2-2-2-2-2-2-2-2-2-2-2-2-2-2/2024-03-22/
LOCATION:Dorian Gray Denia\, Carrer de la Mar\, 14\, Denia\, Alicante\, 03700\, España
CATEGORIES:Concierto,DJ,Música,Ocio nocturno
ATTACH;FMTTYPE=image/png:https://disfruta-denia.com/wp-content/uploads/2024/02/Dorian-Gray-Denia-doriangray_denia-•-Instagram-photos-and-videos.png
END:VEVENT
BEGIN:VEVENT
DTSTART;TZID=Europe/Madrid:20240323T235900
DTEND;TZID=Europe/Madrid:20240323T235900
DTSTAMP:20260424T161601
CREATED:20240314T095211Z
LAST-MODIFIED:20240314T095212Z
UID:10004100-1711238340-1711238340@disfruta-denia.com
SUMMARY:Sábado de Dorian Gray
DESCRIPTION:🔸JUEVES • 00’00h • NOCHE\nBORJA CONESA 🎧 en cabina #urbanmusic \n🔹 VIERNES • 18’00h • TARDEO\nJGARCIA 🎧 en cabina #urbanmusic \n🔸 VIERNES • 00’00h • NOCHE\n•Sala Dorian MENPHIS 🎸 en directo #poprocknacional\n•Sala Gray BORJA CONESA 🎧 en cabina #urbanmusic \n🔹 SÁBADO • 18’30h • TARDEO\n•Sala Dorian LA MOCHA 🎸 en directo #poprocknacional\n•Sala Gray CRAZY MONKEYS Chacu & Pitt Franco 🎧 en cabina #housemusic \n🔸SÁBADO • 00’30h • NOCHE\n•Sala Dorian LA MOCHA 🎸 en directo #poprocknacional\n•Sala Gray BORJA CONESA 🎧 en cabina #urbanmusic \nPERÒ ESPEREU QUE ENCARA QUEDA TRACA….
URL:https://disfruta-denia.com/evento/sabado-de-dorian-gray-3-2-2-2-2-2-2-2-2-2-2-2-2-2-2-2-2-2-2-2/2024-03-23/
LOCATION:Dorian Gray Denia\, Carrer de la Mar\, 14\, Denia\, Alicante\, 03700\, España
CATEGORIES:DJ,Música,Ocio nocturno
ATTACH;FMTTYPE=image/png:https://disfruta-denia.com/wp-content/uploads/2024/02/Dorian-Gray-Denia-doriangray_denia-•-Instagram-photos-and-videos.png
END:VEVENT
BEGIN:VEVENT
DTSTART;TZID=Europe/Madrid:20240328T170000
DTEND;TZID=Europe/Madrid:20240328T170000
DTSTAMP:20260424T161601
CREATED:20240328T100625Z
LAST-MODIFIED:20240328T100625Z
UID:10017850-1711645200-1711645200@disfruta-denia.com
SUMMARY:Tardeo con Miguel Lema
DESCRIPTION:este Jueves disfruta del ambiente Lamarserena con la música de @miguellemadj
URL:https://disfruta-denia.com/evento/tardeo-con-miguel-lema/
LOCATION:La Mar Serena\, Moll de la Pansa s/n Edificio Marina el Portet\, Denia\, Alicante\, 03700\, España
CATEGORIES:DJ,Música,Tardeo
ATTACH;FMTTYPE=image/png:https://disfruta-denia.com/wp-content/uploads/2024/03/Lamarserena-lamarserena-denia-•-Instagram-photos-and-videos.png
END:VEVENT
BEGIN:VEVENT
DTSTART;TZID=Europe/Madrid:20240328T233000
DTEND;TZID=Europe/Madrid:20240328T233000
DTSTAMP:20260424T161601
CREATED:20240219T092309Z
LAST-MODIFIED:20240219T092309Z
UID:10017230-1711668600-1711668600@disfruta-denia.com
SUMMARY:Opening Sounders 2024
DESCRIPTION:No podíamos esperar más a deciros esto… \nVOLVEMOS • 28.03.2024 \n[ SAVE THE DATE ]
URL:https://disfruta-denia.com/evento/opening-sounders-2024/
LOCATION:Sounders Discoteca\, Moll de la Pansa\, Marina El Portet\, Denia\, Alicante\, 03700\, España
CATEGORIES:DJ,Música,Ocio nocturno
ATTACH;FMTTYPE=image/jpeg:https://disfruta-denia.com/wp-content/uploads/2024/02/428349504_18383563150079864_4246970153493227023_n.jpg
END:VEVENT
BEGIN:VEVENT
DTSTART;TZID=Europe/Madrid:20240329T173000
DTEND;TZID=Europe/Madrid:20240329T173000
DTSTAMP:20260424T161601
CREATED:20240326T104424Z
LAST-MODIFIED:20240326T104424Z
UID:10017847-1711733400-1711733400@disfruta-denia.com
SUMMARY:TARDEO 100% REMEMBER en Dorian
DESCRIPTION:Este VIERNES SANTO de santo va a tener poco porqué tendremos TARDEO 100% REMEMBER en Dorian Gray!\n\n\n JOSE TUR | PEPE NACHO | RAUL ANDRADE \n\n\nDesde las 17’30h bailarás al ritmo de todos los temazos que sonaron en los 90s\n\n\nEl aforo es limitado así que no te encantes!
URL:https://disfruta-denia.com/evento/tardeo-100-remember-en-dorian/
LOCATION:Dorian Gray Denia\, Carrer de la Mar\, 14\, Denia\, Alicante\, 03700\, España
CATEGORIES:DJ,Música,Tardeo
ATTACH;FMTTYPE=image/jpeg:https://disfruta-denia.com/wp-content/uploads/2024/03/433937341_897373622399012_2056739748713109397_n.jpg
END:VEVENT
BEGIN:VEVENT
DTSTART;TZID=Europe/Madrid:20240329T235900
DTEND;TZID=Europe/Madrid:20240329T235900
DTSTAMP:20260424T161601
CREATED:20240314T095143Z
LAST-MODIFIED:20240314T095145Z
UID:10003840-1711756740-1711756740@disfruta-denia.com
SUMMARY:Viernes de Dorian Gray
DESCRIPTION:🔸JUEVES • 00’00h • NOCHE\nBORJA CONESA 🎧 en cabina #urbanmusic \n🔹 VIERNES • 18’00h • TARDEO\nJGARCIA 🎧 en cabina #urbanmusic \n🔸 VIERNES • 00’00h • NOCHE\n•Sala Dorian MENPHIS 🎸 en directo #poprocknacional\n•Sala Gray BORJA CONESA 🎧 en cabina #urbanmusic \n🔹 SÁBADO • 18’30h • TARDEO\n•Sala Dorian LA MOCHA 🎸 en directo #poprocknacional\n•Sala Gray CRAZY MONKEYS Chacu & Pitt Franco 🎧 en cabina #housemusic \n🔸SÁBADO • 00’30h • NOCHE\n•Sala Dorian LA MOCHA 🎸 en directo #poprocknacional\n•Sala Gray BORJA CONESA 🎧 en cabina #urbanmusic \nPERÒ ESPEREU QUE ENCARA QUEDA TRACA….
URL:https://disfruta-denia.com/evento/viernes-de-dorian-gray-3-2-2-2-2-2-2-2-2-2-2-2-2-2-2-2-2/2024-03-29/
LOCATION:Dorian Gray Denia\, Carrer de la Mar\, 14\, Denia\, Alicante\, 03700\, España
CATEGORIES:Concierto,DJ,Música,Ocio nocturno
ATTACH;FMTTYPE=image/png:https://disfruta-denia.com/wp-content/uploads/2024/02/Dorian-Gray-Denia-doriangray_denia-•-Instagram-photos-and-videos.png
END:VEVENT
BEGIN:VEVENT
DTSTART;TZID=Europe/Madrid:20240330T235900
DTEND;TZID=Europe/Madrid:20240330T235900
DTSTAMP:20260424T161601
CREATED:20240314T095211Z
LAST-MODIFIED:20240314T095212Z
UID:10004101-1711843140-1711843140@disfruta-denia.com
SUMMARY:Sábado de Dorian Gray
DESCRIPTION:🔸JUEVES • 00’00h • NOCHE\nBORJA CONESA 🎧 en cabina #urbanmusic \n🔹 VIERNES • 18’00h • TARDEO\nJGARCIA 🎧 en cabina #urbanmusic \n🔸 VIERNES • 00’00h • NOCHE\n•Sala Dorian MENPHIS 🎸 en directo #poprocknacional\n•Sala Gray BORJA CONESA 🎧 en cabina #urbanmusic \n🔹 SÁBADO • 18’30h • TARDEO\n•Sala Dorian LA MOCHA 🎸 en directo #poprocknacional\n•Sala Gray CRAZY MONKEYS Chacu & Pitt Franco 🎧 en cabina #housemusic \n🔸SÁBADO • 00’30h • NOCHE\n•Sala Dorian LA MOCHA 🎸 en directo #poprocknacional\n•Sala Gray BORJA CONESA 🎧 en cabina #urbanmusic \nPERÒ ESPEREU QUE ENCARA QUEDA TRACA….
URL:https://disfruta-denia.com/evento/sabado-de-dorian-gray-3-2-2-2-2-2-2-2-2-2-2-2-2-2-2-2-2-2-2-2/2024-03-30/
LOCATION:Dorian Gray Denia\, Carrer de la Mar\, 14\, Denia\, Alicante\, 03700\, España
CATEGORIES:DJ,Música,Ocio nocturno
ATTACH;FMTTYPE=image/png:https://disfruta-denia.com/wp-content/uploads/2024/02/Dorian-Gray-Denia-doriangray_denia-•-Instagram-photos-and-videos.png
END:VEVENT
BEGIN:VEVENT
DTSTART;TZID=Europe/Madrid:20240331T180000
DTEND;TZID=Europe/Madrid:20240331T180000
DTSTAMP:20260424T161601
CREATED:20240330T174211Z
LAST-MODIFIED:20240330T174211Z
UID:10017855-1711908000-1711908000@disfruta-denia.com
SUMMARY:Domingo Santo en Dorian
DESCRIPTION:
URL:https://disfruta-denia.com/evento/domingo-santo-en-dorian/2024-03-31/1/
LOCATION:Dorian Gray Denia\, Carrer de la Mar\, 14\, Denia\, Alicante\, 03700\, España
CATEGORIES:Concierto,DJ,Música,Ocio nocturno,Tardeo
ATTACH;FMTTYPE=image/jpeg:https://disfruta-denia.com/wp-content/uploads/2024/03/IMG_6763.jpeg
END:VEVENT
BEGIN:VEVENT
DTSTART;TZID=Europe/Madrid:20240331T233000
DTEND;TZID=Europe/Madrid:20240331T233000
DTSTAMP:20260424T161601
CREATED:20240330T174211Z
LAST-MODIFIED:20240330T174211Z
UID:10017856-1711927800-1711927800@disfruta-denia.com
SUMMARY:Domingo Santo en Dorian
DESCRIPTION:
URL:https://disfruta-denia.com/evento/domingo-santo-en-dorian/2024-03-31/2/
LOCATION:Dorian Gray Denia\, Carrer de la Mar\, 14\, Denia\, Alicante\, 03700\, España
CATEGORIES:Concierto,DJ,Música,Ocio nocturno,Tardeo
ATTACH;FMTTYPE=image/jpeg:https://disfruta-denia.com/wp-content/uploads/2024/03/IMG_6763.jpeg
END:VEVENT
END:VCALENDAR