BEGIN:VCALENDAR
VERSION:2.0
PRODID:-//Disfruta Denia - ECPv6.15.20//NONSGML v1.0//EN
CALSCALE:GREGORIAN
METHOD:PUBLISH
X-ORIGINAL-URL:https://disfruta-denia.com
X-WR-CALDESC:Eventos para Disfruta Denia
REFRESH-INTERVAL;VALUE=DURATION:PT1H
X-Robots-Tag:noindex
X-PUBLISHED-TTL:PT1H
BEGIN:VTIMEZONE
TZID:Europe/Madrid
BEGIN:DAYLIGHT
TZOFFSETFROM:+0100
TZOFFSETTO:+0200
TZNAME:CEST
DTSTART:20230326T010000
END:DAYLIGHT
BEGIN:STANDARD
TZOFFSETFROM:+0200
TZOFFSETTO:+0100
TZNAME:CET
DTSTART:20231029T010000
END:STANDARD
BEGIN:DAYLIGHT
TZOFFSETFROM:+0100
TZOFFSETTO:+0200
TZNAME:CEST
DTSTART:20240331T010000
END:DAYLIGHT
BEGIN:STANDARD
TZOFFSETFROM:+0200
TZOFFSETTO:+0100
TZNAME:CET
DTSTART:20241027T010000
END:STANDARD
BEGIN:DAYLIGHT
TZOFFSETFROM:+0100
TZOFFSETTO:+0200
TZNAME:CEST
DTSTART:20250330T010000
END:DAYLIGHT
BEGIN:STANDARD
TZOFFSETFROM:+0200
TZOFFSETTO:+0100
TZNAME:CET
DTSTART:20251026T010000
END:STANDARD
END:VTIMEZONE
BEGIN:VEVENT
DTSTART;TZID=Europe/Madrid:20240405T235900
DTEND;TZID=Europe/Madrid:20240405T235900
DTSTAMP:20260424T143636
CREATED:20240405T094423Z
LAST-MODIFIED:20240405T094425Z
UID:10003841-1712361540-1712361540@disfruta-denia.com
SUMMARY:Viernes de Dorian Gray
DESCRIPTION: LA TARARA SI\, LA TARARA NO…. \n JUEVES • 23’30h • NOCHE\n•TARON  en cabina #urbanmusic \n VIERNES • 00’00h • NOCHE\n•Sala Dorian CAPITAL 90  en directo #poprocknacional\n•Sala Gray BORJA CONESA  en cabina #urbanmusic \n SÁBADO • 18:00h • TARDEO\n•Sala Dorian BORJA CONESA & DION DOBBE  en cabina #urbanmusic \n SÁBADO • 23’30h • NOCHE\n•Sala Dorian MENPHIS  en directo #poprocknacional\n•Sala Gray TARON  en cabina #urbanmusic \n DOMINGO • 18’30h • TARDEO\nRUMBADOS  en directo #rumbaflamenca y q continuación BORJA CONESA  en cabina #urbanmusic \nSI AÚN NO TE HAS COMIDO LA MONA\, ESTE FIN DE SEMANA TE LA COGES EN EL DORIAN
URL:https://disfruta-denia.com/evento/viernes-de-dorian-gray-3-2-2-2-2-2-2-2-2-2-2-2-2-2-2-2-2-2/2024-04-05/
LOCATION:Dorian Gray Denia\, Carrer de la Mar\, 14\, Denia\, Alicante\, 03700\, España
CATEGORIES:Concierto,DJ,Música,Ocio nocturno
ATTACH;FMTTYPE=image/jpeg:https://disfruta-denia.com/wp-content/uploads/2024/03/432224083_904160781720296_7996030685834246224_n.jpg
END:VEVENT
BEGIN:VEVENT
DTSTART;TZID=Europe/Madrid:20240406T235900
DTEND;TZID=Europe/Madrid:20240406T235900
DTSTAMP:20260424T143636
CREATED:20240405T094445Z
LAST-MODIFIED:20240405T094447Z
UID:10004102-1712447940-1712447940@disfruta-denia.com
SUMMARY:Sábado de Dorian Gray
DESCRIPTION: LA TARARA SI\, LA TARARA NO…. \n JUEVES • 23’30h • NOCHE\n•TARON  en cabina #urbanmusic \n VIERNES • 00’00h • NOCHE\n•Sala Dorian CAPITAL 90  en directo #poprocknacional\n•Sala Gray BORJA CONESA  en cabina #urbanmusic \n SÁBADO • 18:00h • TARDEO\n•Sala Dorian BORJA CONESA & DION DOBBE  en cabina #urbanmusic \n SÁBADO • 23’30h • NOCHE\n•Sala Dorian MENPHIS  en directo #poprocknacional\n•Sala Gray TARON  en cabina #urbanmusic \n DOMINGO • 18’30h • TARDEO\nRUMBADOS  en directo #rumbaflamenca y q continuación BORJA CONESA  en cabina #urbanmusic \nSI AÚN NO TE HAS COMIDO LA MONA\, ESTE FIN DE SEMANA TE LA COGES EN EL DORIAN
URL:https://disfruta-denia.com/evento/sabado-de-dorian-gray-3-2-2-2-2-2-2-2-2-2-2-2-2-2-2-2-2-2-2-2-2/2024-04-06/
LOCATION:Dorian Gray Denia\, Carrer de la Mar\, 14\, Denia\, Alicante\, 03700\, España
CATEGORIES:DJ,Música,Ocio nocturno
ATTACH;FMTTYPE=image/jpeg:https://disfruta-denia.com/wp-content/uploads/2024/03/432224083_904160781720296_7996030685834246224_n.jpg
END:VEVENT
BEGIN:VEVENT
DTSTART;TZID=Europe/Madrid:20240412T235900
DTEND;TZID=Europe/Madrid:20240412T235900
DTSTAMP:20260424T143636
CREATED:20240405T094423Z
LAST-MODIFIED:20240405T094425Z
UID:10003842-1712966340-1712966340@disfruta-denia.com
SUMMARY:Viernes de Dorian Gray
DESCRIPTION: LA TARARA SI\, LA TARARA NO…. \n JUEVES • 23’30h • NOCHE\n•TARON  en cabina #urbanmusic \n VIERNES • 00’00h • NOCHE\n•Sala Dorian CAPITAL 90  en directo #poprocknacional\n•Sala Gray BORJA CONESA  en cabina #urbanmusic \n SÁBADO • 18:00h • TARDEO\n•Sala Dorian BORJA CONESA & DION DOBBE  en cabina #urbanmusic \n SÁBADO • 23’30h • NOCHE\n•Sala Dorian MENPHIS  en directo #poprocknacional\n•Sala Gray TARON  en cabina #urbanmusic \n DOMINGO • 18’30h • TARDEO\nRUMBADOS  en directo #rumbaflamenca y q continuación BORJA CONESA  en cabina #urbanmusic \nSI AÚN NO TE HAS COMIDO LA MONA\, ESTE FIN DE SEMANA TE LA COGES EN EL DORIAN
URL:https://disfruta-denia.com/evento/viernes-de-dorian-gray-3-2-2-2-2-2-2-2-2-2-2-2-2-2-2-2-2-2/2024-04-12/
LOCATION:Dorian Gray Denia\, Carrer de la Mar\, 14\, Denia\, Alicante\, 03700\, España
CATEGORIES:Concierto,DJ,Música,Ocio nocturno
ATTACH;FMTTYPE=image/jpeg:https://disfruta-denia.com/wp-content/uploads/2024/03/432224083_904160781720296_7996030685834246224_n.jpg
END:VEVENT
BEGIN:VEVENT
DTSTART;TZID=Europe/Madrid:20240413T235900
DTEND;TZID=Europe/Madrid:20240413T235900
DTSTAMP:20260424T143636
CREATED:20240405T094445Z
LAST-MODIFIED:20240405T094447Z
UID:10004103-1713052740-1713052740@disfruta-denia.com
SUMMARY:Sábado de Dorian Gray
DESCRIPTION: LA TARARA SI\, LA TARARA NO…. \n JUEVES • 23’30h • NOCHE\n•TARON  en cabina #urbanmusic \n VIERNES • 00’00h • NOCHE\n•Sala Dorian CAPITAL 90  en directo #poprocknacional\n•Sala Gray BORJA CONESA  en cabina #urbanmusic \n SÁBADO • 18:00h • TARDEO\n•Sala Dorian BORJA CONESA & DION DOBBE  en cabina #urbanmusic \n SÁBADO • 23’30h • NOCHE\n•Sala Dorian MENPHIS  en directo #poprocknacional\n•Sala Gray TARON  en cabina #urbanmusic \n DOMINGO • 18’30h • TARDEO\nRUMBADOS  en directo #rumbaflamenca y q continuación BORJA CONESA  en cabina #urbanmusic \nSI AÚN NO TE HAS COMIDO LA MONA\, ESTE FIN DE SEMANA TE LA COGES EN EL DORIAN
URL:https://disfruta-denia.com/evento/sabado-de-dorian-gray-3-2-2-2-2-2-2-2-2-2-2-2-2-2-2-2-2-2-2-2-2/2024-04-13/
LOCATION:Dorian Gray Denia\, Carrer de la Mar\, 14\, Denia\, Alicante\, 03700\, España
CATEGORIES:DJ,Música,Ocio nocturno
ATTACH;FMTTYPE=image/jpeg:https://disfruta-denia.com/wp-content/uploads/2024/03/432224083_904160781720296_7996030685834246224_n.jpg
END:VEVENT
BEGIN:VEVENT
DTSTART;TZID=Europe/Madrid:20240419T235900
DTEND;TZID=Europe/Madrid:20240419T235900
DTSTAMP:20260424T143636
CREATED:20240416T065821Z
LAST-MODIFIED:20240416T065823Z
UID:10003843-1713571140-1713571140@disfruta-denia.com
SUMMARY:Viernes de Dorian Gray
DESCRIPTION: OS SUENA EL 20 DE ABRIL DEL 90? JUEVES • 23’30h • NOCHE• JUNTOS Y REVUELTOS  en directo #poprockindie VIERNES • 00’00h • NOCHE•Sala Dorian CAPITAL 90  en directo #poprocknacional•Sala Gray BORJA CONESA  en cabina #urbanmusic SÁBADO • 18:00h • TARDEO•Sala Dorian MENPHIS  en directo #poprocknacional•Sala Gray DION DOBBE  en cabina #urbanmusic SÁBADO • 23’30h • NOCHE•Sala Dorian MENPHIS  en directo #poprocknacional•Sala Gray BORJA CONESA  en cabina #urbanmusic DOMINGO • 18’30h • TARDEORUMBADOS  en directo #rumbaflamencaGRACIAS A CELTAS CORTOS ESTA FECHA LA CANTAMOS TODXS
URL:https://disfruta-denia.com/evento/viernes-de-dorian-gray-3-2-2-2-2-2-2-2-2-2-2-2-2-2-2-2-2-2-2/
LOCATION:Dorian Gray Denia\, Carrer de la Mar\, 14\, Denia\, Alicante\, 03700\, España
CATEGORIES:Concierto,DJ,Música,Ocio nocturno
ATTACH;FMTTYPE=image/jpeg:https://disfruta-denia.com/wp-content/uploads/2024/04/435981435_911119837691057_4795141613137489717_n.jpg
END:VEVENT
BEGIN:VEVENT
DTSTART;TZID=Europe/Madrid:20240420T210000
DTEND;TZID=Europe/Madrid:20240420T210000
DTSTAMP:20260424T143636
CREATED:20240416T162817Z
LAST-MODIFIED:20240416T162817Z
UID:10018179-1713646800-1713646800@disfruta-denia.com
SUMMARY:Soulful Funk Infused CASA Party
DESCRIPTION:Immerse yourself in music with SOUMZ\, an eclectic DJ who transcends borders blending different beats from soul\, funk\, jazz\, Afrobeat\, hip hop\, house and disco. A true world citizen and an avid traveler\, his sets unite cultures and takes crowds on an unforgettable musical adventure. \n\n\n\n\n\nTime & Location\n\n\n\n\n\n\n\n\nApr 20\, 2024\, 9:00 PM \nXàbia\, Carrer d’Azorín\, 4\, 03730 Xàbia\, Alicante\, Spain \n\n\n\n\nCheese board and a glass of cava included\n\n\nDress Code: Casual
URL:https://disfruta-denia.com/evento/soulful-funk-infused-casa-party/
LOCATION:Casa Recoleto\, CARRER AZORÍN 4\, Jávea\, Alicante\, España
CATEGORIES:DJ,Música
ATTACH;FMTTYPE=image/jpeg:https://disfruta-denia.com/wp-content/uploads/2024/04/c357edf5-9d1a-4f75-93e5-569aad5ce8f3.jpeg
END:VEVENT
BEGIN:VEVENT
DTSTART;TZID=Europe/Madrid:20240420T235900
DTEND;TZID=Europe/Madrid:20240420T235900
DTSTAMP:20260424T143636
CREATED:20240416T065839Z
LAST-MODIFIED:20240416T065841Z
UID:10004104-1713657540-1713657540@disfruta-denia.com
SUMMARY:Sábado de Dorian Gray
DESCRIPTION: OS SUENA EL 20 DE ABRIL DEL 90? JUEVES • 23’30h • NOCHE• JUNTOS Y REVUELTOS  en directo #poprockindie VIERNES • 00’00h • NOCHE•Sala Dorian CAPITAL 90  en directo #poprocknacional•Sala Gray BORJA CONESA  en cabina #urbanmusic SÁBADO • 18:00h • TARDEO•Sala Dorian MENPHIS  en directo #poprocknacional•Sala Gray DION DOBBE  en cabina #urbanmusic SÁBADO • 23’30h • NOCHE•Sala Dorian MENPHIS  en directo #poprocknacional•Sala Gray BORJA CONESA  en cabina #urbanmusic DOMINGO • 18’30h • TARDEORUMBADOS  en directo #rumbaflamencaGRACIAS A CELTAS CORTOS ESTA FECHA LA CANTAMOS TODXS
URL:https://disfruta-denia.com/evento/sabado-de-dorian-gray-3-2-2-2-2-2-2-2-2-2-2-2-2-2-2-2-2-2-2-2-2-2/
LOCATION:Dorian Gray Denia\, Carrer de la Mar\, 14\, Denia\, Alicante\, 03700\, España
CATEGORIES:DJ,Música,Ocio nocturno
ATTACH;FMTTYPE=image/jpeg:https://disfruta-denia.com/wp-content/uploads/2024/04/435981435_911119837691057_4795141613137489717_n.jpg
END:VEVENT
BEGIN:VEVENT
DTSTART;TZID=Europe/Madrid:20240426T235900
DTEND;TZID=Europe/Madrid:20240426T235900
DTSTAMP:20260424T143636
CREATED:20240426T065957Z
LAST-MODIFIED:20240426T065959Z
UID:10003844-1714175940-1714175940@disfruta-denia.com
SUMMARY:Viernes de Dorian Gray
DESCRIPTION:JUEVES • 23’30h • NOCHE\n• JUNTOS Y REVUELTOS 🎸 en directo #poprockindie \n🔸 VIERNES • 18’30h • TARDEO\n• DION DOBBE 🎧 en cabina #urbanmusic \n🔹 VIERNES • 00’00h • NOCHE\n•Sala Dorian CAPITAL 90 🎸 en directo #poprocknacional\n•Sala Gray BORJA CONESA 🎧 en cabina #urbanmusic \n🔸 SÁBADO • 18:00h • TARDEO\n•Sala Dorian LA MOCHA 🎸 en directo #poprocknacional\n•Sala Gray JGARCIA 🎧 en cabina #urbanmusic \n🔹 SÁBADO • 23’30h • NOCHE\n•Sala Dorian LA MOCHA 🎸 en directo #poprocknacional\n•Sala Gray BORJA CONESA 🎧 en cabina #urbanmusic \n🔸 DOMINGO • 18’30h • TARDEO\nRUMBADOS 💃🏼 en directo #rumbaflamenca \nSOLO SE VALE CANTAR\, BAILAR Y DISFRUTAR!
URL:https://disfruta-denia.com/evento/viernes-de-dorian-gray-3-2-2-2-2-2-2-2-2-2-2-2-2-2-2-2-2-2-2-2/
LOCATION:Dorian Gray Denia\, Carrer de la Mar\, 14\, Denia\, Alicante\, 03700\, España
CATEGORIES:Concierto,DJ,Música,Ocio nocturno
ATTACH;FMTTYPE=image/png:https://disfruta-denia.com/wp-content/uploads/2024/04/Dorian-Gray-Denia-doriangray_denia-•-Instagram-photos-and-videos.png
END:VEVENT
BEGIN:VEVENT
DTSTART;TZID=Europe/Madrid:20240427T235900
DTEND;TZID=Europe/Madrid:20240427T235900
DTSTAMP:20260424T143636
CREATED:20240426T070037Z
LAST-MODIFIED:20240426T070039Z
UID:10004105-1714262340-1714262340@disfruta-denia.com
SUMMARY:Sábado de Dorian Gray
DESCRIPTION:JUEVES • 23’30h • NOCHE\n• JUNTOS Y REVUELTOS 🎸 en directo #poprockindie \n🔸 VIERNES • 18’30h • TARDEO\n• DION DOBBE 🎧 en cabina #urbanmusic \n🔹 VIERNES • 00’00h • NOCHE\n•Sala Dorian CAPITAL 90 🎸 en directo #poprocknacional\n•Sala Gray BORJA CONESA 🎧 en cabina #urbanmusic \n🔸 SÁBADO • 18:00h • TARDEO\n•Sala Dorian LA MOCHA 🎸 en directo #poprocknacional\n•Sala Gray JGARCIA 🎧 en cabina #urbanmusic \n🔹 SÁBADO • 23’30h • NOCHE\n•Sala Dorian LA MOCHA 🎸 en directo #poprocknacional\n•Sala Gray BORJA CONESA 🎧 en cabina #urbanmusic \n🔸 DOMINGO • 18’30h • TARDEO\nRUMBADOS 💃🏼 en directo #rumbaflamenca \nSOLO SE VALE CANTAR\, BAILAR Y DISFRUTAR!
URL:https://disfruta-denia.com/evento/sabado-de-dorian-gray-3-2-2-2-2-2-2-2-2-2-2-2-2-2-2-2-2-2-2-2-2-2-2/
LOCATION:Dorian Gray Denia\, Carrer de la Mar\, 14\, Denia\, Alicante\, 03700\, España
CATEGORIES:DJ,Música,Ocio nocturno
ATTACH;FMTTYPE=image/png:https://disfruta-denia.com/wp-content/uploads/2024/04/Dorian-Gray-Denia-doriangray_denia-•-Instagram-photos-and-videos.png
END:VEVENT
END:VCALENDAR