BEGIN:VCALENDAR
VERSION:2.0
PRODID:-//Disfruta Denia - ECPv6.15.20//NONSGML v1.0//EN
CALSCALE:GREGORIAN
METHOD:PUBLISH
X-WR-CALNAME:Disfruta Denia
X-ORIGINAL-URL:https://disfruta-denia.com
X-WR-CALDESC:Eventos para Disfruta Denia
REFRESH-INTERVAL;VALUE=DURATION:PT1H
X-Robots-Tag:noindex
X-PUBLISHED-TTL:PT1H
BEGIN:VTIMEZONE
TZID:Europe/Madrid
BEGIN:DAYLIGHT
TZOFFSETFROM:+0100
TZOFFSETTO:+0200
TZNAME:CEST
DTSTART:20230326T010000
END:DAYLIGHT
BEGIN:STANDARD
TZOFFSETFROM:+0200
TZOFFSETTO:+0100
TZNAME:CET
DTSTART:20231029T010000
END:STANDARD
BEGIN:DAYLIGHT
TZOFFSETFROM:+0100
TZOFFSETTO:+0200
TZNAME:CEST
DTSTART:20240331T010000
END:DAYLIGHT
BEGIN:STANDARD
TZOFFSETFROM:+0200
TZOFFSETTO:+0100
TZNAME:CET
DTSTART:20241027T010000
END:STANDARD
BEGIN:DAYLIGHT
TZOFFSETFROM:+0100
TZOFFSETTO:+0200
TZNAME:CEST
DTSTART:20250330T010000
END:DAYLIGHT
BEGIN:STANDARD
TZOFFSETFROM:+0200
TZOFFSETTO:+0100
TZNAME:CET
DTSTART:20251026T010000
END:STANDARD
END:VTIMEZONE
BEGIN:VEVENT
DTSTART;TZID=Europe/Madrid:20240601T235900
DTEND;TZID=Europe/Madrid:20240601T235900
DTSTAMP:20260424T093650
CREATED:20240530T131622Z
LAST-MODIFIED:20240530T131624Z
UID:10004110-1717286340-1717286340@disfruta-denia.com
SUMMARY:Sábado de Dorian Gray
DESCRIPTION:CUENTA ATRÁS PARA VERANO! \n🔸JUEVES • 00’00h • NOCHE\nJUNTOS Y REVUELTOS 🎸 en directo #poprockindieespañol \n🔹VIERNES • 00’00h • NOCHE\n•Sala Dorian LA MOCHA 🎸 en directo #poprockindieespañol\n•Sala Gray BORJA CONESA 🎧 en cabina #urbanmusic \n🔸SÁBADO • 19’00h • TARDEO\nMENPHIS 🎸 en directo #poprockindieespañol \n🔹SÁBADO • 00’00h • NOCHE\n•Sala Dorian MENPHIS 🎸 en directo #poprockindieespañol\n•Sala Gray BORJA CONESA 🎧 en cabina #urbanmusic
URL:https://disfruta-denia.com/evento/sabado-de-dorian-gray-4/
LOCATION:Dorian Gray Denia\, Carrer de la Mar\, 14\, Denia\, Alicante\, 03700\, España
CATEGORIES:DJ,Música,Ocio nocturno
ATTACH;FMTTYPE=image/png:https://disfruta-denia.com/wp-content/uploads/2024/05/Dorian-Gray-Denia-doriangray_denia-•-Instagram-photos-and-videos-1.png
END:VEVENT
BEGIN:VEVENT
DTSTART;TZID=Europe/Madrid:20240607T173000
DTEND;TZID=Europe/Madrid:20240607T173000
DTSTAMP:20260424T093650
CREATED:20240530T130548Z
LAST-MODIFIED:20240530T130550Z
UID:10018604-1717781400-1717781400@disfruta-denia.com
SUMMARY:Tardeo en La Mar Serena
DESCRIPTION:No estáis listos para el show de este Viernes ❤️‍🔥\n@miguellemadj & @raquelcardonamusic vienen cargados de hits 🪩 ¡Nos vemos en la pista!
URL:https://disfruta-denia.com/evento/tardeo-en-la-mar-serena-2-2/2024-06-07/
LOCATION:La Mar Serena\, Moll de la Pansa s/n Edificio Marina el Portet\, Denia\, Alicante\, 03700\, España
CATEGORIES:DJ,Música,Tardeo
ATTACH;FMTTYPE=image/jpeg:https://disfruta-denia.com/wp-content/uploads/2024/05/IMG-20240530-WA0011.jpg
END:VEVENT
BEGIN:VEVENT
DTSTART;TZID=Europe/Madrid:20240607T235900
DTEND;TZID=Europe/Madrid:20240607T235900
DTSTAMP:20260424T093650
CREATED:20240605T054437Z
LAST-MODIFIED:20240605T054538Z
UID:10003850-1717804740-1717804740@disfruta-denia.com
SUMMARY:Viernes de Dorian Gray
DESCRIPTION:📣 EMPEZAMOS JUNIO! \n🔸JUEVES • 00’00h • NOCHE\nJUNTOS Y REVUELTOS 🎸 en directo #poprockindieespañol \n🔹VIERNES • 00’00h • NOCHE\n•Sala Dorian MENPHIS 🎸 en directo #poprockindieespañol\n•Sala Gray BORJA CONESA 🎧 en cabina #urbanmusic \n🔸SÁBADO • 19’00h • TARDEO\nNAUFRAGOS 🎸 en directo #poprocknacional \n🔹SÁBADO • 00’00h • NOCHE\n•Sala Dorian CAPITAL 90 🎸 en directo #poprockindieespañol\n•Sala Gray DION DOBBE 🎧 en cabina #urbanmusic
URL:https://disfruta-denia.com/evento/viernes-de-dorian-gray-4-2/
LOCATION:Dorian Gray Denia\, Carrer de la Mar\, 14\, Denia\, Alicante\, 03700\, España
CATEGORIES:Concierto,DJ,Música,Ocio nocturno
ATTACH;FMTTYPE=image/png:https://disfruta-denia.com/wp-content/uploads/2024/05/Dorian-Gray-Denia-doriangray_denia-•-Instagram-photos-and-videos-2.png
END:VEVENT
BEGIN:VEVENT
DTSTART;TZID=Europe/Madrid:20240608T235900
DTEND;TZID=Europe/Madrid:20240608T235900
DTSTAMP:20260424T093650
CREATED:20240605T054611Z
LAST-MODIFIED:20240605T054613Z
UID:10004111-1717891140-1717891140@disfruta-denia.com
SUMMARY:Sábado de Dorian Gray
DESCRIPTION:📣 EMPEZAMOS JUNIO! \n🔸JUEVES • 00’00h • NOCHE\nJUNTOS Y REVUELTOS 🎸 en directo #poprockindieespañol \n🔹VIERNES • 00’00h • NOCHE\n•Sala Dorian MENPHIS 🎸 en directo #poprockindieespañol\n•Sala Gray BORJA CONESA 🎧 en cabina #urbanmusic \n🔸SÁBADO • 19’00h • TARDEO\nNAUFRAGOS 🎸 en directo #poprocknacional \n🔹SÁBADO • 00’00h • NOCHE\n•Sala Dorian CAPITAL 90 🎸 en directo #poprockindieespañol\n•Sala Gray DION DOBBE 🎧 en cabina #urbanmusic
URL:https://disfruta-denia.com/evento/sabado-de-dorian-gray-4-2/
LOCATION:Dorian Gray Denia\, Carrer de la Mar\, 14\, Denia\, Alicante\, 03700\, España
CATEGORIES:DJ,Música,Ocio nocturno
ATTACH;FMTTYPE=image/png:https://disfruta-denia.com/wp-content/uploads/2024/05/Dorian-Gray-Denia-doriangray_denia-•-Instagram-photos-and-videos-2.png
END:VEVENT
BEGIN:VEVENT
DTSTART;TZID=Europe/Madrid:20240614T173000
DTEND;TZID=Europe/Madrid:20240614T173000
DTSTAMP:20260424T093650
CREATED:20240530T130548Z
LAST-MODIFIED:20240530T130550Z
UID:10018605-1718386200-1718386200@disfruta-denia.com
SUMMARY:Tardeo en La Mar Serena
DESCRIPTION:No estáis listos para el show de este Viernes ❤️‍🔥\n@miguellemadj & @raquelcardonamusic vienen cargados de hits 🪩 ¡Nos vemos en la pista!
URL:https://disfruta-denia.com/evento/tardeo-en-la-mar-serena-2-2/2024-06-14/
LOCATION:La Mar Serena\, Moll de la Pansa s/n Edificio Marina el Portet\, Denia\, Alicante\, 03700\, España
CATEGORIES:DJ,Música,Tardeo
ATTACH;FMTTYPE=image/jpeg:https://disfruta-denia.com/wp-content/uploads/2024/05/IMG-20240530-WA0011.jpg
END:VEVENT
BEGIN:VEVENT
DTSTART;TZID=Europe/Madrid:20240614T235900
DTEND;TZID=Europe/Madrid:20240614T235900
DTSTAMP:20260424T093650
CREATED:20240613T203447Z
LAST-MODIFIED:20240613T203450Z
UID:10003851-1718409540-1718409540@disfruta-denia.com
SUMMARY:Viernes de Dorian Gray
DESCRIPTION:🔸JUEVES • 00’00h • NOCHE\n•JUNTOS Y REVUELTOS 🎸 en directo #poprockindieespañol \n🔹VIERNES • 19’00h • TARDEO\n•XARANGA EL CUIXOT 🎺🎷 en directo #festapopular \n🔸VIERNES • 00’00h • NOCHE\n•Sala Dorian LA MOCHA 🎸 en directo #poprockindieespañol\n•Sala Gray BORJA CONESA 🎧 en cabina #urbanmusic \n🔹SÁBADO • 19’00h • TARDEO\n•CAPITAL 90 🎸 en directo #poprocknacional \n🔸SÁBADO • 00’00h • NOCHE\n•Sala Dorian CAPITAL 90 🎸 en directo #poprocknacional\n•Sala Gray BORJA CONESA 🎧 en cabina #urbanmusic \nLXS QUE HAGAN PLENO PREMIO! 🥇🏆
URL:https://disfruta-denia.com/evento/viernes-de-dorian-gray-4-2-2/2024-06-14/
LOCATION:Dorian Gray Denia\, Carrer de la Mar\, 14\, Denia\, Alicante\, 03700\, España
CATEGORIES:Concierto,DJ,Música,Ocio nocturno
ATTACH;FMTTYPE=image/png:https://disfruta-denia.com/wp-content/uploads/2024/06/Dorian-Gray-Denia-doriangray_denia-•-Instagram-photos-and-videos-3.png
END:VEVENT
BEGIN:VEVENT
DTSTART;TZID=Europe/Madrid:20240615T235900
DTEND;TZID=Europe/Madrid:20240615T235900
DTSTAMP:20260424T093650
CREATED:20240613T203509Z
LAST-MODIFIED:20240613T203512Z
UID:10004112-1718495940-1718495940@disfruta-denia.com
SUMMARY:Sábado de Dorian Gray
DESCRIPTION:🔸JUEVES • 00’00h • NOCHE\n•JUNTOS Y REVUELTOS 🎸 en directo #poprockindieespañol \n🔹VIERNES • 19’00h • TARDEO\n•XARANGA EL CUIXOT 🎺🎷 en directo #festapopular \n🔸VIERNES • 00’00h • NOCHE\n•Sala Dorian LA MOCHA 🎸 en directo #poprockindieespañol\n•Sala Gray BORJA CONESA 🎧 en cabina #urbanmusic \n🔹SÁBADO • 19’00h • TARDEO\n•CAPITAL 90 🎸 en directo #poprocknacional \n🔸SÁBADO • 00’00h • NOCHE\n•Sala Dorian CAPITAL 90 🎸 en directo #poprocknacional\n•Sala Gray BORJA CONESA 🎧 en cabina #urbanmusic \nLXS QUE HAGAN PLENO PREMIO! 🥇🏆
URL:https://disfruta-denia.com/evento/sabado-de-dorian-gray-4-2-2/
LOCATION:Dorian Gray Denia\, Carrer de la Mar\, 14\, Denia\, Alicante\, 03700\, España
CATEGORIES:DJ,Música,Ocio nocturno
ATTACH;FMTTYPE=image/png:https://disfruta-denia.com/wp-content/uploads/2024/06/Dorian-Gray-Denia-doriangray_denia-•-Instagram-photos-and-videos-3.png
END:VEVENT
BEGIN:VEVENT
DTSTART;TZID=Europe/Madrid:20240621T173000
DTEND;TZID=Europe/Madrid:20240621T173000
DTSTAMP:20260424T093650
CREATED:20240530T130548Z
LAST-MODIFIED:20240530T130550Z
UID:10018606-1718991000-1718991000@disfruta-denia.com
SUMMARY:Tardeo en La Mar Serena
DESCRIPTION:No estáis listos para el show de este Viernes ❤️‍🔥\n@miguellemadj & @raquelcardonamusic vienen cargados de hits 🪩 ¡Nos vemos en la pista!
URL:https://disfruta-denia.com/evento/tardeo-en-la-mar-serena-2-2/2024-06-21/
LOCATION:La Mar Serena\, Moll de la Pansa s/n Edificio Marina el Portet\, Denia\, Alicante\, 03700\, España
CATEGORIES:DJ,Música,Tardeo
ATTACH;FMTTYPE=image/jpeg:https://disfruta-denia.com/wp-content/uploads/2024/05/IMG-20240530-WA0011.jpg
END:VEVENT
BEGIN:VEVENT
DTSTART;TZID=Europe/Madrid:20240621T235900
DTEND;TZID=Europe/Madrid:20240621T235900
DTSTAMP:20260424T093650
CREATED:20240613T203447Z
LAST-MODIFIED:20240613T203450Z
UID:10003852-1719014340-1719014340@disfruta-denia.com
SUMMARY:Viernes de Dorian Gray
DESCRIPTION:🔸JUEVES • 00’00h • NOCHE\n•JUNTOS Y REVUELTOS 🎸 en directo #poprockindieespañol \n🔹VIERNES • 19’00h • TARDEO\n•XARANGA EL CUIXOT 🎺🎷 en directo #festapopular \n🔸VIERNES • 00’00h • NOCHE\n•Sala Dorian LA MOCHA 🎸 en directo #poprockindieespañol\n•Sala Gray BORJA CONESA 🎧 en cabina #urbanmusic \n🔹SÁBADO • 19’00h • TARDEO\n•CAPITAL 90 🎸 en directo #poprocknacional \n🔸SÁBADO • 00’00h • NOCHE\n•Sala Dorian CAPITAL 90 🎸 en directo #poprocknacional\n•Sala Gray BORJA CONESA 🎧 en cabina #urbanmusic \nLXS QUE HAGAN PLENO PREMIO! 🥇🏆
URL:https://disfruta-denia.com/evento/viernes-de-dorian-gray-4-2-2/2024-06-21/
LOCATION:Dorian Gray Denia\, Carrer de la Mar\, 14\, Denia\, Alicante\, 03700\, España
CATEGORIES:Concierto,DJ,Música,Ocio nocturno
ATTACH;FMTTYPE=image/png:https://disfruta-denia.com/wp-content/uploads/2024/06/Dorian-Gray-Denia-doriangray_denia-•-Instagram-photos-and-videos-3.png
END:VEVENT
BEGIN:VEVENT
DTSTART;TZID=Europe/Madrid:20240622T235900
DTEND;TZID=Europe/Madrid:20240622T235900
DTSTAMP:20260424T093650
CREATED:20240622T145621Z
LAST-MODIFIED:20240622T145623Z
UID:10004113-1719100740-1719100740@disfruta-denia.com
SUMMARY:Sábado de Dorian Gray
DESCRIPTION:📣 A SANT JOAN BACORES! \n🔸JUEVES • 00’00h • NOCHE\n•JUNTOS Y REVUELTOS 🎸 en directo #poprockindieespañol \n🔸VIERNES • 00’00h • NOCHE\n•Sala Dorian MENPHIS 🎸 en directo #poprockindieespañol\n•Sala Gray BORJA CONESA 🎧 en cabina #urbanmusic \n🔹SÁBADO • 19’00h • TARDEO\n• DION DOBBE 🎧 en cabina #urbanmusic \n🔸SÁBADO • 00’00h • NOCHE\n•Sala Dorian CAPITAL 90 🎸 en directo #poprocknacional\n•Sala Gray BORJA CONESA 🎧 en cabina #urbanmusic \n🔹 DOMINGO • 00’00h • NOCHE\n• BORJA CONESA 🎧 en cabina #urbanmusic \nY ESTRENAM
URL:https://disfruta-denia.com/evento/sabado-de-dorian-gray-4-2-2-2/2024-06-22/
LOCATION:Dorian Gray Denia\, Carrer de la Mar\, 14\, Denia\, Alicante\, 03700\, España
CATEGORIES:DJ,Música,Ocio nocturno
ATTACH;FMTTYPE=image/png:https://disfruta-denia.com/wp-content/uploads/2024/06/Dorian-Gray-Denia-doriangray_denia-•-Instagram-photos-and-videos-4-1.png
END:VEVENT
BEGIN:VEVENT
DTSTART;TZID=Europe/Madrid:20240628T173000
DTEND;TZID=Europe/Madrid:20240628T173000
DTSTAMP:20260424T093650
CREATED:20240530T130548Z
LAST-MODIFIED:20240530T130550Z
UID:10018607-1719595800-1719595800@disfruta-denia.com
SUMMARY:Tardeo en La Mar Serena
DESCRIPTION:No estáis listos para el show de este Viernes ❤️‍🔥\n@miguellemadj & @raquelcardonamusic vienen cargados de hits 🪩 ¡Nos vemos en la pista!
URL:https://disfruta-denia.com/evento/tardeo-en-la-mar-serena-2-2/2024-06-28/
LOCATION:La Mar Serena\, Moll de la Pansa s/n Edificio Marina el Portet\, Denia\, Alicante\, 03700\, España
CATEGORIES:DJ,Música,Tardeo
ATTACH;FMTTYPE=image/jpeg:https://disfruta-denia.com/wp-content/uploads/2024/05/IMG-20240530-WA0011.jpg
END:VEVENT
BEGIN:VEVENT
DTSTART;TZID=Europe/Madrid:20240628T235900
DTEND;TZID=Europe/Madrid:20240628T235900
DTSTAMP:20260424T093650
CREATED:20240613T203447Z
LAST-MODIFIED:20240613T203450Z
UID:10003853-1719619140-1719619140@disfruta-denia.com
SUMMARY:Viernes de Dorian Gray
DESCRIPTION:🔸JUEVES • 00’00h • NOCHE\n•JUNTOS Y REVUELTOS 🎸 en directo #poprockindieespañol \n🔹VIERNES • 19’00h • TARDEO\n•XARANGA EL CUIXOT 🎺🎷 en directo #festapopular \n🔸VIERNES • 00’00h • NOCHE\n•Sala Dorian LA MOCHA 🎸 en directo #poprockindieespañol\n•Sala Gray BORJA CONESA 🎧 en cabina #urbanmusic \n🔹SÁBADO • 19’00h • TARDEO\n•CAPITAL 90 🎸 en directo #poprocknacional \n🔸SÁBADO • 00’00h • NOCHE\n•Sala Dorian CAPITAL 90 🎸 en directo #poprocknacional\n•Sala Gray BORJA CONESA 🎧 en cabina #urbanmusic \nLXS QUE HAGAN PLENO PREMIO! 🥇🏆
URL:https://disfruta-denia.com/evento/viernes-de-dorian-gray-4-2-2/2024-06-28/
LOCATION:Dorian Gray Denia\, Carrer de la Mar\, 14\, Denia\, Alicante\, 03700\, España
CATEGORIES:Concierto,DJ,Música,Ocio nocturno
ATTACH;FMTTYPE=image/png:https://disfruta-denia.com/wp-content/uploads/2024/06/Dorian-Gray-Denia-doriangray_denia-•-Instagram-photos-and-videos-3.png
END:VEVENT
BEGIN:VEVENT
DTSTART;TZID=Europe/Madrid:20240629T235900
DTEND;TZID=Europe/Madrid:20240629T235900
DTSTAMP:20260424T093650
CREATED:20240622T145621Z
LAST-MODIFIED:20240622T145623Z
UID:10004114-1719705540-1719705540@disfruta-denia.com
SUMMARY:Sábado de Dorian Gray
DESCRIPTION:📣 A SANT JOAN BACORES! \n🔸JUEVES • 00’00h • NOCHE\n•JUNTOS Y REVUELTOS 🎸 en directo #poprockindieespañol \n🔸VIERNES • 00’00h • NOCHE\n•Sala Dorian MENPHIS 🎸 en directo #poprockindieespañol\n•Sala Gray BORJA CONESA 🎧 en cabina #urbanmusic \n🔹SÁBADO • 19’00h • TARDEO\n• DION DOBBE 🎧 en cabina #urbanmusic \n🔸SÁBADO • 00’00h • NOCHE\n•Sala Dorian CAPITAL 90 🎸 en directo #poprocknacional\n•Sala Gray BORJA CONESA 🎧 en cabina #urbanmusic \n🔹 DOMINGO • 00’00h • NOCHE\n• BORJA CONESA 🎧 en cabina #urbanmusic \nY ESTRENAM
URL:https://disfruta-denia.com/evento/sabado-de-dorian-gray-4-2-2-2/2024-06-29/
LOCATION:Dorian Gray Denia\, Carrer de la Mar\, 14\, Denia\, Alicante\, 03700\, España
CATEGORIES:DJ,Música,Ocio nocturno
ATTACH;FMTTYPE=image/png:https://disfruta-denia.com/wp-content/uploads/2024/06/Dorian-Gray-Denia-doriangray_denia-•-Instagram-photos-and-videos-4-1.png
END:VEVENT
END:VCALENDAR