BEGIN:VCALENDAR
VERSION:2.0
PRODID:-//Disfruta Denia - ECPv6.15.20//NONSGML v1.0//EN
CALSCALE:GREGORIAN
METHOD:PUBLISH
X-ORIGINAL-URL:https://disfruta-denia.com
X-WR-CALDESC:Eventos para Disfruta Denia
REFRESH-INTERVAL;VALUE=DURATION:PT1H
X-Robots-Tag:noindex
X-PUBLISHED-TTL:PT1H
BEGIN:VTIMEZONE
TZID:Europe/Madrid
BEGIN:DAYLIGHT
TZOFFSETFROM:+0100
TZOFFSETTO:+0200
TZNAME:CEST
DTSTART:20230326T010000
END:DAYLIGHT
BEGIN:STANDARD
TZOFFSETFROM:+0200
TZOFFSETTO:+0100
TZNAME:CET
DTSTART:20231029T010000
END:STANDARD
BEGIN:DAYLIGHT
TZOFFSETFROM:+0100
TZOFFSETTO:+0200
TZNAME:CEST
DTSTART:20240331T010000
END:DAYLIGHT
BEGIN:STANDARD
TZOFFSETFROM:+0200
TZOFFSETTO:+0100
TZNAME:CET
DTSTART:20241027T010000
END:STANDARD
BEGIN:DAYLIGHT
TZOFFSETFROM:+0100
TZOFFSETTO:+0200
TZNAME:CEST
DTSTART:20250330T010000
END:DAYLIGHT
BEGIN:STANDARD
TZOFFSETFROM:+0200
TZOFFSETTO:+0100
TZNAME:CET
DTSTART:20251026T010000
END:STANDARD
END:VTIMEZONE
BEGIN:VEVENT
DTSTART;TZID=Europe/Madrid:20240906T173000
DTEND;TZID=Europe/Madrid:20240906T173000
DTSTAMP:20260424T035720
CREATED:20240530T130548Z
LAST-MODIFIED:20240530T130550Z
UID:10018617-1725643800-1725643800@disfruta-denia.com
SUMMARY:Tardeo en La Mar Serena
DESCRIPTION:No estáis listos para el show de este Viernes ❤️‍🔥\n@miguellemadj & @raquelcardonamusic vienen cargados de hits 🪩 ¡Nos vemos en la pista!
URL:https://disfruta-denia.com/evento/tardeo-en-la-mar-serena-2-2/2024-09-06/
LOCATION:La Mar Serena\, Moll de la Pansa s/n Edificio Marina el Portet\, Denia\, Alicante\, 03700\, España
CATEGORIES:DJ,Música,Tardeo
ATTACH;FMTTYPE=image/jpeg:https://disfruta-denia.com/wp-content/uploads/2024/05/IMG-20240530-WA0011.jpg
END:VEVENT
BEGIN:VEVENT
DTSTART;TZID=Europe/Madrid:20240906T235900
DTEND;TZID=Europe/Madrid:20240906T235900
DTSTAMP:20260424T035720
CREATED:20240827T113212Z
LAST-MODIFIED:20240827T113213Z
UID:10003863-1725667140-1725667140@disfruta-denia.com
SUMMARY:Viernes de Dorian Gray
DESCRIPTION:DESPEDIMOS AGOSTO POR TODO LO ALTO! \n🔸 MARTES • 00’00h • NOCHE\nLA MOCHA 🎸 en directo #poprocknacional \n🔹 MIÉRCOLES • 00’00h • NOCHE\nJUNTOS Y REVUELTOS 🎸 en directo #poprockindieespañol \n🔸 JUEVES • 00’00h • NOCHE\nRUMBADOS 💃🏼 en directo #rumbaflamenco \n🔹 VIERNES • 00’00h • NOCHE\nBORJA CONESA 🎧 en cabina #urbanmusic \n🔸 SÁBADO • 00’00h • NOCHE\n•Sala Dorian MENPHIS 🎸 en directo #poprockindieespañol\n•Sala Gray BORJA CONESA 🎧 en cabina #urbanmusic \nTermina Agosto pero la buena música en Dorian Gray no acaba nunca!
URL:https://disfruta-denia.com/evento/viernes-de-dorian-gray-4-2-2-2-2-2-2-2/2024-09-06/
LOCATION:Dorian Gray Denia\, Carrer de la Mar\, 14\, Denia\, Alicante\, 03700\, España
CATEGORIES:Concierto,DJ,Música,Ocio nocturno
ATTACH;FMTTYPE=image/png:https://disfruta-denia.com/wp-content/uploads/2024/08/Dorian-Gray-Denia-doriangray_denia-•-Instagram-photos-and-videos-4-e1724758321741.png
END:VEVENT
BEGIN:VEVENT
DTSTART;TZID=Europe/Madrid:20240907T235900
DTEND;TZID=Europe/Madrid:20240907T235900
DTSTAMP:20260424T035720
CREATED:20240827T113228Z
LAST-MODIFIED:20240827T113229Z
UID:10004124-1725753540-1725753540@disfruta-denia.com
SUMMARY:Sábado de Dorian Gray
DESCRIPTION:DESPEDIMOS AGOSTO POR TODO LO ALTO! \n🔸 MARTES • 00’00h • NOCHE\nLA MOCHA 🎸 en directo #poprocknacional \n🔹 MIÉRCOLES • 00’00h • NOCHE\nJUNTOS Y REVUELTOS 🎸 en directo #poprockindieespañol \n🔸 JUEVES • 00’00h • NOCHE\nRUMBADOS 💃🏼 en directo #rumbaflamenco \n🔹 VIERNES • 00’00h • NOCHE\nBORJA CONESA 🎧 en cabina #urbanmusic \n🔸 SÁBADO • 00’00h • NOCHE\n•Sala Dorian MENPHIS 🎸 en directo #poprockindieespañol\n•Sala Gray BORJA CONESA 🎧 en cabina #urbanmusic \nTermina Agosto pero la buena música en Dorian Gray no acaba nunca!
URL:https://disfruta-denia.com/evento/sabado-de-dorian-gray-4-2-2-2-2-2-2-2-2-2/2024-09-07/
LOCATION:Dorian Gray Denia\, Carrer de la Mar\, 14\, Denia\, Alicante\, 03700\, España
CATEGORIES:DJ,Música,Ocio nocturno
ATTACH;FMTTYPE=image/png:https://disfruta-denia.com/wp-content/uploads/2024/08/Dorian-Gray-Denia-doriangray_denia-•-Instagram-photos-and-videos-4-e1724758321741.png
END:VEVENT
BEGIN:VEVENT
DTSTART;TZID=Europe/Madrid:20240913T173000
DTEND;TZID=Europe/Madrid:20240913T173000
DTSTAMP:20260424T035720
CREATED:20240530T130548Z
LAST-MODIFIED:20240530T130550Z
UID:10018618-1726248600-1726248600@disfruta-denia.com
SUMMARY:Tardeo en La Mar Serena
DESCRIPTION:No estáis listos para el show de este Viernes ❤️‍🔥\n@miguellemadj & @raquelcardonamusic vienen cargados de hits 🪩 ¡Nos vemos en la pista!
URL:https://disfruta-denia.com/evento/tardeo-en-la-mar-serena-2-2/2024-09-13/
LOCATION:La Mar Serena\, Moll de la Pansa s/n Edificio Marina el Portet\, Denia\, Alicante\, 03700\, España
CATEGORIES:DJ,Música,Tardeo
ATTACH;FMTTYPE=image/jpeg:https://disfruta-denia.com/wp-content/uploads/2024/05/IMG-20240530-WA0011.jpg
END:VEVENT
BEGIN:VEVENT
DTSTART;TZID=Europe/Madrid:20240913T235900
DTEND;TZID=Europe/Madrid:20240913T235900
DTSTAMP:20260424T035720
CREATED:20240827T113212Z
LAST-MODIFIED:20240827T113213Z
UID:10003864-1726271940-1726271940@disfruta-denia.com
SUMMARY:Viernes de Dorian Gray
DESCRIPTION:DESPEDIMOS AGOSTO POR TODO LO ALTO! \n🔸 MARTES • 00’00h • NOCHE\nLA MOCHA 🎸 en directo #poprocknacional \n🔹 MIÉRCOLES • 00’00h • NOCHE\nJUNTOS Y REVUELTOS 🎸 en directo #poprockindieespañol \n🔸 JUEVES • 00’00h • NOCHE\nRUMBADOS 💃🏼 en directo #rumbaflamenco \n🔹 VIERNES • 00’00h • NOCHE\nBORJA CONESA 🎧 en cabina #urbanmusic \n🔸 SÁBADO • 00’00h • NOCHE\n•Sala Dorian MENPHIS 🎸 en directo #poprockindieespañol\n•Sala Gray BORJA CONESA 🎧 en cabina #urbanmusic \nTermina Agosto pero la buena música en Dorian Gray no acaba nunca!
URL:https://disfruta-denia.com/evento/viernes-de-dorian-gray-4-2-2-2-2-2-2-2/2024-09-13/
LOCATION:Dorian Gray Denia\, Carrer de la Mar\, 14\, Denia\, Alicante\, 03700\, España
CATEGORIES:Concierto,DJ,Música,Ocio nocturno
ATTACH;FMTTYPE=image/png:https://disfruta-denia.com/wp-content/uploads/2024/08/Dorian-Gray-Denia-doriangray_denia-•-Instagram-photos-and-videos-4-e1724758321741.png
END:VEVENT
BEGIN:VEVENT
DTSTART;TZID=Europe/Madrid:20240914T235900
DTEND;TZID=Europe/Madrid:20240914T235900
DTSTAMP:20260424T035720
CREATED:20240827T113228Z
LAST-MODIFIED:20240827T113229Z
UID:10004125-1726358340-1726358340@disfruta-denia.com
SUMMARY:Sábado de Dorian Gray
DESCRIPTION:DESPEDIMOS AGOSTO POR TODO LO ALTO! \n🔸 MARTES • 00’00h • NOCHE\nLA MOCHA 🎸 en directo #poprocknacional \n🔹 MIÉRCOLES • 00’00h • NOCHE\nJUNTOS Y REVUELTOS 🎸 en directo #poprockindieespañol \n🔸 JUEVES • 00’00h • NOCHE\nRUMBADOS 💃🏼 en directo #rumbaflamenco \n🔹 VIERNES • 00’00h • NOCHE\nBORJA CONESA 🎧 en cabina #urbanmusic \n🔸 SÁBADO • 00’00h • NOCHE\n•Sala Dorian MENPHIS 🎸 en directo #poprockindieespañol\n•Sala Gray BORJA CONESA 🎧 en cabina #urbanmusic \nTermina Agosto pero la buena música en Dorian Gray no acaba nunca!
URL:https://disfruta-denia.com/evento/sabado-de-dorian-gray-4-2-2-2-2-2-2-2-2-2/2024-09-14/
LOCATION:Dorian Gray Denia\, Carrer de la Mar\, 14\, Denia\, Alicante\, 03700\, España
CATEGORIES:DJ,Música,Ocio nocturno
ATTACH;FMTTYPE=image/png:https://disfruta-denia.com/wp-content/uploads/2024/08/Dorian-Gray-Denia-doriangray_denia-•-Instagram-photos-and-videos-4-e1724758321741.png
END:VEVENT
BEGIN:VEVENT
DTSTART;TZID=Europe/Madrid:20240920T173000
DTEND;TZID=Europe/Madrid:20240920T173000
DTSTAMP:20260424T035720
CREATED:20240530T130548Z
LAST-MODIFIED:20240530T130550Z
UID:10018619-1726853400-1726853400@disfruta-denia.com
SUMMARY:Tardeo en La Mar Serena
DESCRIPTION:No estáis listos para el show de este Viernes ❤️‍🔥\n@miguellemadj & @raquelcardonamusic vienen cargados de hits 🪩 ¡Nos vemos en la pista!
URL:https://disfruta-denia.com/evento/tardeo-en-la-mar-serena-2-2/2024-09-20/
LOCATION:La Mar Serena\, Moll de la Pansa s/n Edificio Marina el Portet\, Denia\, Alicante\, 03700\, España
CATEGORIES:DJ,Música,Tardeo
ATTACH;FMTTYPE=image/jpeg:https://disfruta-denia.com/wp-content/uploads/2024/05/IMG-20240530-WA0011.jpg
END:VEVENT
BEGIN:VEVENT
DTSTART;TZID=Europe/Madrid:20240920T235900
DTEND;TZID=Europe/Madrid:20240920T235900
DTSTAMP:20260424T035720
CREATED:20240827T113212Z
LAST-MODIFIED:20240827T113213Z
UID:10003865-1726876740-1726876740@disfruta-denia.com
SUMMARY:Viernes de Dorian Gray
DESCRIPTION:DESPEDIMOS AGOSTO POR TODO LO ALTO! \n🔸 MARTES • 00’00h • NOCHE\nLA MOCHA 🎸 en directo #poprocknacional \n🔹 MIÉRCOLES • 00’00h • NOCHE\nJUNTOS Y REVUELTOS 🎸 en directo #poprockindieespañol \n🔸 JUEVES • 00’00h • NOCHE\nRUMBADOS 💃🏼 en directo #rumbaflamenco \n🔹 VIERNES • 00’00h • NOCHE\nBORJA CONESA 🎧 en cabina #urbanmusic \n🔸 SÁBADO • 00’00h • NOCHE\n•Sala Dorian MENPHIS 🎸 en directo #poprockindieespañol\n•Sala Gray BORJA CONESA 🎧 en cabina #urbanmusic \nTermina Agosto pero la buena música en Dorian Gray no acaba nunca!
URL:https://disfruta-denia.com/evento/viernes-de-dorian-gray-4-2-2-2-2-2-2-2/2024-09-20/
LOCATION:Dorian Gray Denia\, Carrer de la Mar\, 14\, Denia\, Alicante\, 03700\, España
CATEGORIES:Concierto,DJ,Música,Ocio nocturno
ATTACH;FMTTYPE=image/png:https://disfruta-denia.com/wp-content/uploads/2024/08/Dorian-Gray-Denia-doriangray_denia-•-Instagram-photos-and-videos-4-e1724758321741.png
END:VEVENT
BEGIN:VEVENT
DTSTART;TZID=Europe/Madrid:20240921T163000
DTEND;TZID=Europe/Madrid:20240921T163000
DTSTAMP:20260424T035720
CREATED:20240911T082218Z
LAST-MODIFIED:20240911T082218Z
UID:10019291-1726936200-1726936200@disfruta-denia.com
SUMMARY:𝗥𝗘𝗦𝗜𝗗𝗘𝗡𝗧'𝗦 𝗕𝗥𝗨𝗡𝗖𝗛 en Fina Beach club
DESCRIPTION:¡Se viene fiestón de los gordos! Quien dijera que el verano termina cuando acaba agosto se equivocaba y mucho 😌 El próximo sábado 21 de septiembre despedimos la temporada de la mejor forma con 6 DJs encabezando el cartel y las vistas de Playa Punta del Raset como escenario\, ¿qué más se puede pedir?
URL:https://disfruta-denia.com/evento/%f0%9d%97%a5%f0%9d%97%98%f0%9d%97%a6%f0%9d%97%9c%f0%9d%97%97%f0%9d%97%98%f0%9d%97%a1%f0%9d%97%a7%f0%9d%97%a6-%f0%9d%97%95%f0%9d%97%a5%f0%9d%97%a8%f0%9d%97%a1%f0%9d%97%96%f0%9d%97%9b-en-fina-beach-cl/
LOCATION:Fina Beach Club\, Carr. de les Marines a Dénia\, Km. 0\, 5\, Dénia\, 03700\, España
CATEGORIES:DJ,Música,Tardeo
ATTACH;FMTTYPE=image/png:https://disfruta-denia.com/wp-content/uploads/2024/09/Fina-Beach-Club-Denia-finabeachdenia-•-Instagram-photos-and-videos.png
END:VEVENT
BEGIN:VEVENT
DTSTART;TZID=Europe/Madrid:20240921T235900
DTEND;TZID=Europe/Madrid:20240921T235900
DTSTAMP:20260424T035720
CREATED:20240827T113228Z
LAST-MODIFIED:20240827T113229Z
UID:10004126-1726963140-1726963140@disfruta-denia.com
SUMMARY:Sábado de Dorian Gray
DESCRIPTION:DESPEDIMOS AGOSTO POR TODO LO ALTO! \n🔸 MARTES • 00’00h • NOCHE\nLA MOCHA 🎸 en directo #poprocknacional \n🔹 MIÉRCOLES • 00’00h • NOCHE\nJUNTOS Y REVUELTOS 🎸 en directo #poprockindieespañol \n🔸 JUEVES • 00’00h • NOCHE\nRUMBADOS 💃🏼 en directo #rumbaflamenco \n🔹 VIERNES • 00’00h • NOCHE\nBORJA CONESA 🎧 en cabina #urbanmusic \n🔸 SÁBADO • 00’00h • NOCHE\n•Sala Dorian MENPHIS 🎸 en directo #poprockindieespañol\n•Sala Gray BORJA CONESA 🎧 en cabina #urbanmusic \nTermina Agosto pero la buena música en Dorian Gray no acaba nunca!
URL:https://disfruta-denia.com/evento/sabado-de-dorian-gray-4-2-2-2-2-2-2-2-2-2/2024-09-21/
LOCATION:Dorian Gray Denia\, Carrer de la Mar\, 14\, Denia\, Alicante\, 03700\, España
CATEGORIES:DJ,Música,Ocio nocturno
ATTACH;FMTTYPE=image/png:https://disfruta-denia.com/wp-content/uploads/2024/08/Dorian-Gray-Denia-doriangray_denia-•-Instagram-photos-and-videos-4-e1724758321741.png
END:VEVENT
BEGIN:VEVENT
DTSTART;TZID=Europe/Madrid:20240927T235900
DTEND;TZID=Europe/Madrid:20240927T235900
DTSTAMP:20260424T035720
CREATED:20240925T131127Z
LAST-MODIFIED:20240925T131128Z
UID:10003866-1727481540-1727481540@disfruta-denia.com
SUMMARY:Viernes de Dorian Gray
DESCRIPTION:DESPEDIMOS SEPTIEMBRE! \n🔸 JUEVES • 00’00h • NOCHE\nJUNTOS Y REVUELTOS 🎸 en directo #poprockindieespañol \n🔹 VIERNES • 00’00h • NOCHE\n•Sala Dorian CAPITAL 90 🎸 en directo #poprockindieespañol\n•Sala Gray BORJA CONESA 🎧 en cabina #urbanmusic \n🔸 SÁBADO • 19’00h • TARDEO\nRUMBADOS 💃🏼 en directo #rumbaflamenco \n🔸 SÁBADO • 00’00h • NOCHE\n•Sala Dorian MENPHIS 🎸 en directo #poprockindieespañol\n•Sala Gray BORJA CONESA 🎧 en cabina #urbanmusic \nTHE WINTER IS COMMING…..
URL:https://disfruta-denia.com/evento/viernes-de-dorian-gray-4-2-2-2-2-2-2-2-2/
LOCATION:Dorian Gray Denia\, Carrer de la Mar\, 14\, Denia\, Alicante\, 03700\, España
CATEGORIES:Concierto,DJ,Música,Ocio nocturno
ATTACH;FMTTYPE=image/png:https://disfruta-denia.com/wp-content/uploads/2024/08/Dorian-Gray-Denia-doriangray_denia-•-Instagram-photos-and-videos-09-25-2024_03_10_PM.png
END:VEVENT
BEGIN:VEVENT
DTSTART;TZID=Europe/Madrid:20240928T235900
DTEND;TZID=Europe/Madrid:20240928T235900
DTSTAMP:20260424T035720
CREATED:20240925T131117Z
LAST-MODIFIED:20240925T131118Z
UID:10004127-1727567940-1727567940@disfruta-denia.com
SUMMARY:Sábado de Dorian Gray
DESCRIPTION:DESPEDIMOS SEPTIEMBRE! \n🔸 JUEVES • 00’00h • NOCHE\nJUNTOS Y REVUELTOS 🎸 en directo #poprockindieespañol \n🔹 VIERNES • 00’00h • NOCHE\n•Sala Dorian CAPITAL 90 🎸 en directo #poprockindieespañol\n•Sala Gray BORJA CONESA 🎧 en cabina #urbanmusic \n🔸 SÁBADO • 19’00h • TARDEO\nRUMBADOS 💃🏼 en directo #rumbaflamenco \n🔸 SÁBADO • 00’00h • NOCHE\n•Sala Dorian MENPHIS 🎸 en directo #poprockindieespañol\n•Sala Gray BORJA CONESA 🎧 en cabina #urbanmusic \nTHE WINTER IS COMMING…..
URL:https://disfruta-denia.com/evento/sabado-de-dorian-gray-4-2-2-2-2-2-2-2-2-2-2/
LOCATION:Dorian Gray Denia\, Carrer de la Mar\, 14\, Denia\, Alicante\, 03700\, España
CATEGORIES:DJ,Música,Ocio nocturno
ATTACH;FMTTYPE=image/png:https://disfruta-denia.com/wp-content/uploads/2024/08/Dorian-Gray-Denia-doriangray_denia-•-Instagram-photos-and-videos-09-25-2024_03_10_PM.png
END:VEVENT
END:VCALENDAR