BEGIN:VCALENDAR
VERSION:2.0
PRODID:-//Disfruta Denia - ECPv6.15.20//NONSGML v1.0//EN
CALSCALE:GREGORIAN
METHOD:PUBLISH
X-WR-CALNAME:Disfruta Denia
X-ORIGINAL-URL:https://disfruta-denia.com
X-WR-CALDESC:Eventos para Disfruta Denia
REFRESH-INTERVAL;VALUE=DURATION:PT1H
X-Robots-Tag:noindex
X-PUBLISHED-TTL:PT1H
BEGIN:VTIMEZONE
TZID:Europe/Madrid
BEGIN:DAYLIGHT
TZOFFSETFROM:+0100
TZOFFSETTO:+0200
TZNAME:CEST
DTSTART:20230326T010000
END:DAYLIGHT
BEGIN:STANDARD
TZOFFSETFROM:+0200
TZOFFSETTO:+0100
TZNAME:CET
DTSTART:20231029T010000
END:STANDARD
BEGIN:DAYLIGHT
TZOFFSETFROM:+0100
TZOFFSETTO:+0200
TZNAME:CEST
DTSTART:20240331T010000
END:DAYLIGHT
BEGIN:STANDARD
TZOFFSETFROM:+0200
TZOFFSETTO:+0100
TZNAME:CET
DTSTART:20241027T010000
END:STANDARD
BEGIN:DAYLIGHT
TZOFFSETFROM:+0100
TZOFFSETTO:+0200
TZNAME:CEST
DTSTART:20250330T010000
END:DAYLIGHT
BEGIN:STANDARD
TZOFFSETFROM:+0200
TZOFFSETTO:+0100
TZNAME:CET
DTSTART:20251026T010000
END:STANDARD
END:VTIMEZONE
BEGIN:VEVENT
DTSTART;TZID=Europe/Madrid:20241004T235900
DTEND;TZID=Europe/Madrid:20241004T235900
DTSTAMP:20260424T015343
CREATED:20241004T100137Z
LAST-MODIFIED:20241004T100156Z
UID:10003867-1728086340-1728086340@disfruta-denia.com
SUMMARY:Viernes de Dorian Gray
DESCRIPTION:HOLA OCTUBRE! 🍁🍂 \n🔸 JUEVES • 00’00h • NOCHE\nJUNTOS Y REVUELTOS 🎸 en directo #poprockindieespañol \n🔹 VIERNES • 00’00h • NOCHE\n•Sala Dorian LA MOCHA 🎸 en directo #poprockindieespañol\n•Sala Gray BORJA CONESA 🎧 en cabina #urbanmusic \n🔸 SÁBADO • 19’00h • TARDEO\n•Sala Dorian CAPITAL 90 🎸 en directo #poprockindieespañol\n•Sala Gray ALFONSO ALMIÑANA 🎧 en cabina #housemusic \n🔸 SÁBADO • 00’00h • NOCHE\n•Sala Dorian CAPITAL 90 🎸 en directo #poprockindieespañol\n•Sala Gray BORJA CONESA 🎧 en cabina #urbanmusic \nVAMOS CALENTANDO MOTORES QUE SE VIENE PUENTAZO!
URL:https://disfruta-denia.com/evento/viernes-de-dorian-gray-4-2-2-2-2-2-2-2-2-2/2024-10-04/
LOCATION:Dorian Gray Denia\, Carrer de la Mar\, 14\, Denia\, Alicante\, 03700\, España
CATEGORIES:Concierto,DJ,Música,Ocio nocturno
ATTACH;FMTTYPE=image/png:https://disfruta-denia.com/wp-content/uploads/2024/09/Dorian-Gray-Denia-doriangray_denia-•-Instagram-photos-and-videos-10-04-2024_12_00_PM.png
END:VEVENT
BEGIN:VEVENT
DTSTART;TZID=Europe/Madrid:20241005T235900
DTEND;TZID=Europe/Madrid:20241005T235900
DTSTAMP:20260424T015343
CREATED:20241004T100119Z
LAST-MODIFIED:20241004T100138Z
UID:10004128-1728172740-1728172740@disfruta-denia.com
SUMMARY:Sábado de Dorian Gray
DESCRIPTION:HOLA OCTUBRE! 🍁🍂 \n🔸 JUEVES • 00’00h • NOCHE\nJUNTOS Y REVUELTOS 🎸 en directo #poprockindieespañol \n🔹 VIERNES • 00’00h • NOCHE\n•Sala Dorian LA MOCHA 🎸 en directo #poprockindieespañol\n•Sala Gray BORJA CONESA 🎧 en cabina #urbanmusic \n🔸 SÁBADO • 19’00h • TARDEO\n•Sala Dorian CAPITAL 90 🎸 en directo #poprockindieespañol\n•Sala Gray ALFONSO ALMIÑANA 🎧 en cabina #housemusic \n🔸 SÁBADO • 00’00h • NOCHE\n•Sala Dorian CAPITAL 90 🎸 en directo #poprockindieespañol\n•Sala Gray BORJA CONESA 🎧 en cabina #urbanmusic \nVAMOS CALENTANDO MOTORES QUE SE VIENE PUENTAZO!
URL:https://disfruta-denia.com/evento/sabado-de-dorian-gray-4-2-2-2-2-2-2-2-2-2-2-2/2024-10-05/
LOCATION:Dorian Gray Denia\, Carrer de la Mar\, 14\, Denia\, Alicante\, 03700\, España
CATEGORIES:DJ,Música,Ocio nocturno
ATTACH;FMTTYPE=image/png:https://disfruta-denia.com/wp-content/uploads/2024/09/Dorian-Gray-Denia-doriangray_denia-•-Instagram-photos-and-videos-10-04-2024_12_00_PM.png
END:VEVENT
BEGIN:VEVENT
DTSTART;TZID=Europe/Madrid:20241011T235900
DTEND;TZID=Europe/Madrid:20241011T235900
DTSTAMP:20260424T015343
CREATED:20241004T100137Z
LAST-MODIFIED:20241004T100156Z
UID:10003868-1728691140-1728691140@disfruta-denia.com
SUMMARY:Viernes de Dorian Gray
DESCRIPTION:HOLA OCTUBRE! 🍁🍂 \n🔸 JUEVES • 00’00h • NOCHE\nJUNTOS Y REVUELTOS 🎸 en directo #poprockindieespañol \n🔹 VIERNES • 00’00h • NOCHE\n•Sala Dorian LA MOCHA 🎸 en directo #poprockindieespañol\n•Sala Gray BORJA CONESA 🎧 en cabina #urbanmusic \n🔸 SÁBADO • 19’00h • TARDEO\n•Sala Dorian CAPITAL 90 🎸 en directo #poprockindieespañol\n•Sala Gray ALFONSO ALMIÑANA 🎧 en cabina #housemusic \n🔸 SÁBADO • 00’00h • NOCHE\n•Sala Dorian CAPITAL 90 🎸 en directo #poprockindieespañol\n•Sala Gray BORJA CONESA 🎧 en cabina #urbanmusic \nVAMOS CALENTANDO MOTORES QUE SE VIENE PUENTAZO!
URL:https://disfruta-denia.com/evento/viernes-de-dorian-gray-4-2-2-2-2-2-2-2-2-2/2024-10-11/
LOCATION:Dorian Gray Denia\, Carrer de la Mar\, 14\, Denia\, Alicante\, 03700\, España
CATEGORIES:Concierto,DJ,Música,Ocio nocturno
ATTACH;FMTTYPE=image/png:https://disfruta-denia.com/wp-content/uploads/2024/09/Dorian-Gray-Denia-doriangray_denia-•-Instagram-photos-and-videos-10-04-2024_12_00_PM.png
END:VEVENT
BEGIN:VEVENT
DTSTART;TZID=Europe/Madrid:20241012T170000
DTEND;TZID=Europe/Madrid:20241012T220000
DTSTAMP:20260424T015343
CREATED:20241002T124139Z
LAST-MODIFIED:20241007T184708Z
UID:10019639-1728752400-1728770400@disfruta-denia.com
SUMMARY:Dénia Diva Music Pride
DESCRIPTION:Diva #Dénia Music Pride¡Ya tenemos el cartel completo para el sábado! A partir de las 12 h\, la drag queen  Sanguinelli recorrerá las calles del centro acompañada por la  Cachorras Band. Y a partir de las 17 h\,  DJ (con ‘Esa tía es tonta’ y Luiggi) y una gala con la actuación de las drags  Hornella Góngora (tercera edición de Drag Race España)\,  Michel Vintage y  Alexia Thenight\, y el cantante y compositor de música pop y electrónica  Daniel Tejera (ganador del concurso musical del MADO-Fiestas del Orgullo de Madrid 2020). Sábado\, 12 de octubre\, de 17 a 22 h\, en la Glorieta. \n  \nLa Concejalía de Igualdad y Diversidad ha organizado una fiesta de la diversidad\, igualitaria e inclusiva para que la disfrute público de todas las edades\, incorporándose así al circuito provincial y de la Comunitat Valenciana de fiestas del orgullo junto a ciudades como Alicante\, Benidorm\, Elx\, Tavernes o Cullera. La particularidad de la celebración\, que según ha anunciado el concejal del área\, Javier Scotto\, tendrá continuidad el próximo año\, es que está dedicada a las grandes divas de la música.  “Es un pride de la música de los 70\, 80\, 90\, música disco\, pop\, grandes éxitos nacionales e internacionales de las divas de todos los tiempos\, y también de los últimos éxitos que llenan las pistas de baile y fiestas familiares”\, explica Scotto. \n  \nEl sábado 12 de octubre\, de 17 a 22 horas\, la Glorieta se convertirá en el escenario de la celebración: el espacio se ambientará para llevarnos a los años 70\, se instalará un photocall discotequero i pantallas de led que emitirán vídeos y campañas de entidades sociales de Dénia y de asociaciones LGTBI. El espectáculo será conducido por un presentador-animador y actuarán DJ y drag queens de toda España\, algunas de ellas muy conocidas por haber participado en programas de televisión. Sus nombres se revelarán dentro de algunos días. \nEse sábado por la mañana\, de 12 a 14 horas\, la charanga Cachorras Band\, junto a una informadora drag\, recorrerá la calle Marqués de Campo animando al público a asistir a la fiesta y ofreciendo información del evento. \n  \nAsimismo\, se ha organizado en Marqués de Campo una feria de asociaciones LGTBI+ de la provincia “que queremos abrir a asociaciones locales relacionadas con la igualdad y la diversidad\, para dar información y visibilidad a las necesidades de todos los colectivos de diversidad: sexual\, cognitiva\, o de discapacidad”\, ha añadido Scotto. Han confirmado ya su asistencia las asociaciones de Alcoi\, la Safor\, Alicante\, La Vila Joiosa\, Elx i Trenca l’armari\, de Ondara-Marina Alta. \n  \nEl Dénia Diva Music Pride se ha comunicado a entidades sociales\, empresariales y festivas de la ciudad\, “para que se sumen al proyecto y llenemos el espacio para un tardeo de igualdad\, diversidad e inclusión” donde no tienen cabida los prejuicios.
URL:https://disfruta-denia.com/evento/denia-diva-music-pride/
LOCATION:Glorieta del País Valencià\, Glorieta del País Valencià\, Denia\, Alicante\, 03700\, España
CATEGORIES:Concierto,DJ,Música
ATTACH;FMTTYPE=image/jpeg:https://disfruta-denia.com/wp-content/uploads/2024/10/462163380_953883236786399_3828030734030767743_n.jpg
END:VEVENT
BEGIN:VEVENT
DTSTART;TZID=Europe/Madrid:20241012T235900
DTEND;TZID=Europe/Madrid:20241012T235900
DTSTAMP:20260424T015343
CREATED:20241004T100119Z
LAST-MODIFIED:20241004T100138Z
UID:10004129-1728777540-1728777540@disfruta-denia.com
SUMMARY:Sábado de Dorian Gray
DESCRIPTION:HOLA OCTUBRE! 🍁🍂 \n🔸 JUEVES • 00’00h • NOCHE\nJUNTOS Y REVUELTOS 🎸 en directo #poprockindieespañol \n🔹 VIERNES • 00’00h • NOCHE\n•Sala Dorian LA MOCHA 🎸 en directo #poprockindieespañol\n•Sala Gray BORJA CONESA 🎧 en cabina #urbanmusic \n🔸 SÁBADO • 19’00h • TARDEO\n•Sala Dorian CAPITAL 90 🎸 en directo #poprockindieespañol\n•Sala Gray ALFONSO ALMIÑANA 🎧 en cabina #housemusic \n🔸 SÁBADO • 00’00h • NOCHE\n•Sala Dorian CAPITAL 90 🎸 en directo #poprockindieespañol\n•Sala Gray BORJA CONESA 🎧 en cabina #urbanmusic \nVAMOS CALENTANDO MOTORES QUE SE VIENE PUENTAZO!
URL:https://disfruta-denia.com/evento/sabado-de-dorian-gray-4-2-2-2-2-2-2-2-2-2-2-2/2024-10-12/
LOCATION:Dorian Gray Denia\, Carrer de la Mar\, 14\, Denia\, Alicante\, 03700\, España
CATEGORIES:DJ,Música,Ocio nocturno
ATTACH;FMTTYPE=image/png:https://disfruta-denia.com/wp-content/uploads/2024/09/Dorian-Gray-Denia-doriangray_denia-•-Instagram-photos-and-videos-10-04-2024_12_00_PM.png
END:VEVENT
BEGIN:VEVENT
DTSTART;TZID=Europe/Madrid:20241018T235900
DTEND;TZID=Europe/Madrid:20241018T235900
DTSTAMP:20260424T015343
CREATED:20241004T100137Z
LAST-MODIFIED:20241004T100156Z
UID:10003869-1729295940-1729295940@disfruta-denia.com
SUMMARY:Viernes de Dorian Gray
DESCRIPTION:HOLA OCTUBRE! 🍁🍂 \n🔸 JUEVES • 00’00h • NOCHE\nJUNTOS Y REVUELTOS 🎸 en directo #poprockindieespañol \n🔹 VIERNES • 00’00h • NOCHE\n•Sala Dorian LA MOCHA 🎸 en directo #poprockindieespañol\n•Sala Gray BORJA CONESA 🎧 en cabina #urbanmusic \n🔸 SÁBADO • 19’00h • TARDEO\n•Sala Dorian CAPITAL 90 🎸 en directo #poprockindieespañol\n•Sala Gray ALFONSO ALMIÑANA 🎧 en cabina #housemusic \n🔸 SÁBADO • 00’00h • NOCHE\n•Sala Dorian CAPITAL 90 🎸 en directo #poprockindieespañol\n•Sala Gray BORJA CONESA 🎧 en cabina #urbanmusic \nVAMOS CALENTANDO MOTORES QUE SE VIENE PUENTAZO!
URL:https://disfruta-denia.com/evento/viernes-de-dorian-gray-4-2-2-2-2-2-2-2-2-2/2024-10-18/
LOCATION:Dorian Gray Denia\, Carrer de la Mar\, 14\, Denia\, Alicante\, 03700\, España
CATEGORIES:Concierto,DJ,Música,Ocio nocturno
ATTACH;FMTTYPE=image/png:https://disfruta-denia.com/wp-content/uploads/2024/09/Dorian-Gray-Denia-doriangray_denia-•-Instagram-photos-and-videos-10-04-2024_12_00_PM.png
END:VEVENT
BEGIN:VEVENT
DTSTART;TZID=Europe/Madrid:20241019T235900
DTEND;TZID=Europe/Madrid:20241019T235900
DTSTAMP:20260424T015343
CREATED:20241004T100119Z
LAST-MODIFIED:20241004T100138Z
UID:10004130-1729382340-1729382340@disfruta-denia.com
SUMMARY:Sábado de Dorian Gray
DESCRIPTION:HOLA OCTUBRE! 🍁🍂 \n🔸 JUEVES • 00’00h • NOCHE\nJUNTOS Y REVUELTOS 🎸 en directo #poprockindieespañol \n🔹 VIERNES • 00’00h • NOCHE\n•Sala Dorian LA MOCHA 🎸 en directo #poprockindieespañol\n•Sala Gray BORJA CONESA 🎧 en cabina #urbanmusic \n🔸 SÁBADO • 19’00h • TARDEO\n•Sala Dorian CAPITAL 90 🎸 en directo #poprockindieespañol\n•Sala Gray ALFONSO ALMIÑANA 🎧 en cabina #housemusic \n🔸 SÁBADO • 00’00h • NOCHE\n•Sala Dorian CAPITAL 90 🎸 en directo #poprockindieespañol\n•Sala Gray BORJA CONESA 🎧 en cabina #urbanmusic \nVAMOS CALENTANDO MOTORES QUE SE VIENE PUENTAZO!
URL:https://disfruta-denia.com/evento/sabado-de-dorian-gray-4-2-2-2-2-2-2-2-2-2-2-2/2024-10-19/
LOCATION:Dorian Gray Denia\, Carrer de la Mar\, 14\, Denia\, Alicante\, 03700\, España
CATEGORIES:DJ,Música,Ocio nocturno
ATTACH;FMTTYPE=image/png:https://disfruta-denia.com/wp-content/uploads/2024/09/Dorian-Gray-Denia-doriangray_denia-•-Instagram-photos-and-videos-10-04-2024_12_00_PM.png
END:VEVENT
BEGIN:VEVENT
DTSTART;TZID=Europe/Madrid:20241024T235900
DTEND;TZID=Europe/Madrid:20241024T235900
DTSTAMP:20260424T015343
CREATED:20241024T083720Z
LAST-MODIFIED:20241024T083720Z
UID:10020200-1729814340-1729814340@disfruta-denia.com
SUMMARY:Programación Dorian
DESCRIPTION:🔸 JUEVES • 00’00h • NOCHE\n•Sala Dorian JUNTOS Y REVUELTOS 🎸 en directo #poprockindieespañol \n🔹 VIERNES • 00’00h • NOCHE\n•Sala Dorian LA MOCHA 🎸 en directo #poprockindieespañol\n•Sala Gray DION DOBBE 🎧 en cabina #urbanmusic \n🔸 SÁBADO • 18’30h • TARDEO\n•Sala Dorian LA BANDA DE LA ABUELA 🎸 en directo #poprocknacional\n•Sala Gray IVAN REIG & DEIA 🎧 en cabina #urbanmusic \n🔸 SÁBADO • 00’00h • NOCHE\n•Sala Dorian LA BANDA DE LA ABUELA 🎸 en directo #poprockindieespañol\n•Sala Gray DION DOBBE 🎧 en cabina #urbanmusic \n🔹 DOMINGO • 18’30h • TARDEO\n•Sala Dorian RUMBADOS 💃🏼 en directo #rumbaflamenca
URL:https://disfruta-denia.com/evento/programacion-dorian/2024-10-24/
LOCATION:Dorian Gray Denia\, Carrer de la Mar\, 14\, Denia\, Alicante\, 03700\, España
CATEGORIES:Concierto,DJ,Música,Ocio nocturno,Tardeo
ATTACH;FMTTYPE=image/png:https://disfruta-denia.com/wp-content/uploads/2024/10/Dorian-Gray-Denia-doriangray_denia-•-Instagram-photos-and-videos-10-24-2024_10_32_AM.png
END:VEVENT
BEGIN:VEVENT
DTSTART;TZID=Europe/Madrid:20241025T235900
DTEND;TZID=Europe/Madrid:20241025T235900
DTSTAMP:20260424T015343
CREATED:20241024T083720Z
LAST-MODIFIED:20241024T083720Z
UID:10020201-1729900740-1729900740@disfruta-denia.com
SUMMARY:Programación Dorian
DESCRIPTION:🔸 JUEVES • 00’00h • NOCHE\n•Sala Dorian JUNTOS Y REVUELTOS 🎸 en directo #poprockindieespañol \n🔹 VIERNES • 00’00h • NOCHE\n•Sala Dorian LA MOCHA 🎸 en directo #poprockindieespañol\n•Sala Gray DION DOBBE 🎧 en cabina #urbanmusic \n🔸 SÁBADO • 18’30h • TARDEO\n•Sala Dorian LA BANDA DE LA ABUELA 🎸 en directo #poprocknacional\n•Sala Gray IVAN REIG & DEIA 🎧 en cabina #urbanmusic \n🔸 SÁBADO • 00’00h • NOCHE\n•Sala Dorian LA BANDA DE LA ABUELA 🎸 en directo #poprockindieespañol\n•Sala Gray DION DOBBE 🎧 en cabina #urbanmusic \n🔹 DOMINGO • 18’30h • TARDEO\n•Sala Dorian RUMBADOS 💃🏼 en directo #rumbaflamenca
URL:https://disfruta-denia.com/evento/programacion-dorian/2024-10-25/
LOCATION:Dorian Gray Denia\, Carrer de la Mar\, 14\, Denia\, Alicante\, 03700\, España
CATEGORIES:Concierto,DJ,Música,Ocio nocturno,Tardeo
ATTACH;FMTTYPE=image/png:https://disfruta-denia.com/wp-content/uploads/2024/10/Dorian-Gray-Denia-doriangray_denia-•-Instagram-photos-and-videos-10-24-2024_10_32_AM.png
END:VEVENT
BEGIN:VEVENT
DTSTART;TZID=Europe/Madrid:20241026T235900
DTEND;TZID=Europe/Madrid:20241026T235900
DTSTAMP:20260424T015343
CREATED:20241024T083720Z
LAST-MODIFIED:20241024T083720Z
UID:10020202-1729987140-1729987140@disfruta-denia.com
SUMMARY:Programación Dorian
DESCRIPTION:🔸 JUEVES • 00’00h • NOCHE\n•Sala Dorian JUNTOS Y REVUELTOS 🎸 en directo #poprockindieespañol \n🔹 VIERNES • 00’00h • NOCHE\n•Sala Dorian LA MOCHA 🎸 en directo #poprockindieespañol\n•Sala Gray DION DOBBE 🎧 en cabina #urbanmusic \n🔸 SÁBADO • 18’30h • TARDEO\n•Sala Dorian LA BANDA DE LA ABUELA 🎸 en directo #poprocknacional\n•Sala Gray IVAN REIG & DEIA 🎧 en cabina #urbanmusic \n🔸 SÁBADO • 00’00h • NOCHE\n•Sala Dorian LA BANDA DE LA ABUELA 🎸 en directo #poprockindieespañol\n•Sala Gray DION DOBBE 🎧 en cabina #urbanmusic \n🔹 DOMINGO • 18’30h • TARDEO\n•Sala Dorian RUMBADOS 💃🏼 en directo #rumbaflamenca
URL:https://disfruta-denia.com/evento/programacion-dorian/2024-10-26/
LOCATION:Dorian Gray Denia\, Carrer de la Mar\, 14\, Denia\, Alicante\, 03700\, España
CATEGORIES:Concierto,DJ,Música,Ocio nocturno,Tardeo
ATTACH;FMTTYPE=image/png:https://disfruta-denia.com/wp-content/uploads/2024/10/Dorian-Gray-Denia-doriangray_denia-•-Instagram-photos-and-videos-10-24-2024_10_32_AM.png
END:VEVENT
BEGIN:VEVENT
DTSTART;TZID=Europe/Madrid:20241027T183000
DTEND;TZID=Europe/Madrid:20241027T183000
DTSTAMP:20260424T015343
CREATED:20241024T083720Z
LAST-MODIFIED:20241024T083720Z
UID:10020203-1730053800-1730053800@disfruta-denia.com
SUMMARY:Programación Dorian
DESCRIPTION:🔸 JUEVES • 00’00h • NOCHE\n•Sala Dorian JUNTOS Y REVUELTOS 🎸 en directo #poprockindieespañol \n🔹 VIERNES • 00’00h • NOCHE\n•Sala Dorian LA MOCHA 🎸 en directo #poprockindieespañol\n•Sala Gray DION DOBBE 🎧 en cabina #urbanmusic \n🔸 SÁBADO • 18’30h • TARDEO\n•Sala Dorian LA BANDA DE LA ABUELA 🎸 en directo #poprocknacional\n•Sala Gray IVAN REIG & DEIA 🎧 en cabina #urbanmusic \n🔸 SÁBADO • 00’00h • NOCHE\n•Sala Dorian LA BANDA DE LA ABUELA 🎸 en directo #poprockindieespañol\n•Sala Gray DION DOBBE 🎧 en cabina #urbanmusic \n🔹 DOMINGO • 18’30h • TARDEO\n•Sala Dorian RUMBADOS 💃🏼 en directo #rumbaflamenca
URL:https://disfruta-denia.com/evento/programacion-dorian/2024-10-27/
LOCATION:Dorian Gray Denia\, Carrer de la Mar\, 14\, Denia\, Alicante\, 03700\, España
CATEGORIES:Concierto,DJ,Música,Ocio nocturno,Tardeo
ATTACH;FMTTYPE=image/png:https://disfruta-denia.com/wp-content/uploads/2024/10/Dorian-Gray-Denia-doriangray_denia-•-Instagram-photos-and-videos-10-24-2024_10_32_AM.png
END:VEVENT
BEGIN:VEVENT
DTSTART;TZID=Europe/Madrid:20241031T190000
DTEND;TZID=Europe/Madrid:20241031T190000
DTSTAMP:20260424T015343
CREATED:20241027T103602Z
LAST-MODIFIED:20241027T103633Z
UID:10020208-1730401200-1730401200@disfruta-denia.com
SUMMARY:Halloween party en Cresol 66
DESCRIPTION:31.10 apartir de 18.00 Halloween en Cresol 66 pedreguer. Música en vivo con la banda Blackats de 19 a 22 horas\, posteriormente DJ. Hay un chupito de bienvenida en la casa. Nuestras cocinas son abiertas\, prueba nuestra BBQ\, hacemos parrilladas a la leña o nuestras deliciosas pizzas. Esperamos verte. Reservas al 614109817.
URL:https://disfruta-denia.com/evento/halloween-party-en-cresol-66/
LOCATION:Cressol 66\, Carretera nacional 332 km 194\, Pedreguer\, España
CATEGORIES:Concierto,DJ,Música,Ocio nocturno
ATTACH;FMTTYPE=image/jpeg:https://disfruta-denia.com/wp-content/uploads/2024/10/464001430_122189192408226758_3977725957766804549_n-1.jpg
END:VEVENT
END:VCALENDAR