BEGIN:VCALENDAR
VERSION:2.0
PRODID:-//Disfruta Denia - ECPv6.15.20//NONSGML v1.0//EN
CALSCALE:GREGORIAN
METHOD:PUBLISH
X-WR-CALNAME:Disfruta Denia
X-ORIGINAL-URL:https://disfruta-denia.com
X-WR-CALDESC:Eventos para Disfruta Denia
REFRESH-INTERVAL;VALUE=DURATION:PT1H
X-Robots-Tag:noindex
X-PUBLISHED-TTL:PT1H
BEGIN:VTIMEZONE
TZID:Europe/Madrid
BEGIN:DAYLIGHT
TZOFFSETFROM:+0100
TZOFFSETTO:+0200
TZNAME:CEST
DTSTART:20240331T010000
END:DAYLIGHT
BEGIN:STANDARD
TZOFFSETFROM:+0200
TZOFFSETTO:+0100
TZNAME:CET
DTSTART:20241027T010000
END:STANDARD
BEGIN:DAYLIGHT
TZOFFSETFROM:+0100
TZOFFSETTO:+0200
TZNAME:CEST
DTSTART:20250330T010000
END:DAYLIGHT
BEGIN:STANDARD
TZOFFSETFROM:+0200
TZOFFSETTO:+0100
TZNAME:CET
DTSTART:20251026T010000
END:STANDARD
BEGIN:DAYLIGHT
TZOFFSETFROM:+0100
TZOFFSETTO:+0200
TZNAME:CEST
DTSTART:20260329T010000
END:DAYLIGHT
BEGIN:STANDARD
TZOFFSETFROM:+0200
TZOFFSETTO:+0100
TZNAME:CET
DTSTART:20261025T010000
END:STANDARD
END:VTIMEZONE
BEGIN:VEVENT
DTSTART;TZID=Europe/Madrid:20250104T170000
DTEND;TZID=Europe/Madrid:20250104T170000
DTSTAMP:20260423T201254
CREATED:20250104T084416Z
LAST-MODIFIED:20250104T084416Z
UID:10020384-1736010000-1736010000@disfruta-denia.com
SUMMARY:Dorian empieza 2025
DESCRIPTION:EMPEZAMOS 2025! \n🔸 VIERNES • 18’00h • TARDEO\n•Sala Dorian DEIA 🎧 en cabina #urbanmusic \n🔹 VIERNES • 00’00h • NOCHE\n•Sala Dorian LA BANDA DE LA ABUELA 🎸 en directo #poprockindieespañol\n•Sala Gray BORJA CONESA 🎧 en cabina #urbanmusic \n🔸 SÁBADO • 18’00h • TARDEO\n•Sala Dorian XARANGA DESSIGUIDATS 🎷🎺 en directo #festapopular\n•Sala Gray DEIA & TARON 🎧 en cabina #urbanmusic \n🔹 SÁBADO • 00’00h • NOCHE\n•Sala Dorian MENPHIS 🎸 en directo #poprockindieespañol\n•Sala Gray BORJA CONESA 🎧 en cabina #urbanmusic \n🔹 DOMINGO • 00’00h • NOCHE DE REYES 👑\n•Sala Dorian LA MOCHA 🎸 en directo #poprockindieespañol\n•Sala Gray BORJA CONESA 🎧 en cabina #urbanmusic \n🔸 LUNES • 18’30h • TARDEO DE REYES 👑\n•Sala Dorian RUMBADOS 💃🏼 en directo #rumbaflamenca \nESTE FIN DE SEMANA DESPEDIMOS LAS NAVIDADES POR TODO LO ALTO!
URL:https://disfruta-denia.com/evento/dorian-empieza-2025/2025-01-04/1/
LOCATION:Dorian Gray Denia\, Carrer de la Mar\, 14\, Denia\, Alicante\, 03700\, España
CATEGORIES:Concierto,DJ,Música,Ocio nocturno,Tardeo
ATTACH;FMTTYPE=image/png:https://disfruta-denia.com/wp-content/uploads/2025/01/Rebeldia-Blues-rebeldiablues-•-Instagram-photos-and-videos-01-04-2025_09_42_AM.png
END:VEVENT
BEGIN:VEVENT
DTSTART;TZID=Europe/Madrid:20250104T233000
DTEND;TZID=Europe/Madrid:20250104T233000
DTSTAMP:20260423T201254
CREATED:20250104T084416Z
LAST-MODIFIED:20250104T084416Z
UID:10020385-1736033400-1736033400@disfruta-denia.com
SUMMARY:Dorian empieza 2025
DESCRIPTION:EMPEZAMOS 2025! \n🔸 VIERNES • 18’00h • TARDEO\n•Sala Dorian DEIA 🎧 en cabina #urbanmusic \n🔹 VIERNES • 00’00h • NOCHE\n•Sala Dorian LA BANDA DE LA ABUELA 🎸 en directo #poprockindieespañol\n•Sala Gray BORJA CONESA 🎧 en cabina #urbanmusic \n🔸 SÁBADO • 18’00h • TARDEO\n•Sala Dorian XARANGA DESSIGUIDATS 🎷🎺 en directo #festapopular\n•Sala Gray DEIA & TARON 🎧 en cabina #urbanmusic \n🔹 SÁBADO • 00’00h • NOCHE\n•Sala Dorian MENPHIS 🎸 en directo #poprockindieespañol\n•Sala Gray BORJA CONESA 🎧 en cabina #urbanmusic \n🔹 DOMINGO • 00’00h • NOCHE DE REYES 👑\n•Sala Dorian LA MOCHA 🎸 en directo #poprockindieespañol\n•Sala Gray BORJA CONESA 🎧 en cabina #urbanmusic \n🔸 LUNES • 18’30h • TARDEO DE REYES 👑\n•Sala Dorian RUMBADOS 💃🏼 en directo #rumbaflamenca \nESTE FIN DE SEMANA DESPEDIMOS LAS NAVIDADES POR TODO LO ALTO!
URL:https://disfruta-denia.com/evento/dorian-empieza-2025/2025-01-04/2/
LOCATION:Dorian Gray Denia\, Carrer de la Mar\, 14\, Denia\, Alicante\, 03700\, España
CATEGORIES:Concierto,DJ,Música,Ocio nocturno,Tardeo
ATTACH;FMTTYPE=image/png:https://disfruta-denia.com/wp-content/uploads/2025/01/Rebeldia-Blues-rebeldiablues-•-Instagram-photos-and-videos-01-04-2025_09_42_AM.png
END:VEVENT
BEGIN:VEVENT
DTSTART;TZID=Europe/Madrid:20250105T233000
DTEND;TZID=Europe/Madrid:20250105T233000
DTSTAMP:20260423T201254
CREATED:20250104T084416Z
LAST-MODIFIED:20250104T084416Z
UID:10020386-1736119800-1736119800@disfruta-denia.com
SUMMARY:Dorian empieza 2025
DESCRIPTION:EMPEZAMOS 2025! \n🔸 VIERNES • 18’00h • TARDEO\n•Sala Dorian DEIA 🎧 en cabina #urbanmusic \n🔹 VIERNES • 00’00h • NOCHE\n•Sala Dorian LA BANDA DE LA ABUELA 🎸 en directo #poprockindieespañol\n•Sala Gray BORJA CONESA 🎧 en cabina #urbanmusic \n🔸 SÁBADO • 18’00h • TARDEO\n•Sala Dorian XARANGA DESSIGUIDATS 🎷🎺 en directo #festapopular\n•Sala Gray DEIA & TARON 🎧 en cabina #urbanmusic \n🔹 SÁBADO • 00’00h • NOCHE\n•Sala Dorian MENPHIS 🎸 en directo #poprockindieespañol\n•Sala Gray BORJA CONESA 🎧 en cabina #urbanmusic \n🔹 DOMINGO • 00’00h • NOCHE DE REYES 👑\n•Sala Dorian LA MOCHA 🎸 en directo #poprockindieespañol\n•Sala Gray BORJA CONESA 🎧 en cabina #urbanmusic \n🔸 LUNES • 18’30h • TARDEO DE REYES 👑\n•Sala Dorian RUMBADOS 💃🏼 en directo #rumbaflamenca \nESTE FIN DE SEMANA DESPEDIMOS LAS NAVIDADES POR TODO LO ALTO!
URL:https://disfruta-denia.com/evento/dorian-empieza-2025/2025-01-05/
LOCATION:Dorian Gray Denia\, Carrer de la Mar\, 14\, Denia\, Alicante\, 03700\, España
CATEGORIES:Concierto,DJ,Música,Ocio nocturno,Tardeo
ATTACH;FMTTYPE=image/png:https://disfruta-denia.com/wp-content/uploads/2025/01/Rebeldia-Blues-rebeldiablues-•-Instagram-photos-and-videos-01-04-2025_09_42_AM.png
END:VEVENT
BEGIN:VEVENT
DTSTART;TZID=Europe/Madrid:20250106T183000
DTEND;TZID=Europe/Madrid:20250106T183000
DTSTAMP:20260423T201254
CREATED:20250104T084416Z
LAST-MODIFIED:20250104T084416Z
UID:10020387-1736188200-1736188200@disfruta-denia.com
SUMMARY:Dorian empieza 2025
DESCRIPTION:EMPEZAMOS 2025! \n🔸 VIERNES • 18’00h • TARDEO\n•Sala Dorian DEIA 🎧 en cabina #urbanmusic \n🔹 VIERNES • 00’00h • NOCHE\n•Sala Dorian LA BANDA DE LA ABUELA 🎸 en directo #poprockindieespañol\n•Sala Gray BORJA CONESA 🎧 en cabina #urbanmusic \n🔸 SÁBADO • 18’00h • TARDEO\n•Sala Dorian XARANGA DESSIGUIDATS 🎷🎺 en directo #festapopular\n•Sala Gray DEIA & TARON 🎧 en cabina #urbanmusic \n🔹 SÁBADO • 00’00h • NOCHE\n•Sala Dorian MENPHIS 🎸 en directo #poprockindieespañol\n•Sala Gray BORJA CONESA 🎧 en cabina #urbanmusic \n🔹 DOMINGO • 00’00h • NOCHE DE REYES 👑\n•Sala Dorian LA MOCHA 🎸 en directo #poprockindieespañol\n•Sala Gray BORJA CONESA 🎧 en cabina #urbanmusic \n🔸 LUNES • 18’30h • TARDEO DE REYES 👑\n•Sala Dorian RUMBADOS 💃🏼 en directo #rumbaflamenca \nESTE FIN DE SEMANA DESPEDIMOS LAS NAVIDADES POR TODO LO ALTO!
URL:https://disfruta-denia.com/evento/dorian-empieza-2025/2025-01-06/
LOCATION:Dorian Gray Denia\, Carrer de la Mar\, 14\, Denia\, Alicante\, 03700\, España
CATEGORIES:Concierto,DJ,Música,Ocio nocturno,Tardeo
ATTACH;FMTTYPE=image/png:https://disfruta-denia.com/wp-content/uploads/2025/01/Rebeldia-Blues-rebeldiablues-•-Instagram-photos-and-videos-01-04-2025_09_42_AM.png
END:VEVENT
BEGIN:VEVENT
DTSTART;TZID=Europe/Madrid:20250117T233000
DTEND;TZID=Europe/Madrid:20250117T233000
DTSTAMP:20260423T201254
CREATED:20250116T202829Z
LAST-MODIFIED:20250116T202829Z
UID:10020461-1737156600-1737156600@disfruta-denia.com
SUMMARY:Dorian: Remedio contra el frío
DESCRIPTION:📣 TENEMOS EL MEJOR REMEDIO PARA EL FRIO! \n🔸 VIERNES • 00’00h • NOCHE\n•Sala Dorian BORJA CONESA 🎧 en cabina #urbanmusic \n🔹 SÁBADO • 18’30h • TARDEO\n•Sala Dorian RUMBADOS 💃🏼 en directo #rumbaflamenca \n🔸 SÁBADO • 23’30h • NOCHE\nBORJA CONESA 🎧 ALL NIGHT en cabina #urbanmusic \nEN EL DORIAN SUBIMOS LA TEMPERATURA PARA QUE NO PASÉIS FRÍO 🌡️🔥
URL:https://disfruta-denia.com/evento/dorian-remedio-contra-el-frio/2025-01-17/
LOCATION:Dorian Gray Denia\, Carrer de la Mar\, 14\, Denia\, Alicante\, 03700\, España
CATEGORIES:Concierto,DJ,Música,Ocio nocturno
ATTACH;FMTTYPE=image/png:https://disfruta-denia.com/wp-content/uploads/2025/01/Rebeldia-Blues-rebeldiablues-•-Instagram-photos-and-videos-01-16-2025_09_27_PM.png
END:VEVENT
BEGIN:VEVENT
DTSTART;TZID=Europe/Madrid:20250118T183000
DTEND;TZID=Europe/Madrid:20250118T183000
DTSTAMP:20260423T201254
CREATED:20250116T202829Z
LAST-MODIFIED:20250116T202829Z
UID:10020462-1737225000-1737225000@disfruta-denia.com
SUMMARY:Dorian: Remedio contra el frío
DESCRIPTION:📣 TENEMOS EL MEJOR REMEDIO PARA EL FRIO! \n🔸 VIERNES • 00’00h • NOCHE\n•Sala Dorian BORJA CONESA 🎧 en cabina #urbanmusic \n🔹 SÁBADO • 18’30h • TARDEO\n•Sala Dorian RUMBADOS 💃🏼 en directo #rumbaflamenca \n🔸 SÁBADO • 23’30h • NOCHE\nBORJA CONESA 🎧 ALL NIGHT en cabina #urbanmusic \nEN EL DORIAN SUBIMOS LA TEMPERATURA PARA QUE NO PASÉIS FRÍO 🌡️🔥
URL:https://disfruta-denia.com/evento/dorian-remedio-contra-el-frio/2025-01-18/1/
LOCATION:Dorian Gray Denia\, Carrer de la Mar\, 14\, Denia\, Alicante\, 03700\, España
CATEGORIES:Concierto,DJ,Música,Ocio nocturno
ATTACH;FMTTYPE=image/png:https://disfruta-denia.com/wp-content/uploads/2025/01/Rebeldia-Blues-rebeldiablues-•-Instagram-photos-and-videos-01-16-2025_09_27_PM.png
END:VEVENT
BEGIN:VEVENT
DTSTART;TZID=Europe/Madrid:20250118T233000
DTEND;TZID=Europe/Madrid:20250118T233000
DTSTAMP:20260423T201254
CREATED:20250116T202829Z
LAST-MODIFIED:20250116T202829Z
UID:10020463-1737243000-1737243000@disfruta-denia.com
SUMMARY:Dorian: Remedio contra el frío
DESCRIPTION:📣 TENEMOS EL MEJOR REMEDIO PARA EL FRIO! \n🔸 VIERNES • 00’00h • NOCHE\n•Sala Dorian BORJA CONESA 🎧 en cabina #urbanmusic \n🔹 SÁBADO • 18’30h • TARDEO\n•Sala Dorian RUMBADOS 💃🏼 en directo #rumbaflamenca \n🔸 SÁBADO • 23’30h • NOCHE\nBORJA CONESA 🎧 ALL NIGHT en cabina #urbanmusic \nEN EL DORIAN SUBIMOS LA TEMPERATURA PARA QUE NO PASÉIS FRÍO 🌡️🔥
URL:https://disfruta-denia.com/evento/dorian-remedio-contra-el-frio/2025-01-18/2/
LOCATION:Dorian Gray Denia\, Carrer de la Mar\, 14\, Denia\, Alicante\, 03700\, España
CATEGORIES:Concierto,DJ,Música,Ocio nocturno
ATTACH;FMTTYPE=image/png:https://disfruta-denia.com/wp-content/uploads/2025/01/Rebeldia-Blues-rebeldiablues-•-Instagram-photos-and-videos-01-16-2025_09_27_PM.png
END:VEVENT
END:VCALENDAR