BEGIN:VCALENDAR
VERSION:2.0
PRODID:-//Disfruta Denia - ECPv6.15.20//NONSGML v1.0//EN
CALSCALE:GREGORIAN
METHOD:PUBLISH
X-ORIGINAL-URL:https://disfruta-denia.com
X-WR-CALDESC:Eventos para Disfruta Denia
REFRESH-INTERVAL;VALUE=DURATION:PT1H
X-Robots-Tag:noindex
X-PUBLISHED-TTL:PT1H
BEGIN:VTIMEZONE
TZID:Europe/Madrid
BEGIN:DAYLIGHT
TZOFFSETFROM:+0100
TZOFFSETTO:+0200
TZNAME:CEST
DTSTART:20240331T010000
END:DAYLIGHT
BEGIN:STANDARD
TZOFFSETFROM:+0200
TZOFFSETTO:+0100
TZNAME:CET
DTSTART:20241027T010000
END:STANDARD
BEGIN:DAYLIGHT
TZOFFSETFROM:+0100
TZOFFSETTO:+0200
TZNAME:CEST
DTSTART:20250330T010000
END:DAYLIGHT
BEGIN:STANDARD
TZOFFSETFROM:+0200
TZOFFSETTO:+0100
TZNAME:CET
DTSTART:20251026T010000
END:STANDARD
BEGIN:DAYLIGHT
TZOFFSETFROM:+0100
TZOFFSETTO:+0200
TZNAME:CEST
DTSTART:20260329T010000
END:DAYLIGHT
BEGIN:STANDARD
TZOFFSETFROM:+0200
TZOFFSETTO:+0100
TZNAME:CET
DTSTART:20261025T010000
END:STANDARD
END:VTIMEZONE
BEGIN:VEVENT
DTSTART;TZID=Europe/Madrid:20250221T235900
DTEND;TZID=Europe/Madrid:20250221T235900
DTSTAMP:20260423T183347
CREATED:20250221T094459Z
LAST-MODIFIED:20250221T094459Z
UID:10020517-1740182340-1740182340@disfruta-denia.com
SUMMARY:Programación Dorian Gray
DESCRIPTION:📣 NO PARAMOS\, PREPARADXS?? \n🔹 VIERNES • 19’00h • TARDEO\n•Sala Dorian LA MOCHA 🎸 en directo #poprocknacional \n🔸 VIERNES • 00’00h • NOCHE\n•Sala Dorian ZENITH 🎸 en directo #poprocknacional\n•Sala Gray BORJA CONESA 🎧 en cabina #urbanmusic \n🔹 SÁBADO • 18’30h • TARDEO\n•Sala Dorian DORIAN GRAY BAND 🎸 en directo #poprockindieespañol\n•Sala Gray DEIA & DION DOBBE 🎧 en cabina #urbanmusic \n🔸 SÁBADO • 00’00h • NOCHE\n•Sala Dorian DORIAN GRAY BAND 🎸 en directo #poprockindieespañol\n•Sala Gray BORJA CONESA 🎧 en directo #urbanmusic \n🔹 DOMINGO • 18’30h • TARDEO\n•Sala Dorian RUMBADOS 💃🏼 en directo #rumbaflamenca
URL:https://disfruta-denia.com/evento/programacion-dorian-gray/2025-02-21/
LOCATION:Dorian Gray Denia\, Carrer de la Mar\, 14\, Denia\, Alicante\, 03700\, España
CATEGORIES:Concierto,DJ,Música,Ocio nocturno,Tardeo
ATTACH;FMTTYPE=image/png:https://disfruta-denia.com/wp-content/uploads/2025/02/Rebeldia-Blues-rebeldiablues-•-Instagram-photos-and-videos-02-21-2025_10_42_AM.png
END:VEVENT
BEGIN:VEVENT
DTSTART;TZID=Europe/Madrid:20250222T235900
DTEND;TZID=Europe/Madrid:20250222T235900
DTSTAMP:20260423T183347
CREATED:20250221T094459Z
LAST-MODIFIED:20250221T094459Z
UID:10020518-1740268740-1740268740@disfruta-denia.com
SUMMARY:Programación Dorian Gray
DESCRIPTION:📣 NO PARAMOS\, PREPARADXS?? \n🔹 VIERNES • 19’00h • TARDEO\n•Sala Dorian LA MOCHA 🎸 en directo #poprocknacional \n🔸 VIERNES • 00’00h • NOCHE\n•Sala Dorian ZENITH 🎸 en directo #poprocknacional\n•Sala Gray BORJA CONESA 🎧 en cabina #urbanmusic \n🔹 SÁBADO • 18’30h • TARDEO\n•Sala Dorian DORIAN GRAY BAND 🎸 en directo #poprockindieespañol\n•Sala Gray DEIA & DION DOBBE 🎧 en cabina #urbanmusic \n🔸 SÁBADO • 00’00h • NOCHE\n•Sala Dorian DORIAN GRAY BAND 🎸 en directo #poprockindieespañol\n•Sala Gray BORJA CONESA 🎧 en directo #urbanmusic \n🔹 DOMINGO • 18’30h • TARDEO\n•Sala Dorian RUMBADOS 💃🏼 en directo #rumbaflamenca
URL:https://disfruta-denia.com/evento/programacion-dorian-gray/2025-02-22/
LOCATION:Dorian Gray Denia\, Carrer de la Mar\, 14\, Denia\, Alicante\, 03700\, España
CATEGORIES:Concierto,DJ,Música,Ocio nocturno,Tardeo
ATTACH;FMTTYPE=image/png:https://disfruta-denia.com/wp-content/uploads/2025/02/Rebeldia-Blues-rebeldiablues-•-Instagram-photos-and-videos-02-21-2025_10_42_AM.png
END:VEVENT
BEGIN:VEVENT
DTSTART;TZID=Europe/Madrid:20250223T183000
DTEND;TZID=Europe/Madrid:20250223T183000
DTSTAMP:20260423T183347
CREATED:20250221T094459Z
LAST-MODIFIED:20250221T094459Z
UID:10020519-1740335400-1740335400@disfruta-denia.com
SUMMARY:Programación Dorian Gray
DESCRIPTION:📣 NO PARAMOS\, PREPARADXS?? \n🔹 VIERNES • 19’00h • TARDEO\n•Sala Dorian LA MOCHA 🎸 en directo #poprocknacional \n🔸 VIERNES • 00’00h • NOCHE\n•Sala Dorian ZENITH 🎸 en directo #poprocknacional\n•Sala Gray BORJA CONESA 🎧 en cabina #urbanmusic \n🔹 SÁBADO • 18’30h • TARDEO\n•Sala Dorian DORIAN GRAY BAND 🎸 en directo #poprockindieespañol\n•Sala Gray DEIA & DION DOBBE 🎧 en cabina #urbanmusic \n🔸 SÁBADO • 00’00h • NOCHE\n•Sala Dorian DORIAN GRAY BAND 🎸 en directo #poprockindieespañol\n•Sala Gray BORJA CONESA 🎧 en directo #urbanmusic \n🔹 DOMINGO • 18’30h • TARDEO\n•Sala Dorian RUMBADOS 💃🏼 en directo #rumbaflamenca
URL:https://disfruta-denia.com/evento/programacion-dorian-gray/2025-02-23/
LOCATION:Dorian Gray Denia\, Carrer de la Mar\, 14\, Denia\, Alicante\, 03700\, España
CATEGORIES:Concierto,DJ,Música,Ocio nocturno,Tardeo
ATTACH;FMTTYPE=image/png:https://disfruta-denia.com/wp-content/uploads/2025/02/Rebeldia-Blues-rebeldiablues-•-Instagram-photos-and-videos-02-21-2025_10_42_AM.png
END:VEVENT
END:VCALENDAR