BEGIN:VCALENDAR
VERSION:2.0
PRODID:-//Disfruta Denia - ECPv6.15.20//NONSGML v1.0//EN
CALSCALE:GREGORIAN
METHOD:PUBLISH
X-WR-CALNAME:Disfruta Denia
X-ORIGINAL-URL:https://disfruta-denia.com
X-WR-CALDESC:Eventos para Disfruta Denia
REFRESH-INTERVAL;VALUE=DURATION:PT1H
X-Robots-Tag:noindex
X-PUBLISHED-TTL:PT1H
BEGIN:VTIMEZONE
TZID:Europe/Madrid
BEGIN:DAYLIGHT
TZOFFSETFROM:+0100
TZOFFSETTO:+0200
TZNAME:CEST
DTSTART:20240331T010000
END:DAYLIGHT
BEGIN:STANDARD
TZOFFSETFROM:+0200
TZOFFSETTO:+0100
TZNAME:CET
DTSTART:20241027T010000
END:STANDARD
BEGIN:DAYLIGHT
TZOFFSETFROM:+0100
TZOFFSETTO:+0200
TZNAME:CEST
DTSTART:20250330T010000
END:DAYLIGHT
BEGIN:STANDARD
TZOFFSETFROM:+0200
TZOFFSETTO:+0100
TZNAME:CET
DTSTART:20251026T010000
END:STANDARD
BEGIN:DAYLIGHT
TZOFFSETFROM:+0100
TZOFFSETTO:+0200
TZNAME:CEST
DTSTART:20260329T010000
END:DAYLIGHT
BEGIN:STANDARD
TZOFFSETFROM:+0200
TZOFFSETTO:+0100
TZNAME:CET
DTSTART:20261025T010000
END:STANDARD
END:VTIMEZONE
BEGIN:VEVENT
DTSTART;TZID=Europe/Madrid:20250424T233000
DTEND;TZID=Europe/Madrid:20250424T233000
DTSTAMP:20260423T145926
CREATED:20250424T115421Z
LAST-MODIFIED:20250424T115421Z
UID:10020613-1745537400-1745537400@disfruta-denia.com
SUMMARY:Dorian Gray: LA PASQUA VALENCIANA
DESCRIPTION:LA PASQUA VALENCIANA! \n🔸 MIÉRCOLES • 23’30h • NOCHE\n•Sala Dorian DEIA 🎧 en cabina #urbanmusic \n🔹 JUEVES • 23’30h • NOCHE\n•Sala Dorian TARON 🎧 en cabina #urbanmusic \n🔸 VIERNES • 00’00h • NOCHE\n•Sala Dorian MENPHIS 🎸 en directo #poprocknacional\n•Sala Gray BORJA CONESA 🎧 en cabina #urbanmusic \n🔹 SÁBADO • 18’30h • TARDEO\n•Sala Dorian CAPITAL 90 🎸 en directo #popindie\n•Sala Gray DION DOBBE 🎧 en cabina #urbanmusic \n⚽️🏆 FINAL COPA DEL REY • 22’00h\n🔴🔵 BARÇA – MADRID ⚪️🟣 \n🔸 SÁBADO • 00’00h • NOCHE\n•Sala Dorian CAPITAL 90 🎸 en directo #popindie\n•Sala Gray BORJA CONESA 🎧 en cabina #urbanmusic \n🔹 DOMINGO • 18’30h • TARDEO\n•Sala Dorian RUMBADOS 💃🏼 en directo #rumbaflamenca \n🔸 DOMINGO • 00’00h • NOCHE\n•Sala Dorian BORJA CONESA 🎧 en cabina #urbanmusic \ni recorda: SI EN FALLES NO FOLLES\, EN PASQUA NO FALLES!
URL:https://disfruta-denia.com/evento/dorian-gray-la-pasqua-valenciana/2025-04-24/
LOCATION:Dorian Gray Denia\, Carrer de la Mar\, 14\, Denia\, Alicante\, 03700\, España
CATEGORIES:Concierto,DJ,Música,Ocio nocturno,Tardeo
ATTACH;FMTTYPE=image/png:https://disfruta-denia.com/wp-content/uploads/2025/04/Instagram-04-24-2025_01_51_PM.png
END:VEVENT
BEGIN:VEVENT
DTSTART;TZID=Europe/Madrid:20250425T233000
DTEND;TZID=Europe/Madrid:20250425T233000
DTSTAMP:20260423T145926
CREATED:20250424T115421Z
LAST-MODIFIED:20250424T115421Z
UID:10020614-1745623800-1745623800@disfruta-denia.com
SUMMARY:Dorian Gray: LA PASQUA VALENCIANA
DESCRIPTION:LA PASQUA VALENCIANA! \n🔸 MIÉRCOLES • 23’30h • NOCHE\n•Sala Dorian DEIA 🎧 en cabina #urbanmusic \n🔹 JUEVES • 23’30h • NOCHE\n•Sala Dorian TARON 🎧 en cabina #urbanmusic \n🔸 VIERNES • 00’00h • NOCHE\n•Sala Dorian MENPHIS 🎸 en directo #poprocknacional\n•Sala Gray BORJA CONESA 🎧 en cabina #urbanmusic \n🔹 SÁBADO • 18’30h • TARDEO\n•Sala Dorian CAPITAL 90 🎸 en directo #popindie\n•Sala Gray DION DOBBE 🎧 en cabina #urbanmusic \n⚽️🏆 FINAL COPA DEL REY • 22’00h\n🔴🔵 BARÇA – MADRID ⚪️🟣 \n🔸 SÁBADO • 00’00h • NOCHE\n•Sala Dorian CAPITAL 90 🎸 en directo #popindie\n•Sala Gray BORJA CONESA 🎧 en cabina #urbanmusic \n🔹 DOMINGO • 18’30h • TARDEO\n•Sala Dorian RUMBADOS 💃🏼 en directo #rumbaflamenca \n🔸 DOMINGO • 00’00h • NOCHE\n•Sala Dorian BORJA CONESA 🎧 en cabina #urbanmusic \ni recorda: SI EN FALLES NO FOLLES\, EN PASQUA NO FALLES!
URL:https://disfruta-denia.com/evento/dorian-gray-la-pasqua-valenciana/2025-04-25/
LOCATION:Dorian Gray Denia\, Carrer de la Mar\, 14\, Denia\, Alicante\, 03700\, España
CATEGORIES:Concierto,DJ,Música,Ocio nocturno,Tardeo
ATTACH;FMTTYPE=image/png:https://disfruta-denia.com/wp-content/uploads/2025/04/Instagram-04-24-2025_01_51_PM.png
END:VEVENT
BEGIN:VEVENT
DTSTART;TZID=Europe/Madrid:20250426T180000
DTEND;TZID=Europe/Madrid:20250426T180000
DTSTAMP:20260423T145926
CREATED:20250424T115421Z
LAST-MODIFIED:20250424T115421Z
UID:10020615-1745690400-1745690400@disfruta-denia.com
SUMMARY:Dorian Gray: LA PASQUA VALENCIANA
DESCRIPTION:LA PASQUA VALENCIANA! \n🔸 MIÉRCOLES • 23’30h • NOCHE\n•Sala Dorian DEIA 🎧 en cabina #urbanmusic \n🔹 JUEVES • 23’30h • NOCHE\n•Sala Dorian TARON 🎧 en cabina #urbanmusic \n🔸 VIERNES • 00’00h • NOCHE\n•Sala Dorian MENPHIS 🎸 en directo #poprocknacional\n•Sala Gray BORJA CONESA 🎧 en cabina #urbanmusic \n🔹 SÁBADO • 18’30h • TARDEO\n•Sala Dorian CAPITAL 90 🎸 en directo #popindie\n•Sala Gray DION DOBBE 🎧 en cabina #urbanmusic \n⚽️🏆 FINAL COPA DEL REY • 22’00h\n🔴🔵 BARÇA – MADRID ⚪️🟣 \n🔸 SÁBADO • 00’00h • NOCHE\n•Sala Dorian CAPITAL 90 🎸 en directo #popindie\n•Sala Gray BORJA CONESA 🎧 en cabina #urbanmusic \n🔹 DOMINGO • 18’30h • TARDEO\n•Sala Dorian RUMBADOS 💃🏼 en directo #rumbaflamenca \n🔸 DOMINGO • 00’00h • NOCHE\n•Sala Dorian BORJA CONESA 🎧 en cabina #urbanmusic \ni recorda: SI EN FALLES NO FOLLES\, EN PASQUA NO FALLES!
URL:https://disfruta-denia.com/evento/dorian-gray-la-pasqua-valenciana/2025-04-26/1/
LOCATION:Dorian Gray Denia\, Carrer de la Mar\, 14\, Denia\, Alicante\, 03700\, España
CATEGORIES:Concierto,DJ,Música,Ocio nocturno,Tardeo
ATTACH;FMTTYPE=image/png:https://disfruta-denia.com/wp-content/uploads/2025/04/Instagram-04-24-2025_01_51_PM.png
END:VEVENT
BEGIN:VEVENT
DTSTART;TZID=Europe/Madrid:20250426T233000
DTEND;TZID=Europe/Madrid:20250426T233000
DTSTAMP:20260423T145926
CREATED:20250424T115421Z
LAST-MODIFIED:20250424T115421Z
UID:10020616-1745710200-1745710200@disfruta-denia.com
SUMMARY:Dorian Gray: LA PASQUA VALENCIANA
DESCRIPTION:LA PASQUA VALENCIANA! \n🔸 MIÉRCOLES • 23’30h • NOCHE\n•Sala Dorian DEIA 🎧 en cabina #urbanmusic \n🔹 JUEVES • 23’30h • NOCHE\n•Sala Dorian TARON 🎧 en cabina #urbanmusic \n🔸 VIERNES • 00’00h • NOCHE\n•Sala Dorian MENPHIS 🎸 en directo #poprocknacional\n•Sala Gray BORJA CONESA 🎧 en cabina #urbanmusic \n🔹 SÁBADO • 18’30h • TARDEO\n•Sala Dorian CAPITAL 90 🎸 en directo #popindie\n•Sala Gray DION DOBBE 🎧 en cabina #urbanmusic \n⚽️🏆 FINAL COPA DEL REY • 22’00h\n🔴🔵 BARÇA – MADRID ⚪️🟣 \n🔸 SÁBADO • 00’00h • NOCHE\n•Sala Dorian CAPITAL 90 🎸 en directo #popindie\n•Sala Gray BORJA CONESA 🎧 en cabina #urbanmusic \n🔹 DOMINGO • 18’30h • TARDEO\n•Sala Dorian RUMBADOS 💃🏼 en directo #rumbaflamenca \n🔸 DOMINGO • 00’00h • NOCHE\n•Sala Dorian BORJA CONESA 🎧 en cabina #urbanmusic \ni recorda: SI EN FALLES NO FOLLES\, EN PASQUA NO FALLES!
URL:https://disfruta-denia.com/evento/dorian-gray-la-pasqua-valenciana/2025-04-26/2/
LOCATION:Dorian Gray Denia\, Carrer de la Mar\, 14\, Denia\, Alicante\, 03700\, España
CATEGORIES:Concierto,DJ,Música,Ocio nocturno,Tardeo
ATTACH;FMTTYPE=image/png:https://disfruta-denia.com/wp-content/uploads/2025/04/Instagram-04-24-2025_01_51_PM.png
END:VEVENT
BEGIN:VEVENT
DTSTART;TZID=Europe/Madrid:20250427T183000
DTEND;TZID=Europe/Madrid:20250427T183000
DTSTAMP:20260423T145926
CREATED:20250424T115421Z
LAST-MODIFIED:20250424T115421Z
UID:10020617-1745778600-1745778600@disfruta-denia.com
SUMMARY:Dorian Gray: LA PASQUA VALENCIANA
DESCRIPTION:LA PASQUA VALENCIANA! \n🔸 MIÉRCOLES • 23’30h • NOCHE\n•Sala Dorian DEIA 🎧 en cabina #urbanmusic \n🔹 JUEVES • 23’30h • NOCHE\n•Sala Dorian TARON 🎧 en cabina #urbanmusic \n🔸 VIERNES • 00’00h • NOCHE\n•Sala Dorian MENPHIS 🎸 en directo #poprocknacional\n•Sala Gray BORJA CONESA 🎧 en cabina #urbanmusic \n🔹 SÁBADO • 18’30h • TARDEO\n•Sala Dorian CAPITAL 90 🎸 en directo #popindie\n•Sala Gray DION DOBBE 🎧 en cabina #urbanmusic \n⚽️🏆 FINAL COPA DEL REY • 22’00h\n🔴🔵 BARÇA – MADRID ⚪️🟣 \n🔸 SÁBADO • 00’00h • NOCHE\n•Sala Dorian CAPITAL 90 🎸 en directo #popindie\n•Sala Gray BORJA CONESA 🎧 en cabina #urbanmusic \n🔹 DOMINGO • 18’30h • TARDEO\n•Sala Dorian RUMBADOS 💃🏼 en directo #rumbaflamenca \n🔸 DOMINGO • 00’00h • NOCHE\n•Sala Dorian BORJA CONESA 🎧 en cabina #urbanmusic \ni recorda: SI EN FALLES NO FOLLES\, EN PASQUA NO FALLES!
URL:https://disfruta-denia.com/evento/dorian-gray-la-pasqua-valenciana/2025-04-27/
LOCATION:Dorian Gray Denia\, Carrer de la Mar\, 14\, Denia\, Alicante\, 03700\, España
CATEGORIES:Concierto,DJ,Música,Ocio nocturno,Tardeo
ATTACH;FMTTYPE=image/png:https://disfruta-denia.com/wp-content/uploads/2025/04/Instagram-04-24-2025_01_51_PM.png
END:VEVENT
END:VCALENDAR