BEGIN:VCALENDAR
VERSION:2.0
PRODID:-//Disfruta Denia - ECPv6.15.20//NONSGML v1.0//EN
CALSCALE:GREGORIAN
METHOD:PUBLISH
X-ORIGINAL-URL:https://disfruta-denia.com
X-WR-CALDESC:Eventos para Disfruta Denia
REFRESH-INTERVAL;VALUE=DURATION:PT1H
X-Robots-Tag:noindex
X-PUBLISHED-TTL:PT1H
BEGIN:VTIMEZONE
TZID:Europe/Madrid
BEGIN:DAYLIGHT
TZOFFSETFROM:+0100
TZOFFSETTO:+0200
TZNAME:CEST
DTSTART:20240331T010000
END:DAYLIGHT
BEGIN:STANDARD
TZOFFSETFROM:+0200
TZOFFSETTO:+0100
TZNAME:CET
DTSTART:20241027T010000
END:STANDARD
BEGIN:DAYLIGHT
TZOFFSETFROM:+0100
TZOFFSETTO:+0200
TZNAME:CEST
DTSTART:20250330T010000
END:DAYLIGHT
BEGIN:STANDARD
TZOFFSETFROM:+0200
TZOFFSETTO:+0100
TZNAME:CET
DTSTART:20251026T010000
END:STANDARD
BEGIN:DAYLIGHT
TZOFFSETFROM:+0100
TZOFFSETTO:+0200
TZNAME:CEST
DTSTART:20260329T010000
END:DAYLIGHT
BEGIN:STANDARD
TZOFFSETFROM:+0200
TZOFFSETTO:+0100
TZNAME:CET
DTSTART:20261025T010000
END:STANDARD
END:VTIMEZONE
BEGIN:VEVENT
DTSTART;TZID=Europe/Madrid:20250705T170000
DTEND;TZID=Europe/Madrid:20250705T170000
DTSTAMP:20260423T093253
CREATED:20250607T085950Z
LAST-MODIFIED:20250607T085950Z
UID:10021597-1751734800-1751734800@disfruta-denia.com
SUMMARY:Sesión Mediterrània
DESCRIPTION:Sesión Mediterrània. Actuaciones de Sergio Dénia y Lol i Pop. Glorieta del País Valencià.
URL:https://disfruta-denia.com/evento/sesion-mediterrania/
LOCATION:Glorieta del País Valencià\, Glorieta del País Valencià\, Denia\, Alicante\, 03700\, España
CATEGORIES:Concierto,DJ,Música
ATTACH;FMTTYPE=image/webp:https://disfruta-denia.com/wp-content/uploads/2025/06/6842c94a319de.webp
END:VEVENT
BEGIN:VEVENT
DTSTART;TZID=Europe/Madrid:20250706T180000
DTEND;TZID=Europe/Madrid:20250706T180000
DTSTAMP:20260423T093253
CREATED:20250630T103218Z
LAST-MODIFIED:20250630T103218Z
UID:10021901-1751824800-1751824800@disfruta-denia.com
SUMMARY:The Black Rose
DESCRIPTION:
URL:https://disfruta-denia.com/evento/the-black-rose/2025-07-06/
LOCATION:La Mar Serena\, Moll de la Pansa s/n Edificio Marina el Portet\, Denia\, Alicante\, 03700\, España
CATEGORIES:DJ,Música,Tardeo
ATTACH;FMTTYPE=image/jpeg:https://disfruta-denia.com/wp-content/uploads/2025/06/52318A2A-2125-4D79-84EF-BDCC678B4F82.jpg
END:VEVENT
BEGIN:VEVENT
DTSTART;TZID=Europe/Madrid:20250713T180000
DTEND;TZID=Europe/Madrid:20250713T180000
DTSTAMP:20260423T093253
CREATED:20250630T103218Z
LAST-MODIFIED:20250630T103218Z
UID:10021902-1752429600-1752429600@disfruta-denia.com
SUMMARY:The Black Rose
DESCRIPTION:
URL:https://disfruta-denia.com/evento/the-black-rose/2025-07-13/
LOCATION:La Mar Serena\, Moll de la Pansa s/n Edificio Marina el Portet\, Denia\, Alicante\, 03700\, España
CATEGORIES:DJ,Música,Tardeo
ATTACH;FMTTYPE=image/jpeg:https://disfruta-denia.com/wp-content/uploads/2025/06/52318A2A-2125-4D79-84EF-BDCC678B4F82.jpg
END:VEVENT
BEGIN:VEVENT
DTSTART;TZID=Europe/Madrid:20250720T180000
DTEND;TZID=Europe/Madrid:20250720T180000
DTSTAMP:20260423T093253
CREATED:20250630T103218Z
LAST-MODIFIED:20250630T103218Z
UID:10021903-1753034400-1753034400@disfruta-denia.com
SUMMARY:The Black Rose
DESCRIPTION:
URL:https://disfruta-denia.com/evento/the-black-rose/2025-07-20/
LOCATION:La Mar Serena\, Moll de la Pansa s/n Edificio Marina el Portet\, Denia\, Alicante\, 03700\, España
CATEGORIES:DJ,Música,Tardeo
ATTACH;FMTTYPE=image/jpeg:https://disfruta-denia.com/wp-content/uploads/2025/06/52318A2A-2125-4D79-84EF-BDCC678B4F82.jpg
END:VEVENT
BEGIN:VEVENT
DTSTART;TZID=Europe/Madrid:20250727T180000
DTEND;TZID=Europe/Madrid:20250727T180000
DTSTAMP:20260423T093253
CREATED:20250630T103218Z
LAST-MODIFIED:20250630T103218Z
UID:10021904-1753639200-1753639200@disfruta-denia.com
SUMMARY:The Black Rose
DESCRIPTION:
URL:https://disfruta-denia.com/evento/the-black-rose/2025-07-27/
LOCATION:La Mar Serena\, Moll de la Pansa s/n Edificio Marina el Portet\, Denia\, Alicante\, 03700\, España
CATEGORIES:DJ,Música,Tardeo
ATTACH;FMTTYPE=image/jpeg:https://disfruta-denia.com/wp-content/uploads/2025/06/52318A2A-2125-4D79-84EF-BDCC678B4F82.jpg
END:VEVENT
END:VCALENDAR