BEGIN:VCALENDAR
VERSION:2.0
PRODID:-//Disfruta Denia - ECPv6.15.20//NONSGML v1.0//EN
CALSCALE:GREGORIAN
METHOD:PUBLISH
X-ORIGINAL-URL:https://disfruta-denia.com
X-WR-CALDESC:Eventos para Disfruta Denia
REFRESH-INTERVAL;VALUE=DURATION:PT1H
X-Robots-Tag:noindex
X-PUBLISHED-TTL:PT1H
BEGIN:VTIMEZONE
TZID:Europe/Madrid
BEGIN:DAYLIGHT
TZOFFSETFROM:+0100
TZOFFSETTO:+0200
TZNAME:CEST
DTSTART:20240331T010000
END:DAYLIGHT
BEGIN:STANDARD
TZOFFSETFROM:+0200
TZOFFSETTO:+0100
TZNAME:CET
DTSTART:20241027T010000
END:STANDARD
BEGIN:DAYLIGHT
TZOFFSETFROM:+0100
TZOFFSETTO:+0200
TZNAME:CEST
DTSTART:20250330T010000
END:DAYLIGHT
BEGIN:STANDARD
TZOFFSETFROM:+0200
TZOFFSETTO:+0100
TZNAME:CET
DTSTART:20251026T010000
END:STANDARD
BEGIN:DAYLIGHT
TZOFFSETFROM:+0100
TZOFFSETTO:+0200
TZNAME:CEST
DTSTART:20260329T010000
END:DAYLIGHT
BEGIN:STANDARD
TZOFFSETFROM:+0200
TZOFFSETTO:+0100
TZNAME:CET
DTSTART:20261025T010000
END:STANDARD
END:VTIMEZONE
BEGIN:VEVENT
DTSTART;TZID=Europe/Madrid:20250907T180000
DTEND;TZID=Europe/Madrid:20250907T180000
DTSTAMP:20260423T060217
CREATED:20250630T103218Z
LAST-MODIFIED:20250630T103218Z
UID:10021910-1757268000-1757268000@disfruta-denia.com
SUMMARY:The Black Rose
DESCRIPTION:
URL:https://disfruta-denia.com/evento/the-black-rose/2025-09-07/
LOCATION:La Mar Serena\, Moll de la Pansa s/n Edificio Marina el Portet\, Denia\, Alicante\, 03700\, España
CATEGORIES:DJ,Música,Tardeo
ATTACH;FMTTYPE=image/jpeg:https://disfruta-denia.com/wp-content/uploads/2025/06/52318A2A-2125-4D79-84EF-BDCC678B4F82.jpg
END:VEVENT
BEGIN:VEVENT
DTSTART;TZID=Europe/Madrid:20250912T235900
DTEND;TZID=Europe/Madrid:20250912T235900
DTSTAMP:20260423T060217
CREATED:20250912T083255Z
LAST-MODIFIED:20250912T083255Z
UID:10022163-1757721540-1757721540@disfruta-denia.com
SUMMARY:Dorian Gray: vuelta al cole
DESCRIPTION:LA VUELTA AL COLE \n🔸 JUEVES • 00’00h • NOCHE\nJUNTOS Y REVUELTOS 🎸 en directo #poprockindieespañol \n🔹 VIERNES • 00’00h • NOCHE\n•Sala Dorian ZENITH 🎸 en directo #poprockindieespañol\n•Sala Gray BORJA CONESA 🎧 en cabina #urbanmusic \n🔸 SÁBADO • 18:30h • TARDEO\n•Sala Dorian BORJA CONESA 🎧 en cabina #urbanmusic \n🔸 SÁBADO • 00’00h • NOCHE\n•Sala Dorian LA MOCHA 🎸 en directo #poprockindieespañol\n•Sala Gray BORJA CONESA 🎧 en cabina #urbanmusic \nHAN VUELTO LOS TARDEOS Y DE QUE MANERA!\nLA VUELTA AL DORIAN YA ESTÁ AQUÍ…. 😎🎒\n\ndor
URL:https://disfruta-denia.com/evento/dorian-gray-vuelta-al-cole/2025-09-12/
LOCATION:Dorian Gray Denia\, Carrer de la Mar\, 14\, Denia\, Alicante\, 03700\, España
CATEGORIES:Concierto,DJ,Música,Ocio nocturno
ATTACH;FMTTYPE=image/png:https://disfruta-denia.com/wp-content/uploads/2025/09/Instagram-09-12-2025_10_29_AM.png
END:VEVENT
BEGIN:VEVENT
DTSTART;TZID=Europe/Madrid:20250913T235900
DTEND;TZID=Europe/Madrid:20250913T235900
DTSTAMP:20260423T060217
CREATED:20250912T083255Z
LAST-MODIFIED:20250912T083255Z
UID:10022164-1757807940-1757807940@disfruta-denia.com
SUMMARY:Dorian Gray: vuelta al cole
DESCRIPTION:LA VUELTA AL COLE \n🔸 JUEVES • 00’00h • NOCHE\nJUNTOS Y REVUELTOS 🎸 en directo #poprockindieespañol \n🔹 VIERNES • 00’00h • NOCHE\n•Sala Dorian ZENITH 🎸 en directo #poprockindieespañol\n•Sala Gray BORJA CONESA 🎧 en cabina #urbanmusic \n🔸 SÁBADO • 18:30h • TARDEO\n•Sala Dorian BORJA CONESA 🎧 en cabina #urbanmusic \n🔸 SÁBADO • 00’00h • NOCHE\n•Sala Dorian LA MOCHA 🎸 en directo #poprockindieespañol\n•Sala Gray BORJA CONESA 🎧 en cabina #urbanmusic \nHAN VUELTO LOS TARDEOS Y DE QUE MANERA!\nLA VUELTA AL DORIAN YA ESTÁ AQUÍ…. 😎🎒\n\ndor
URL:https://disfruta-denia.com/evento/dorian-gray-vuelta-al-cole/2025-09-13/
LOCATION:Dorian Gray Denia\, Carrer de la Mar\, 14\, Denia\, Alicante\, 03700\, España
CATEGORIES:Concierto,DJ,Música,Ocio nocturno
ATTACH;FMTTYPE=image/png:https://disfruta-denia.com/wp-content/uploads/2025/09/Instagram-09-12-2025_10_29_AM.png
END:VEVENT
BEGIN:VEVENT
DTSTART;TZID=Europe/Madrid:20250914T180000
DTEND;TZID=Europe/Madrid:20250914T180000
DTSTAMP:20260423T060217
CREATED:20250630T103218Z
LAST-MODIFIED:20250630T103218Z
UID:10021911-1757872800-1757872800@disfruta-denia.com
SUMMARY:The Black Rose
DESCRIPTION:
URL:https://disfruta-denia.com/evento/the-black-rose/2025-09-14/
LOCATION:La Mar Serena\, Moll de la Pansa s/n Edificio Marina el Portet\, Denia\, Alicante\, 03700\, España
CATEGORIES:DJ,Música,Tardeo
ATTACH;FMTTYPE=image/jpeg:https://disfruta-denia.com/wp-content/uploads/2025/06/52318A2A-2125-4D79-84EF-BDCC678B4F82.jpg
END:VEVENT
BEGIN:VEVENT
DTSTART;TZID=Europe/Madrid:20250921T180000
DTEND;TZID=Europe/Madrid:20250921T180000
DTSTAMP:20260423T060217
CREATED:20250630T103218Z
LAST-MODIFIED:20250630T103218Z
UID:10021912-1758477600-1758477600@disfruta-denia.com
SUMMARY:The Black Rose
DESCRIPTION:
URL:https://disfruta-denia.com/evento/the-black-rose/2025-09-21/
LOCATION:La Mar Serena\, Moll de la Pansa s/n Edificio Marina el Portet\, Denia\, Alicante\, 03700\, España
CATEGORIES:DJ,Música,Tardeo
ATTACH;FMTTYPE=image/jpeg:https://disfruta-denia.com/wp-content/uploads/2025/06/52318A2A-2125-4D79-84EF-BDCC678B4F82.jpg
END:VEVENT
BEGIN:VEVENT
DTSTART;TZID=Europe/Madrid:20250928T180000
DTEND;TZID=Europe/Madrid:20250928T180000
DTSTAMP:20260423T060217
CREATED:20250630T103218Z
LAST-MODIFIED:20250630T103218Z
UID:10021913-1759082400-1759082400@disfruta-denia.com
SUMMARY:The Black Rose
DESCRIPTION:
URL:https://disfruta-denia.com/evento/the-black-rose/2025-09-28/
LOCATION:La Mar Serena\, Moll de la Pansa s/n Edificio Marina el Portet\, Denia\, Alicante\, 03700\, España
CATEGORIES:DJ,Música,Tardeo
ATTACH;FMTTYPE=image/jpeg:https://disfruta-denia.com/wp-content/uploads/2025/06/52318A2A-2125-4D79-84EF-BDCC678B4F82.jpg
END:VEVENT
END:VCALENDAR