BEGIN:VCALENDAR
VERSION:2.0
PRODID:-//Disfruta Denia - ECPv6.15.20//NONSGML v1.0//EN
CALSCALE:GREGORIAN
METHOD:PUBLISH
X-ORIGINAL-URL:https://disfruta-denia.com
X-WR-CALDESC:Eventos para Disfruta Denia
REFRESH-INTERVAL;VALUE=DURATION:PT1H
X-Robots-Tag:noindex
X-PUBLISHED-TTL:PT1H
BEGIN:VTIMEZONE
TZID:Europe/Madrid
BEGIN:DAYLIGHT
TZOFFSETFROM:+0100
TZOFFSETTO:+0200
TZNAME:CEST
DTSTART:20240331T010000
END:DAYLIGHT
BEGIN:STANDARD
TZOFFSETFROM:+0200
TZOFFSETTO:+0100
TZNAME:CET
DTSTART:20241027T010000
END:STANDARD
BEGIN:DAYLIGHT
TZOFFSETFROM:+0100
TZOFFSETTO:+0200
TZNAME:CEST
DTSTART:20250330T010000
END:DAYLIGHT
BEGIN:STANDARD
TZOFFSETFROM:+0200
TZOFFSETTO:+0100
TZNAME:CET
DTSTART:20251026T010000
END:STANDARD
BEGIN:DAYLIGHT
TZOFFSETFROM:+0100
TZOFFSETTO:+0200
TZNAME:CEST
DTSTART:20260329T010000
END:DAYLIGHT
BEGIN:STANDARD
TZOFFSETFROM:+0200
TZOFFSETTO:+0100
TZNAME:CET
DTSTART:20261025T010000
END:STANDARD
END:VTIMEZONE
BEGIN:VEVENT
DTSTART;TZID=Europe/Madrid:20251005T180000
DTEND;TZID=Europe/Madrid:20251005T180000
DTSTAMP:20260423T040908
CREATED:20250630T103218Z
LAST-MODIFIED:20250630T103218Z
UID:10021914-1759687200-1759687200@disfruta-denia.com
SUMMARY:The Black Rose
DESCRIPTION:
URL:https://disfruta-denia.com/evento/the-black-rose/2025-10-05/
LOCATION:La Mar Serena\, Moll de la Pansa s/n Edificio Marina el Portet\, Denia\, Alicante\, 03700\, España
CATEGORIES:DJ,Música,Tardeo
ATTACH;FMTTYPE=image/jpeg:https://disfruta-denia.com/wp-content/uploads/2025/06/52318A2A-2125-4D79-84EF-BDCC678B4F82.jpg
END:VEVENT
BEGIN:VEVENT
DTSTART;TZID=Europe/Madrid:20251009T183000
DTEND;TZID=Europe/Madrid:20251009T183000
DTSTAMP:20260423T040908
CREATED:20251009T132929Z
LAST-MODIFIED:20251009T132929Z
UID:10022495-1760034600-1760034600@disfruta-denia.com
SUMMARY:Semana Valencia en Dorian
DESCRIPTION:FELIÇ SETMANA VALENCIANS!!! 🟡🔴 \n🔸 MIÉRCOLES • 00’00h • NOCHE\n•Sala Dorian LA MOCHA 🎸 en directo #poprock\n•Sala Gray BORJA CONESA 🎧 en cabina #urbanmusic \n🔺 JUEVES • 18’30h • TARDEO\n•Sala Dorian MENPHIS 🎸 en directo #poprock \n🔸 JUEVES • 00’00h • NOCHE\n•Sala Dorian JUNTOS Y REVUELTOS 🎸 en directo #poprocknacional \n🔺 VIERNES • 18’00h • TARDEO\n•Sala Dorian BORJA CONESA 🎧 en cabina #urbanmusic \n🔸 VIERNES • 00’00h • NOCHE\n•Sala Dorian ZENITH 🎸 en directo #poprock\n•Sala Gray DION DOBBE 🎧 en cabina #urbanmusic \n🔺 SÁBADO • 18’00h • TARDEO\n•Sala Dorian DORIAN GRAY BAND 🎸 en directo #poprockband\n•Sala Gray TARON 🎧 en cabina #urbanmusic \n🔸 SÁBADO • 23’00h • NOCHE\n•Sala Dorian DORIAN GRAY BAND 🎸 en directo #poprockband\n•Sala Gray BORJA CONESA 🎧 en cabina #urbanmusic \n🔺 DOMINGO • 18’30h • TARDEO\n•Sala Dorian RUMBADOS 💃🏼 en directo #rumbaflamenca \nFins JAUME I se’n ve al Dorian este cap de setmana!
URL:https://disfruta-denia.com/evento/semana-valencia-en-dorian/2025-10-09/1/
LOCATION:Dorian Gray Denia\, Carrer de la Mar\, 14\, Denia\, Alicante\, 03700\, España
CATEGORIES:Concierto,DJ,Música,Ocio nocturno,Tardeo
ATTACH;FMTTYPE=image/png:https://disfruta-denia.com/wp-content/uploads/2025/10/Instagram-10-09-2025_03_27_PM.png
END:VEVENT
BEGIN:VEVENT
DTSTART;TZID=Europe/Madrid:20251009T233000
DTEND;TZID=Europe/Madrid:20251009T233000
DTSTAMP:20260423T040908
CREATED:20251009T132929Z
LAST-MODIFIED:20251009T132929Z
UID:10022496-1760052600-1760052600@disfruta-denia.com
SUMMARY:Semana Valencia en Dorian
DESCRIPTION:FELIÇ SETMANA VALENCIANS!!! 🟡🔴 \n🔸 MIÉRCOLES • 00’00h • NOCHE\n•Sala Dorian LA MOCHA 🎸 en directo #poprock\n•Sala Gray BORJA CONESA 🎧 en cabina #urbanmusic \n🔺 JUEVES • 18’30h • TARDEO\n•Sala Dorian MENPHIS 🎸 en directo #poprock \n🔸 JUEVES • 00’00h • NOCHE\n•Sala Dorian JUNTOS Y REVUELTOS 🎸 en directo #poprocknacional \n🔺 VIERNES • 18’00h • TARDEO\n•Sala Dorian BORJA CONESA 🎧 en cabina #urbanmusic \n🔸 VIERNES • 00’00h • NOCHE\n•Sala Dorian ZENITH 🎸 en directo #poprock\n•Sala Gray DION DOBBE 🎧 en cabina #urbanmusic \n🔺 SÁBADO • 18’00h • TARDEO\n•Sala Dorian DORIAN GRAY BAND 🎸 en directo #poprockband\n•Sala Gray TARON 🎧 en cabina #urbanmusic \n🔸 SÁBADO • 23’00h • NOCHE\n•Sala Dorian DORIAN GRAY BAND 🎸 en directo #poprockband\n•Sala Gray BORJA CONESA 🎧 en cabina #urbanmusic \n🔺 DOMINGO • 18’30h • TARDEO\n•Sala Dorian RUMBADOS 💃🏼 en directo #rumbaflamenca \nFins JAUME I se’n ve al Dorian este cap de setmana!
URL:https://disfruta-denia.com/evento/semana-valencia-en-dorian/2025-10-09/2/
LOCATION:Dorian Gray Denia\, Carrer de la Mar\, 14\, Denia\, Alicante\, 03700\, España
CATEGORIES:Concierto,DJ,Música,Ocio nocturno,Tardeo
ATTACH;FMTTYPE=image/png:https://disfruta-denia.com/wp-content/uploads/2025/10/Instagram-10-09-2025_03_27_PM.png
END:VEVENT
BEGIN:VEVENT
DTSTART;TZID=Europe/Madrid:20251010T233000
DTEND;TZID=Europe/Madrid:20251010T233000
DTSTAMP:20260423T040908
CREATED:20251009T132929Z
LAST-MODIFIED:20251009T132929Z
UID:10022497-1760139000-1760139000@disfruta-denia.com
SUMMARY:Semana Valencia en Dorian
DESCRIPTION:FELIÇ SETMANA VALENCIANS!!! 🟡🔴 \n🔸 MIÉRCOLES • 00’00h • NOCHE\n•Sala Dorian LA MOCHA 🎸 en directo #poprock\n•Sala Gray BORJA CONESA 🎧 en cabina #urbanmusic \n🔺 JUEVES • 18’30h • TARDEO\n•Sala Dorian MENPHIS 🎸 en directo #poprock \n🔸 JUEVES • 00’00h • NOCHE\n•Sala Dorian JUNTOS Y REVUELTOS 🎸 en directo #poprocknacional \n🔺 VIERNES • 18’00h • TARDEO\n•Sala Dorian BORJA CONESA 🎧 en cabina #urbanmusic \n🔸 VIERNES • 00’00h • NOCHE\n•Sala Dorian ZENITH 🎸 en directo #poprock\n•Sala Gray DION DOBBE 🎧 en cabina #urbanmusic \n🔺 SÁBADO • 18’00h • TARDEO\n•Sala Dorian DORIAN GRAY BAND 🎸 en directo #poprockband\n•Sala Gray TARON 🎧 en cabina #urbanmusic \n🔸 SÁBADO • 23’00h • NOCHE\n•Sala Dorian DORIAN GRAY BAND 🎸 en directo #poprockband\n•Sala Gray BORJA CONESA 🎧 en cabina #urbanmusic \n🔺 DOMINGO • 18’30h • TARDEO\n•Sala Dorian RUMBADOS 💃🏼 en directo #rumbaflamenca \nFins JAUME I se’n ve al Dorian este cap de setmana!
URL:https://disfruta-denia.com/evento/semana-valencia-en-dorian/2025-10-10/
LOCATION:Dorian Gray Denia\, Carrer de la Mar\, 14\, Denia\, Alicante\, 03700\, España
CATEGORIES:Concierto,DJ,Música,Ocio nocturno,Tardeo
ATTACH;FMTTYPE=image/png:https://disfruta-denia.com/wp-content/uploads/2025/10/Instagram-10-09-2025_03_27_PM.png
END:VEVENT
BEGIN:VEVENT
DTSTART;TZID=Europe/Madrid:20251011T183000
DTEND;TZID=Europe/Madrid:20251011T183000
DTSTAMP:20260423T040908
CREATED:20251009T132929Z
LAST-MODIFIED:20251009T132929Z
UID:10022498-1760207400-1760207400@disfruta-denia.com
SUMMARY:Semana Valencia en Dorian
DESCRIPTION:FELIÇ SETMANA VALENCIANS!!! 🟡🔴 \n🔸 MIÉRCOLES • 00’00h • NOCHE\n•Sala Dorian LA MOCHA 🎸 en directo #poprock\n•Sala Gray BORJA CONESA 🎧 en cabina #urbanmusic \n🔺 JUEVES • 18’30h • TARDEO\n•Sala Dorian MENPHIS 🎸 en directo #poprock \n🔸 JUEVES • 00’00h • NOCHE\n•Sala Dorian JUNTOS Y REVUELTOS 🎸 en directo #poprocknacional \n🔺 VIERNES • 18’00h • TARDEO\n•Sala Dorian BORJA CONESA 🎧 en cabina #urbanmusic \n🔸 VIERNES • 00’00h • NOCHE\n•Sala Dorian ZENITH 🎸 en directo #poprock\n•Sala Gray DION DOBBE 🎧 en cabina #urbanmusic \n🔺 SÁBADO • 18’00h • TARDEO\n•Sala Dorian DORIAN GRAY BAND 🎸 en directo #poprockband\n•Sala Gray TARON 🎧 en cabina #urbanmusic \n🔸 SÁBADO • 23’00h • NOCHE\n•Sala Dorian DORIAN GRAY BAND 🎸 en directo #poprockband\n•Sala Gray BORJA CONESA 🎧 en cabina #urbanmusic \n🔺 DOMINGO • 18’30h • TARDEO\n•Sala Dorian RUMBADOS 💃🏼 en directo #rumbaflamenca \nFins JAUME I se’n ve al Dorian este cap de setmana!
URL:https://disfruta-denia.com/evento/semana-valencia-en-dorian/2025-10-11/1/
LOCATION:Dorian Gray Denia\, Carrer de la Mar\, 14\, Denia\, Alicante\, 03700\, España
CATEGORIES:Concierto,DJ,Música,Ocio nocturno,Tardeo
ATTACH;FMTTYPE=image/png:https://disfruta-denia.com/wp-content/uploads/2025/10/Instagram-10-09-2025_03_27_PM.png
END:VEVENT
BEGIN:VEVENT
DTSTART;TZID=Europe/Madrid:20251011T233000
DTEND;TZID=Europe/Madrid:20251011T233000
DTSTAMP:20260423T040908
CREATED:20251009T132929Z
LAST-MODIFIED:20251009T132929Z
UID:10022499-1760225400-1760225400@disfruta-denia.com
SUMMARY:Semana Valencia en Dorian
DESCRIPTION:FELIÇ SETMANA VALENCIANS!!! 🟡🔴 \n🔸 MIÉRCOLES • 00’00h • NOCHE\n•Sala Dorian LA MOCHA 🎸 en directo #poprock\n•Sala Gray BORJA CONESA 🎧 en cabina #urbanmusic \n🔺 JUEVES • 18’30h • TARDEO\n•Sala Dorian MENPHIS 🎸 en directo #poprock \n🔸 JUEVES • 00’00h • NOCHE\n•Sala Dorian JUNTOS Y REVUELTOS 🎸 en directo #poprocknacional \n🔺 VIERNES • 18’00h • TARDEO\n•Sala Dorian BORJA CONESA 🎧 en cabina #urbanmusic \n🔸 VIERNES • 00’00h • NOCHE\n•Sala Dorian ZENITH 🎸 en directo #poprock\n•Sala Gray DION DOBBE 🎧 en cabina #urbanmusic \n🔺 SÁBADO • 18’00h • TARDEO\n•Sala Dorian DORIAN GRAY BAND 🎸 en directo #poprockband\n•Sala Gray TARON 🎧 en cabina #urbanmusic \n🔸 SÁBADO • 23’00h • NOCHE\n•Sala Dorian DORIAN GRAY BAND 🎸 en directo #poprockband\n•Sala Gray BORJA CONESA 🎧 en cabina #urbanmusic \n🔺 DOMINGO • 18’30h • TARDEO\n•Sala Dorian RUMBADOS 💃🏼 en directo #rumbaflamenca \nFins JAUME I se’n ve al Dorian este cap de setmana!
URL:https://disfruta-denia.com/evento/semana-valencia-en-dorian/2025-10-11/2/
LOCATION:Dorian Gray Denia\, Carrer de la Mar\, 14\, Denia\, Alicante\, 03700\, España
CATEGORIES:Concierto,DJ,Música,Ocio nocturno,Tardeo
ATTACH;FMTTYPE=image/png:https://disfruta-denia.com/wp-content/uploads/2025/10/Instagram-10-09-2025_03_27_PM.png
END:VEVENT
BEGIN:VEVENT
DTSTART;TZID=Europe/Madrid:20251016T235900
DTEND;TZID=Europe/Madrid:20251016T235900
DTSTAMP:20260423T040908
CREATED:20251014T083025Z
LAST-MODIFIED:20251014T083025Z
UID:10022504-1760659140-1760659140@disfruta-denia.com
SUMMARY:Noches de Dorian
DESCRIPTION:🔸 JUEVES • 00’00h • NOCHE\n•Sala Dorian JUNTOS Y REVUELTOS 🎸 en directo #poprock \n🔹 VIERNES • 00’00h • NOCHE\n•Sala Dorian LA MOCHA 🎸 en directo #poprocknacional\n•Sala Gray DEIA 🎧 en cabina #urbanmusic \n🔸 SÁBADO • 18:30h • TARDEO\n•Sala Dorian ZENITH 🎸 en directo #poprockband\n•Sala Gray BERNAT ORTEGA 🎧 en cabina #urbanmusic \n🔹 SÁBADO • 00’00h • NOCHE\n•Sala Dorian ZENITH 🎸 en directo #poprockband\n•Sala Gray DION DOBBE 🎧 en cabina #urbanmusic \n🔸 DOMINGO • 18’30h • TARDEO\n•Sala Dorian RUMBADOS 💃🏼 en directo #rumbaflamenca \nYA NO HACE DÍAS DE PLAYA PERO SI QUE HACE DIAS DE DORIAN
URL:https://disfruta-denia.com/evento/noches-de-dorian/2025-10-16/
LOCATION:Dorian Gray Denia\, Carrer de la Mar\, 14\, Denia\, Alicante\, 03700\, España
CATEGORIES:Concierto,DJ,Música,Ocio nocturno,Tardeo
ATTACH;FMTTYPE=image/png:https://disfruta-denia.com/wp-content/uploads/2025/10/Instagram-10-14-2025_10_29_AM.png
END:VEVENT
BEGIN:VEVENT
DTSTART;TZID=Europe/Madrid:20251017T235900
DTEND;TZID=Europe/Madrid:20251017T235900
DTSTAMP:20260423T040908
CREATED:20251014T083025Z
LAST-MODIFIED:20251014T083025Z
UID:10022505-1760745540-1760745540@disfruta-denia.com
SUMMARY:Noches de Dorian
DESCRIPTION:🔸 JUEVES • 00’00h • NOCHE\n•Sala Dorian JUNTOS Y REVUELTOS 🎸 en directo #poprock \n🔹 VIERNES • 00’00h • NOCHE\n•Sala Dorian LA MOCHA 🎸 en directo #poprocknacional\n•Sala Gray DEIA 🎧 en cabina #urbanmusic \n🔸 SÁBADO • 18:30h • TARDEO\n•Sala Dorian ZENITH 🎸 en directo #poprockband\n•Sala Gray BERNAT ORTEGA 🎧 en cabina #urbanmusic \n🔹 SÁBADO • 00’00h • NOCHE\n•Sala Dorian ZENITH 🎸 en directo #poprockband\n•Sala Gray DION DOBBE 🎧 en cabina #urbanmusic \n🔸 DOMINGO • 18’30h • TARDEO\n•Sala Dorian RUMBADOS 💃🏼 en directo #rumbaflamenca \nYA NO HACE DÍAS DE PLAYA PERO SI QUE HACE DIAS DE DORIAN
URL:https://disfruta-denia.com/evento/noches-de-dorian/2025-10-17/
LOCATION:Dorian Gray Denia\, Carrer de la Mar\, 14\, Denia\, Alicante\, 03700\, España
CATEGORIES:Concierto,DJ,Música,Ocio nocturno,Tardeo
ATTACH;FMTTYPE=image/png:https://disfruta-denia.com/wp-content/uploads/2025/10/Instagram-10-14-2025_10_29_AM.png
END:VEVENT
BEGIN:VEVENT
DTSTART;TZID=Europe/Madrid:20251018T183000
DTEND;TZID=Europe/Madrid:20251018T183000
DTSTAMP:20260423T040908
CREATED:20251014T083025Z
LAST-MODIFIED:20251014T083025Z
UID:10022506-1760812200-1760812200@disfruta-denia.com
SUMMARY:Noches de Dorian
DESCRIPTION:🔸 JUEVES • 00’00h • NOCHE\n•Sala Dorian JUNTOS Y REVUELTOS 🎸 en directo #poprock \n🔹 VIERNES • 00’00h • NOCHE\n•Sala Dorian LA MOCHA 🎸 en directo #poprocknacional\n•Sala Gray DEIA 🎧 en cabina #urbanmusic \n🔸 SÁBADO • 18:30h • TARDEO\n•Sala Dorian ZENITH 🎸 en directo #poprockband\n•Sala Gray BERNAT ORTEGA 🎧 en cabina #urbanmusic \n🔹 SÁBADO • 00’00h • NOCHE\n•Sala Dorian ZENITH 🎸 en directo #poprockband\n•Sala Gray DION DOBBE 🎧 en cabina #urbanmusic \n🔸 DOMINGO • 18’30h • TARDEO\n•Sala Dorian RUMBADOS 💃🏼 en directo #rumbaflamenca \nYA NO HACE DÍAS DE PLAYA PERO SI QUE HACE DIAS DE DORIAN
URL:https://disfruta-denia.com/evento/noches-de-dorian/2025-10-18/1/
LOCATION:Dorian Gray Denia\, Carrer de la Mar\, 14\, Denia\, Alicante\, 03700\, España
CATEGORIES:Concierto,DJ,Música,Ocio nocturno,Tardeo
ATTACH;FMTTYPE=image/png:https://disfruta-denia.com/wp-content/uploads/2025/10/Instagram-10-14-2025_10_29_AM.png
END:VEVENT
BEGIN:VEVENT
DTSTART;TZID=Europe/Madrid:20251018T235900
DTEND;TZID=Europe/Madrid:20251018T235900
DTSTAMP:20260423T040908
CREATED:20251014T083025Z
LAST-MODIFIED:20251014T083025Z
UID:10022507-1760831940-1760831940@disfruta-denia.com
SUMMARY:Noches de Dorian
DESCRIPTION:🔸 JUEVES • 00’00h • NOCHE\n•Sala Dorian JUNTOS Y REVUELTOS 🎸 en directo #poprock \n🔹 VIERNES • 00’00h • NOCHE\n•Sala Dorian LA MOCHA 🎸 en directo #poprocknacional\n•Sala Gray DEIA 🎧 en cabina #urbanmusic \n🔸 SÁBADO • 18:30h • TARDEO\n•Sala Dorian ZENITH 🎸 en directo #poprockband\n•Sala Gray BERNAT ORTEGA 🎧 en cabina #urbanmusic \n🔹 SÁBADO • 00’00h • NOCHE\n•Sala Dorian ZENITH 🎸 en directo #poprockband\n•Sala Gray DION DOBBE 🎧 en cabina #urbanmusic \n🔸 DOMINGO • 18’30h • TARDEO\n•Sala Dorian RUMBADOS 💃🏼 en directo #rumbaflamenca \nYA NO HACE DÍAS DE PLAYA PERO SI QUE HACE DIAS DE DORIAN
URL:https://disfruta-denia.com/evento/noches-de-dorian/2025-10-18/2/
LOCATION:Dorian Gray Denia\, Carrer de la Mar\, 14\, Denia\, Alicante\, 03700\, España
CATEGORIES:Concierto,DJ,Música,Ocio nocturno,Tardeo
ATTACH;FMTTYPE=image/png:https://disfruta-denia.com/wp-content/uploads/2025/10/Instagram-10-14-2025_10_29_AM.png
END:VEVENT
BEGIN:VEVENT
DTSTART;TZID=Europe/Madrid:20251019T183000
DTEND;TZID=Europe/Madrid:20251019T183000
DTSTAMP:20260423T040908
CREATED:20251014T083025Z
LAST-MODIFIED:20251014T083025Z
UID:10022508-1760898600-1760898600@disfruta-denia.com
SUMMARY:Noches de Dorian
DESCRIPTION:🔸 JUEVES • 00’00h • NOCHE\n•Sala Dorian JUNTOS Y REVUELTOS 🎸 en directo #poprock \n🔹 VIERNES • 00’00h • NOCHE\n•Sala Dorian LA MOCHA 🎸 en directo #poprocknacional\n•Sala Gray DEIA 🎧 en cabina #urbanmusic \n🔸 SÁBADO • 18:30h • TARDEO\n•Sala Dorian ZENITH 🎸 en directo #poprockband\n•Sala Gray BERNAT ORTEGA 🎧 en cabina #urbanmusic \n🔹 SÁBADO • 00’00h • NOCHE\n•Sala Dorian ZENITH 🎸 en directo #poprockband\n•Sala Gray DION DOBBE 🎧 en cabina #urbanmusic \n🔸 DOMINGO • 18’30h • TARDEO\n•Sala Dorian RUMBADOS 💃🏼 en directo #rumbaflamenca \nYA NO HACE DÍAS DE PLAYA PERO SI QUE HACE DIAS DE DORIAN
URL:https://disfruta-denia.com/evento/noches-de-dorian/2025-10-19/
LOCATION:Dorian Gray Denia\, Carrer de la Mar\, 14\, Denia\, Alicante\, 03700\, España
CATEGORIES:Concierto,DJ,Música,Ocio nocturno,Tardeo
ATTACH;FMTTYPE=image/png:https://disfruta-denia.com/wp-content/uploads/2025/10/Instagram-10-14-2025_10_29_AM.png
END:VEVENT
BEGIN:VEVENT
DTSTART;TZID=Europe/Madrid:20251031T233000
DTEND;TZID=Europe/Madrid:20251031T233000
DTSTAMP:20260423T040908
CREATED:20251008T083956Z
LAST-MODIFIED:20251008T083956Z
UID:10022492-1761953400-1761953400@disfruta-denia.com
SUMMARY:Halloween en Condado
DESCRIPTION:HALLOWEEN 2025\n\n\nComo cada año\, cruzamos al otro lado…¡y nos pegamos la fista del año\n\n\nLuces\, flores y calaveras para celebrar que el ALMA NUNCA MUERE\n\n\nTequila\, photocalls\, música y espectáculo con sorpresas como las que solo puedes ver en Condado
URL:https://disfruta-denia.com/evento/halloween-en-condado-2/
LOCATION:Condado Club\, Calle marques de campo\, 42 B\, Denia\, Alicante\, 03700\, España
CATEGORIES:DJ,Música,Ocio nocturno
ATTACH;FMTTYPE=image/jpeg:https://disfruta-denia.com/wp-content/uploads/2025/10/560357764_18507309280065938_2578722004053108742_n.jpg
END:VEVENT
BEGIN:VEVENT
DTSTART;TZID=Europe/Madrid:20251031T235900
DTEND;TZID=Europe/Madrid:20251031T235900
DTSTAMP:20260423T040908
CREATED:20251030T085538Z
LAST-MODIFIED:20251030T085538Z
UID:10023081-1761955140-1761955140@disfruta-denia.com
SUMMARY:Dorian Gray: 🎃 SE VIENE JABULLIN 🎃
DESCRIPTION:🎃 SE VIENE JABULLIN 🎃 \n🔸 JUEVES • 00’00h • NOCHE\n•Sala Dorian JUNTOS Y REVUELTOS 🎸 en directo #poprock \n🔹 VIERNES • 00’00h • NOCHE\n•Sala Dorian ZENITH 🎸 en directo #poprocknacional\n•Sala Gray BORJA CONESA 🎧 en cabina #urbanmusic \n🔸 SÁBADO • 17:30h • TARDEO\n•Sala Dorian VOY A PASÁRMELO BIEN!\nPITT FRANCO / TONY PEREZ / PEPE NACHO 🎧 en cabina #pop #dance #remember \n•Sala Gray BERNAT ORTEGA & DION DOBBE 🎧 en cabina #urbanmusic \n🔹 SÁBADO • 00’00h • NOCHE\n•Sala Dorian DORIAN GRAY BAND 🎸 en directo #poprockband\n•Sala Gray BORJA CONESA 🎧 en cabina #urbanmusic \n🔸 DOMINGO • 18’30h • TARDEO\n•Sala Dorian RUMBADOS 💃🏼 en directo #rumbaflamenca \nVEN A PASAR UN FIN DE SEMANA DE MIEDO EN DORIAN GRAY
URL:https://disfruta-denia.com/evento/dorian-gray-%f0%9f%8e%83-se-viene-jabullin-%f0%9f%8e%83-2/
LOCATION:Dorian Gray Denia\, Carrer de la Mar\, 14\, Denia\, Alicante\, 03700\, España
CATEGORIES:Concierto,DJ,Música,Ocio nocturno
ATTACH;FMTTYPE=image/png:https://disfruta-denia.com/wp-content/uploads/2025/10/Instagram-10-30-2025_09_49_AM.png
END:VEVENT
END:VCALENDAR