BEGIN:VCALENDAR
VERSION:2.0
PRODID:-//Disfruta Denia - ECPv6.15.20//NONSGML v1.0//EN
CALSCALE:GREGORIAN
METHOD:PUBLISH
X-ORIGINAL-URL:https://disfruta-denia.com
X-WR-CALDESC:Eventos para Disfruta Denia
REFRESH-INTERVAL;VALUE=DURATION:PT1H
X-Robots-Tag:noindex
X-PUBLISHED-TTL:PT1H
BEGIN:VTIMEZONE
TZID:Europe/Madrid
BEGIN:DAYLIGHT
TZOFFSETFROM:+0100
TZOFFSETTO:+0200
TZNAME:CEST
DTSTART:20220327T010000
END:DAYLIGHT
BEGIN:STANDARD
TZOFFSETFROM:+0200
TZOFFSETTO:+0100
TZNAME:CET
DTSTART:20221030T010000
END:STANDARD
BEGIN:DAYLIGHT
TZOFFSETFROM:+0100
TZOFFSETTO:+0200
TZNAME:CEST
DTSTART:20230326T010000
END:DAYLIGHT
BEGIN:STANDARD
TZOFFSETFROM:+0200
TZOFFSETTO:+0100
TZNAME:CET
DTSTART:20231029T010000
END:STANDARD
BEGIN:DAYLIGHT
TZOFFSETFROM:+0100
TZOFFSETTO:+0200
TZNAME:CEST
DTSTART:20240331T010000
END:DAYLIGHT
BEGIN:STANDARD
TZOFFSETFROM:+0200
TZOFFSETTO:+0100
TZNAME:CET
DTSTART:20241027T010000
END:STANDARD
END:VTIMEZONE
BEGIN:VEVENT
DTSTART;TZID=Europe/Madrid:20230105T235500
DTEND;TZID=Europe/Madrid:20230105T235500
DTSTAMP:20260425T134847
CREATED:20221201T104209Z
LAST-MODIFIED:20221201T104209Z
UID:10007048-1672962900-1672962900@disfruta-denia.com
SUMMARY:Micro abierto en LCDA
DESCRIPTION:Es fácil: si quieres\, puedes cantar tu temazo favorito\, nuestros músicos tocarán para ti. ¡Hoy abrimos!
URL:https://disfruta-denia.com/evento/micro-abierto-en-lcda-4/2023-01-05/
LOCATION:La Chica de ayer\, Calle la mar 30\, Denia\, Alicante\, 03700\, España
CATEGORIES:Concierto,Karaoké,Música,Ocio nocturno
ATTACH;FMTTYPE=image/jpeg:https://disfruta-denia.com/wp-content/uploads/2022/10/317656532_593492869447639_4324504093198109496_n.jpg
END:VEVENT
BEGIN:VEVENT
DTSTART;TZID=Europe/Madrid:20230106T223000
DTEND;TZID=Europe/Madrid:20230106T223000
DTSTAMP:20260425T134847
CREATED:20221009T104344Z
LAST-MODIFIED:20221009T104344Z
UID:10006398-1673044200-1673044200@disfruta-denia.com
SUMMARY:Karaoké en A fer la Mar
DESCRIPTION:El viernes KARAOKE \, te atreves?? 🎤🎤 \nReserva tu mesa para las cenas 🇮🇹\nos esperamos! 🔥
URL:https://disfruta-denia.com/evento/karaoke-en-a-fer-la-mar/2023-01-06/
LOCATION:A fer la mar\, calle la mar\, nº 7\, Denia\, Alicante\, 03700\, España
CATEGORIES:Karaoké,Música
ATTACH;FMTTYPE=image/jpeg:https://disfruta-denia.com/wp-content/uploads/2022/10/309902935_847749016574718_387941431502313107_n.jpeg
END:VEVENT
BEGIN:VEVENT
DTSTART;TZID=Europe/Madrid:20230112T235500
DTEND;TZID=Europe/Madrid:20230112T235500
DTSTAMP:20260425T134847
CREATED:20221201T104209Z
LAST-MODIFIED:20221201T104209Z
UID:10007049-1673567700-1673567700@disfruta-denia.com
SUMMARY:Micro abierto en LCDA
DESCRIPTION:Es fácil: si quieres\, puedes cantar tu temazo favorito\, nuestros músicos tocarán para ti. ¡Hoy abrimos!
URL:https://disfruta-denia.com/evento/micro-abierto-en-lcda-4/2023-01-12/
LOCATION:La Chica de ayer\, Calle la mar 30\, Denia\, Alicante\, 03700\, España
CATEGORIES:Concierto,Karaoké,Música,Ocio nocturno
ATTACH;FMTTYPE=image/jpeg:https://disfruta-denia.com/wp-content/uploads/2022/10/317656532_593492869447639_4324504093198109496_n.jpg
END:VEVENT
BEGIN:VEVENT
DTSTART;TZID=Europe/Madrid:20230113T223000
DTEND;TZID=Europe/Madrid:20230113T223000
DTSTAMP:20260425T134847
CREATED:20221009T104344Z
LAST-MODIFIED:20221009T104344Z
UID:10006399-1673649000-1673649000@disfruta-denia.com
SUMMARY:Karaoké en A fer la Mar
DESCRIPTION:El viernes KARAOKE \, te atreves?? 🎤🎤 \nReserva tu mesa para las cenas 🇮🇹\nos esperamos! 🔥
URL:https://disfruta-denia.com/evento/karaoke-en-a-fer-la-mar/2023-01-13/
LOCATION:A fer la mar\, calle la mar\, nº 7\, Denia\, Alicante\, 03700\, España
CATEGORIES:Karaoké,Música
ATTACH;FMTTYPE=image/jpeg:https://disfruta-denia.com/wp-content/uploads/2022/10/309902935_847749016574718_387941431502313107_n.jpeg
END:VEVENT
BEGIN:VEVENT
DTSTART;TZID=Europe/Madrid:20230119T235500
DTEND;TZID=Europe/Madrid:20230119T235500
DTSTAMP:20260425T134847
CREATED:20221201T104209Z
LAST-MODIFIED:20221201T104209Z
UID:10007050-1674172500-1674172500@disfruta-denia.com
SUMMARY:Micro abierto en LCDA
DESCRIPTION:Es fácil: si quieres\, puedes cantar tu temazo favorito\, nuestros músicos tocarán para ti. ¡Hoy abrimos!
URL:https://disfruta-denia.com/evento/micro-abierto-en-lcda-4/2023-01-19/
LOCATION:La Chica de ayer\, Calle la mar 30\, Denia\, Alicante\, 03700\, España
CATEGORIES:Concierto,Karaoké,Música,Ocio nocturno
ATTACH;FMTTYPE=image/jpeg:https://disfruta-denia.com/wp-content/uploads/2022/10/317656532_593492869447639_4324504093198109496_n.jpg
END:VEVENT
BEGIN:VEVENT
DTSTART;TZID=Europe/Madrid:20230120T223000
DTEND;TZID=Europe/Madrid:20230120T223000
DTSTAMP:20260425T134847
CREATED:20221009T104344Z
LAST-MODIFIED:20221009T104344Z
UID:10006400-1674253800-1674253800@disfruta-denia.com
SUMMARY:Karaoké en A fer la Mar
DESCRIPTION:El viernes KARAOKE \, te atreves?? 🎤🎤 \nReserva tu mesa para las cenas 🇮🇹\nos esperamos! 🔥
URL:https://disfruta-denia.com/evento/karaoke-en-a-fer-la-mar/2023-01-20/
LOCATION:A fer la mar\, calle la mar\, nº 7\, Denia\, Alicante\, 03700\, España
CATEGORIES:Karaoké,Música
ATTACH;FMTTYPE=image/jpeg:https://disfruta-denia.com/wp-content/uploads/2022/10/309902935_847749016574718_387941431502313107_n.jpeg
END:VEVENT
BEGIN:VEVENT
DTSTART;TZID=Europe/Madrid:20230126T235500
DTEND;TZID=Europe/Madrid:20230126T235500
DTSTAMP:20260425T134847
CREATED:20221201T104209Z
LAST-MODIFIED:20221201T104209Z
UID:10007051-1674777300-1674777300@disfruta-denia.com
SUMMARY:Micro abierto en LCDA
DESCRIPTION:Es fácil: si quieres\, puedes cantar tu temazo favorito\, nuestros músicos tocarán para ti. ¡Hoy abrimos!
URL:https://disfruta-denia.com/evento/micro-abierto-en-lcda-4/2023-01-26/
LOCATION:La Chica de ayer\, Calle la mar 30\, Denia\, Alicante\, 03700\, España
CATEGORIES:Concierto,Karaoké,Música,Ocio nocturno
ATTACH;FMTTYPE=image/jpeg:https://disfruta-denia.com/wp-content/uploads/2022/10/317656532_593492869447639_4324504093198109496_n.jpg
END:VEVENT
BEGIN:VEVENT
DTSTART;TZID=Europe/Madrid:20230127T223000
DTEND;TZID=Europe/Madrid:20230127T223000
DTSTAMP:20260425T134847
CREATED:20221009T104344Z
LAST-MODIFIED:20221009T104344Z
UID:10006401-1674858600-1674858600@disfruta-denia.com
SUMMARY:Karaoké en A fer la Mar
DESCRIPTION:El viernes KARAOKE \, te atreves?? 🎤🎤 \nReserva tu mesa para las cenas 🇮🇹\nos esperamos! 🔥
URL:https://disfruta-denia.com/evento/karaoke-en-a-fer-la-mar/2023-01-27/
LOCATION:A fer la mar\, calle la mar\, nº 7\, Denia\, Alicante\, 03700\, España
CATEGORIES:Karaoké,Música
ATTACH;FMTTYPE=image/jpeg:https://disfruta-denia.com/wp-content/uploads/2022/10/309902935_847749016574718_387941431502313107_n.jpeg
END:VEVENT
END:VCALENDAR