BEGIN:VCALENDAR
VERSION:2.0
PRODID:-//Disfruta Denia - ECPv6.15.20//NONSGML v1.0//EN
CALSCALE:GREGORIAN
METHOD:PUBLISH
X-ORIGINAL-URL:https://disfruta-denia.com
X-WR-CALDESC:Eventos para Disfruta Denia
REFRESH-INTERVAL;VALUE=DURATION:PT1H
X-Robots-Tag:noindex
X-PUBLISHED-TTL:PT1H
BEGIN:VTIMEZONE
TZID:Europe/Madrid
BEGIN:DAYLIGHT
TZOFFSETFROM:+0100
TZOFFSETTO:+0200
TZNAME:CEST
DTSTART:20220327T010000
END:DAYLIGHT
BEGIN:STANDARD
TZOFFSETFROM:+0200
TZOFFSETTO:+0100
TZNAME:CET
DTSTART:20221030T010000
END:STANDARD
BEGIN:DAYLIGHT
TZOFFSETFROM:+0100
TZOFFSETTO:+0200
TZNAME:CEST
DTSTART:20230326T010000
END:DAYLIGHT
BEGIN:STANDARD
TZOFFSETFROM:+0200
TZOFFSETTO:+0100
TZNAME:CET
DTSTART:20231029T010000
END:STANDARD
BEGIN:DAYLIGHT
TZOFFSETFROM:+0100
TZOFFSETTO:+0200
TZNAME:CEST
DTSTART:20240331T010000
END:DAYLIGHT
BEGIN:STANDARD
TZOFFSETFROM:+0200
TZOFFSETTO:+0100
TZNAME:CET
DTSTART:20241027T010000
END:STANDARD
END:VTIMEZONE
BEGIN:VEVENT
DTSTART;TZID=Europe/Madrid:20230601T235500
DTEND;TZID=Europe/Madrid:20230601T235500
DTSTAMP:20260425T051258
CREATED:20221201T104209Z
LAST-MODIFIED:20221201T104209Z
UID:10007069-1685663700-1685663700@disfruta-denia.com
SUMMARY:Micro abierto en LCDA
DESCRIPTION:Es fácil: si quieres\, puedes cantar tu temazo favorito\, nuestros músicos tocarán para ti. ¡Hoy abrimos!
URL:https://disfruta-denia.com/evento/micro-abierto-en-lcda-4/2023-06-01/
LOCATION:La Chica de ayer\, Calle la mar 30\, Denia\, Alicante\, 03700\, España
CATEGORIES:Concierto,Karaoké,Música,Ocio nocturno
ATTACH;FMTTYPE=image/jpeg:https://disfruta-denia.com/wp-content/uploads/2022/10/317656532_593492869447639_4324504093198109496_n.jpg
END:VEVENT
BEGIN:VEVENT
DTSTART;TZID=Europe/Madrid:20230602T223000
DTEND;TZID=Europe/Madrid:20230602T223000
DTSTAMP:20260425T051258
CREATED:20221009T104344Z
LAST-MODIFIED:20221009T104344Z
UID:10006419-1685745000-1685745000@disfruta-denia.com
SUMMARY:Karaoké en A fer la Mar
DESCRIPTION:El viernes KARAOKE \, te atreves?? 🎤🎤 \nReserva tu mesa para las cenas 🇮🇹\nos esperamos! 🔥
URL:https://disfruta-denia.com/evento/karaoke-en-a-fer-la-mar/2023-06-02/
LOCATION:A fer la mar\, calle la mar\, nº 7\, Denia\, Alicante\, 03700\, España
CATEGORIES:Karaoké,Música
ATTACH;FMTTYPE=image/jpeg:https://disfruta-denia.com/wp-content/uploads/2022/10/309902935_847749016574718_387941431502313107_n.jpeg
END:VEVENT
BEGIN:VEVENT
DTSTART;TZID=Europe/Madrid:20230608T235500
DTEND;TZID=Europe/Madrid:20230608T235500
DTSTAMP:20260425T051258
CREATED:20230608T074128Z
LAST-MODIFIED:20230608T074129Z
UID:10007070-1686268500-1686268500@disfruta-denia.com
SUMMARY:Micro abierto en LCDA
DESCRIPTION:Es fácil: si quieres\, puedes cantar tu temazo favorito\, nuestros músicos tocarán para ti. ¡Hoy abrimos!
URL:https://disfruta-denia.com/evento/micro-abierto-en-lcda-4-3/
LOCATION:La Chica de ayer\, Calle la mar 30\, Denia\, Alicante\, 03700\, España
CATEGORIES:Concierto,Karaoké,Música,Ocio nocturno
ATTACH;FMTTYPE=image/png:https://disfruta-denia.com/wp-content/uploads/2022/12/Instagram.png
END:VEVENT
BEGIN:VEVENT
DTSTART;TZID=Europe/Madrid:20230609T223000
DTEND;TZID=Europe/Madrid:20230609T223000
DTSTAMP:20260425T051259
CREATED:20221009T104344Z
LAST-MODIFIED:20221009T104344Z
UID:10006420-1686349800-1686349800@disfruta-denia.com
SUMMARY:Karaoké en A fer la Mar
DESCRIPTION:El viernes KARAOKE \, te atreves?? 🎤🎤 \nReserva tu mesa para las cenas 🇮🇹\nos esperamos! 🔥
URL:https://disfruta-denia.com/evento/karaoke-en-a-fer-la-mar/2023-06-09/
LOCATION:A fer la mar\, calle la mar\, nº 7\, Denia\, Alicante\, 03700\, España
CATEGORIES:Karaoké,Música
ATTACH;FMTTYPE=image/jpeg:https://disfruta-denia.com/wp-content/uploads/2022/10/309902935_847749016574718_387941431502313107_n.jpeg
END:VEVENT
BEGIN:VEVENT
DTSTART;TZID=Europe/Madrid:20230615T235500
DTEND;TZID=Europe/Madrid:20230615T235500
DTSTAMP:20260425T051259
CREATED:20221201T104209Z
LAST-MODIFIED:20221201T104209Z
UID:10007071-1686873300-1686873300@disfruta-denia.com
SUMMARY:Micro abierto en LCDA
DESCRIPTION:Es fácil: si quieres\, puedes cantar tu temazo favorito\, nuestros músicos tocarán para ti. ¡Hoy abrimos!
URL:https://disfruta-denia.com/evento/micro-abierto-en-lcda-4/2023-06-15/
LOCATION:La Chica de ayer\, Calle la mar 30\, Denia\, Alicante\, 03700\, España
CATEGORIES:Concierto,Karaoké,Música,Ocio nocturno
ATTACH;FMTTYPE=image/jpeg:https://disfruta-denia.com/wp-content/uploads/2022/10/317656532_593492869447639_4324504093198109496_n.jpg
END:VEVENT
BEGIN:VEVENT
DTSTART;TZID=Europe/Madrid:20230616T223000
DTEND;TZID=Europe/Madrid:20230616T223000
DTSTAMP:20260425T051259
CREATED:20221009T104344Z
LAST-MODIFIED:20221009T104344Z
UID:10006421-1686954600-1686954600@disfruta-denia.com
SUMMARY:Karaoké en A fer la Mar
DESCRIPTION:El viernes KARAOKE \, te atreves?? 🎤🎤 \nReserva tu mesa para las cenas 🇮🇹\nos esperamos! 🔥
URL:https://disfruta-denia.com/evento/karaoke-en-a-fer-la-mar/2023-06-16/
LOCATION:A fer la mar\, calle la mar\, nº 7\, Denia\, Alicante\, 03700\, España
CATEGORIES:Karaoké,Música
ATTACH;FMTTYPE=image/jpeg:https://disfruta-denia.com/wp-content/uploads/2022/10/309902935_847749016574718_387941431502313107_n.jpeg
END:VEVENT
BEGIN:VEVENT
DTSTART;TZID=Europe/Madrid:20230622T190000
DTEND;TZID=Europe/Madrid:20230622T190000
DTSTAMP:20260425T051259
CREATED:20230620T074059Z
LAST-MODIFIED:20230620T074059Z
UID:10011660-1687460400-1687460400@disfruta-denia.com
SUMMARY:Karaoké en Rebeldía Blues
DESCRIPTION:
URL:https://disfruta-denia.com/evento/karaoke-en-rebeldia-blues/
LOCATION:Rebeldia Blues\, Carr. de Dénia A Xábia\, 3G\, Denia\, Alicante\, 03700\, España
CATEGORIES:Karaoké,Música,Tardeo
ATTACH;FMTTYPE=image/jpeg:https://disfruta-denia.com/wp-content/uploads/2023/06/355483082_216160684653708_7448579150620094494_n.jpg
END:VEVENT
BEGIN:VEVENT
DTSTART;TZID=Europe/Madrid:20230622T235500
DTEND;TZID=Europe/Madrid:20230622T235500
DTSTAMP:20260425T051259
CREATED:20221201T104209Z
LAST-MODIFIED:20221201T104209Z
UID:10007072-1687478100-1687478100@disfruta-denia.com
SUMMARY:Micro abierto en LCDA
DESCRIPTION:Es fácil: si quieres\, puedes cantar tu temazo favorito\, nuestros músicos tocarán para ti. ¡Hoy abrimos!
URL:https://disfruta-denia.com/evento/micro-abierto-en-lcda-4/2023-06-22/
LOCATION:La Chica de ayer\, Calle la mar 30\, Denia\, Alicante\, 03700\, España
CATEGORIES:Concierto,Karaoké,Música,Ocio nocturno
ATTACH;FMTTYPE=image/jpeg:https://disfruta-denia.com/wp-content/uploads/2022/10/317656532_593492869447639_4324504093198109496_n.jpg
END:VEVENT
BEGIN:VEVENT
DTSTART;TZID=Europe/Madrid:20230623T223000
DTEND;TZID=Europe/Madrid:20230623T223000
DTSTAMP:20260425T051259
CREATED:20221009T104344Z
LAST-MODIFIED:20221009T104344Z
UID:10006422-1687559400-1687559400@disfruta-denia.com
SUMMARY:Karaoké en A fer la Mar
DESCRIPTION:El viernes KARAOKE \, te atreves?? 🎤🎤 \nReserva tu mesa para las cenas 🇮🇹\nos esperamos! 🔥
URL:https://disfruta-denia.com/evento/karaoke-en-a-fer-la-mar/2023-06-23/
LOCATION:A fer la mar\, calle la mar\, nº 7\, Denia\, Alicante\, 03700\, España
CATEGORIES:Karaoké,Música
ATTACH;FMTTYPE=image/jpeg:https://disfruta-denia.com/wp-content/uploads/2022/10/309902935_847749016574718_387941431502313107_n.jpeg
END:VEVENT
BEGIN:VEVENT
DTSTART;TZID=Europe/Madrid:20230629T235500
DTEND;TZID=Europe/Madrid:20230629T235500
DTSTAMP:20260425T051259
CREATED:20221201T104209Z
LAST-MODIFIED:20221201T104209Z
UID:10007073-1688082900-1688082900@disfruta-denia.com
SUMMARY:Micro abierto en LCDA
DESCRIPTION:Es fácil: si quieres\, puedes cantar tu temazo favorito\, nuestros músicos tocarán para ti. ¡Hoy abrimos!
URL:https://disfruta-denia.com/evento/micro-abierto-en-lcda-4/2023-06-29/
LOCATION:La Chica de ayer\, Calle la mar 30\, Denia\, Alicante\, 03700\, España
CATEGORIES:Concierto,Karaoké,Música,Ocio nocturno
ATTACH;FMTTYPE=image/jpeg:https://disfruta-denia.com/wp-content/uploads/2022/10/317656532_593492869447639_4324504093198109496_n.jpg
END:VEVENT
BEGIN:VEVENT
DTSTART;TZID=Europe/Madrid:20230630T223000
DTEND;TZID=Europe/Madrid:20230630T223000
DTSTAMP:20260425T051259
CREATED:20221009T104344Z
LAST-MODIFIED:20221009T104344Z
UID:10006423-1688164200-1688164200@disfruta-denia.com
SUMMARY:Karaoké en A fer la Mar
DESCRIPTION:El viernes KARAOKE \, te atreves?? 🎤🎤 \nReserva tu mesa para las cenas 🇮🇹\nos esperamos! 🔥
URL:https://disfruta-denia.com/evento/karaoke-en-a-fer-la-mar/2023-06-30/
LOCATION:A fer la mar\, calle la mar\, nº 7\, Denia\, Alicante\, 03700\, España
CATEGORIES:Karaoké,Música
ATTACH;FMTTYPE=image/jpeg:https://disfruta-denia.com/wp-content/uploads/2022/10/309902935_847749016574718_387941431502313107_n.jpeg
END:VEVENT
END:VCALENDAR