BEGIN:VCALENDAR
VERSION:2.0
PRODID:-//Disfruta Denia - ECPv6.15.20//NONSGML v1.0//EN
CALSCALE:GREGORIAN
METHOD:PUBLISH
X-ORIGINAL-URL:https://disfruta-denia.com
X-WR-CALDESC:Eventos para Disfruta Denia
REFRESH-INTERVAL;VALUE=DURATION:PT1H
X-Robots-Tag:noindex
X-PUBLISHED-TTL:PT1H
BEGIN:VTIMEZONE
TZID:Europe/Madrid
BEGIN:DAYLIGHT
TZOFFSETFROM:+0100
TZOFFSETTO:+0200
TZNAME:CEST
DTSTART:20220327T010000
END:DAYLIGHT
BEGIN:STANDARD
TZOFFSETFROM:+0200
TZOFFSETTO:+0100
TZNAME:CET
DTSTART:20221030T010000
END:STANDARD
BEGIN:DAYLIGHT
TZOFFSETFROM:+0100
TZOFFSETTO:+0200
TZNAME:CEST
DTSTART:20230326T010000
END:DAYLIGHT
BEGIN:STANDARD
TZOFFSETFROM:+0200
TZOFFSETTO:+0100
TZNAME:CET
DTSTART:20231029T010000
END:STANDARD
BEGIN:DAYLIGHT
TZOFFSETFROM:+0100
TZOFFSETTO:+0200
TZNAME:CEST
DTSTART:20240331T010000
END:DAYLIGHT
BEGIN:STANDARD
TZOFFSETFROM:+0200
TZOFFSETTO:+0100
TZNAME:CET
DTSTART:20241027T010000
END:STANDARD
END:VTIMEZONE
BEGIN:VEVENT
DTSTART;TZID=Europe/Madrid:20230803T235500
DTEND;TZID=Europe/Madrid:20230803T235500
DTSTAMP:20260425T032840
CREATED:20230803T091021Z
LAST-MODIFIED:20230803T091021Z
UID:10007078-1691106900-1691106900@disfruta-denia.com
SUMMARY:Micro abierto en LCDA
DESCRIPTION:Es fácil: si quieres\, puedes cantar tu temazo favorito\, nuestros músicos tocarán para ti. ¡Hoy abrimos!
URL:https://disfruta-denia.com/evento/micro-abierto-en-lcda-4-4/2023-08-03/
LOCATION:La Chica de ayer\, Calle la mar 30\, Denia\, Alicante\, 03700\, España
CATEGORIES:Concierto,Karaoké,Música,Ocio nocturno
ATTACH;FMTTYPE=image/jpeg:https://disfruta-denia.com/wp-content/uploads/2022/12/365121940_635527048556233_2653514221313122054_n.jpg
END:VEVENT
BEGIN:VEVENT
DTSTART;TZID=Europe/Madrid:20230804T223000
DTEND;TZID=Europe/Madrid:20230804T223000
DTSTAMP:20260425T032840
CREATED:20221009T104344Z
LAST-MODIFIED:20221009T104344Z
UID:10006428-1691188200-1691188200@disfruta-denia.com
SUMMARY:Karaoké en A fer la Mar
DESCRIPTION:El viernes KARAOKE \, te atreves?? 🎤🎤 \nReserva tu mesa para las cenas 🇮🇹\nos esperamos! 🔥
URL:https://disfruta-denia.com/evento/karaoke-en-a-fer-la-mar/2023-08-04/
LOCATION:A fer la mar\, calle la mar\, nº 7\, Denia\, Alicante\, 03700\, España
CATEGORIES:Karaoké,Música
ATTACH;FMTTYPE=image/jpeg:https://disfruta-denia.com/wp-content/uploads/2022/10/309902935_847749016574718_387941431502313107_n.jpeg
END:VEVENT
BEGIN:VEVENT
DTSTART;TZID=Europe/Madrid:20230810T235500
DTEND;TZID=Europe/Madrid:20230810T235500
DTSTAMP:20260425T032840
CREATED:20230803T091021Z
LAST-MODIFIED:20230803T091021Z
UID:10007079-1691711700-1691711700@disfruta-denia.com
SUMMARY:Micro abierto en LCDA
DESCRIPTION:Es fácil: si quieres\, puedes cantar tu temazo favorito\, nuestros músicos tocarán para ti. ¡Hoy abrimos!
URL:https://disfruta-denia.com/evento/micro-abierto-en-lcda-4-4/2023-08-10/
LOCATION:La Chica de ayer\, Calle la mar 30\, Denia\, Alicante\, 03700\, España
CATEGORIES:Concierto,Karaoké,Música,Ocio nocturno
ATTACH;FMTTYPE=image/jpeg:https://disfruta-denia.com/wp-content/uploads/2022/12/365121940_635527048556233_2653514221313122054_n.jpg
END:VEVENT
BEGIN:VEVENT
DTSTART;TZID=Europe/Madrid:20230811T223000
DTEND;TZID=Europe/Madrid:20230811T223000
DTSTAMP:20260425T032840
CREATED:20221009T104344Z
LAST-MODIFIED:20221009T104344Z
UID:10006429-1691793000-1691793000@disfruta-denia.com
SUMMARY:Karaoké en A fer la Mar
DESCRIPTION:El viernes KARAOKE \, te atreves?? 🎤🎤 \nReserva tu mesa para las cenas 🇮🇹\nos esperamos! 🔥
URL:https://disfruta-denia.com/evento/karaoke-en-a-fer-la-mar/2023-08-11/
LOCATION:A fer la mar\, calle la mar\, nº 7\, Denia\, Alicante\, 03700\, España
CATEGORIES:Karaoké,Música
ATTACH;FMTTYPE=image/jpeg:https://disfruta-denia.com/wp-content/uploads/2022/10/309902935_847749016574718_387941431502313107_n.jpeg
END:VEVENT
BEGIN:VEVENT
DTSTART;TZID=Europe/Madrid:20230817T235500
DTEND;TZID=Europe/Madrid:20230817T235500
DTSTAMP:20260425T032840
CREATED:20230803T091021Z
LAST-MODIFIED:20230803T091021Z
UID:10007080-1692316500-1692316500@disfruta-denia.com
SUMMARY:Micro abierto en LCDA
DESCRIPTION:Es fácil: si quieres\, puedes cantar tu temazo favorito\, nuestros músicos tocarán para ti. ¡Hoy abrimos!
URL:https://disfruta-denia.com/evento/micro-abierto-en-lcda-4-4/2023-08-17/
LOCATION:La Chica de ayer\, Calle la mar 30\, Denia\, Alicante\, 03700\, España
CATEGORIES:Concierto,Karaoké,Música,Ocio nocturno
ATTACH;FMTTYPE=image/jpeg:https://disfruta-denia.com/wp-content/uploads/2022/12/365121940_635527048556233_2653514221313122054_n.jpg
END:VEVENT
BEGIN:VEVENT
DTSTART;TZID=Europe/Madrid:20230818T223000
DTEND;TZID=Europe/Madrid:20230818T223000
DTSTAMP:20260425T032840
CREATED:20221009T104344Z
LAST-MODIFIED:20221009T104344Z
UID:10006430-1692397800-1692397800@disfruta-denia.com
SUMMARY:Karaoké en A fer la Mar
DESCRIPTION:El viernes KARAOKE \, te atreves?? 🎤🎤 \nReserva tu mesa para las cenas 🇮🇹\nos esperamos! 🔥
URL:https://disfruta-denia.com/evento/karaoke-en-a-fer-la-mar/2023-08-18/
LOCATION:A fer la mar\, calle la mar\, nº 7\, Denia\, Alicante\, 03700\, España
CATEGORIES:Karaoké,Música
ATTACH;FMTTYPE=image/jpeg:https://disfruta-denia.com/wp-content/uploads/2022/10/309902935_847749016574718_387941431502313107_n.jpeg
END:VEVENT
BEGIN:VEVENT
DTSTART;TZID=Europe/Madrid:20230824T213000
DTEND;TZID=Europe/Madrid:20230824T213000
DTSTAMP:20260425T032840
CREATED:20230823T171902Z
LAST-MODIFIED:20230823T171902Z
UID:10013032-1692912600-1692912600@disfruta-denia.com
SUMMARY:Karaoké en Rebeldía Blues
DESCRIPTION:Karaoké en Rebeldía Blues
URL:https://disfruta-denia.com/evento/karaoke-en-rebeldia-blues-2/
LOCATION:Rebeldia Blues\, Carr. de Dénia A Xábia\, 3G\, Denia\, Alicante\, 03700\, España
CATEGORIES:Karaoké,Música,Ocio nocturno
ATTACH;FMTTYPE=image/jpeg:https://disfruta-denia.com/wp-content/uploads/2023/08/369630264_252517061018070_1328293851873404234_n-1.jpg
END:VEVENT
BEGIN:VEVENT
DTSTART;TZID=Europe/Madrid:20230824T235500
DTEND;TZID=Europe/Madrid:20230824T235500
DTSTAMP:20260425T032840
CREATED:20230803T091021Z
LAST-MODIFIED:20230803T091021Z
UID:10007081-1692921300-1692921300@disfruta-denia.com
SUMMARY:Micro abierto en LCDA
DESCRIPTION:Es fácil: si quieres\, puedes cantar tu temazo favorito\, nuestros músicos tocarán para ti. ¡Hoy abrimos!
URL:https://disfruta-denia.com/evento/micro-abierto-en-lcda-4-4/2023-08-24/
LOCATION:La Chica de ayer\, Calle la mar 30\, Denia\, Alicante\, 03700\, España
CATEGORIES:Concierto,Karaoké,Música,Ocio nocturno
ATTACH;FMTTYPE=image/jpeg:https://disfruta-denia.com/wp-content/uploads/2022/12/365121940_635527048556233_2653514221313122054_n.jpg
END:VEVENT
BEGIN:VEVENT
DTSTART;TZID=Europe/Madrid:20230825T223000
DTEND;TZID=Europe/Madrid:20230825T223000
DTSTAMP:20260425T032840
CREATED:20221009T104344Z
LAST-MODIFIED:20221009T104344Z
UID:10006431-1693002600-1693002600@disfruta-denia.com
SUMMARY:Karaoké en A fer la Mar
DESCRIPTION:El viernes KARAOKE \, te atreves?? 🎤🎤 \nReserva tu mesa para las cenas 🇮🇹\nos esperamos! 🔥
URL:https://disfruta-denia.com/evento/karaoke-en-a-fer-la-mar/2023-08-25/
LOCATION:A fer la mar\, calle la mar\, nº 7\, Denia\, Alicante\, 03700\, España
CATEGORIES:Karaoké,Música
ATTACH;FMTTYPE=image/jpeg:https://disfruta-denia.com/wp-content/uploads/2022/10/309902935_847749016574718_387941431502313107_n.jpeg
END:VEVENT
BEGIN:VEVENT
DTSTART;TZID=Europe/Madrid:20230831T213000
DTEND;TZID=Europe/Madrid:20230831T213000
DTSTAMP:20260425T032840
CREATED:20230830T152122Z
LAST-MODIFIED:20230830T152122Z
UID:10013058-1693517400-1693517400@disfruta-denia.com
SUMMARY:Karaoké en Rebeldía Blues
DESCRIPTION:Karaoké en Rebeldía Blues
URL:https://disfruta-denia.com/evento/karaoke-en-rebeldia-blues-3/2023-08-31/
LOCATION:Rebeldia Blues\, Carr. de Dénia A Xábia\, 3G\, Denia\, Alicante\, 03700\, España
CATEGORIES:Karaoké,Música,Ocio nocturno
ATTACH;FMTTYPE=image/jpeg:https://disfruta-denia.com/wp-content/uploads/2023/08/370939781_255571704045939_5617064814664538631_n.jpg
END:VEVENT
END:VCALENDAR