BEGIN:VCALENDAR
VERSION:2.0
PRODID:-//Disfruta Denia - ECPv6.15.20//NONSGML v1.0//EN
CALSCALE:GREGORIAN
METHOD:PUBLISH
X-ORIGINAL-URL:https://disfruta-denia.com
X-WR-CALDESC:Eventos para Disfruta Denia
REFRESH-INTERVAL;VALUE=DURATION:PT1H
X-Robots-Tag:noindex
X-PUBLISHED-TTL:PT1H
BEGIN:VTIMEZONE
TZID:Europe/Madrid
BEGIN:DAYLIGHT
TZOFFSETFROM:+0100
TZOFFSETTO:+0200
TZNAME:CEST
DTSTART:20220327T010000
END:DAYLIGHT
BEGIN:STANDARD
TZOFFSETFROM:+0200
TZOFFSETTO:+0100
TZNAME:CET
DTSTART:20221030T010000
END:STANDARD
BEGIN:DAYLIGHT
TZOFFSETFROM:+0100
TZOFFSETTO:+0200
TZNAME:CEST
DTSTART:20230326T010000
END:DAYLIGHT
BEGIN:STANDARD
TZOFFSETFROM:+0200
TZOFFSETTO:+0100
TZNAME:CET
DTSTART:20231029T010000
END:STANDARD
BEGIN:DAYLIGHT
TZOFFSETFROM:+0100
TZOFFSETTO:+0200
TZNAME:CEST
DTSTART:20240331T010000
END:DAYLIGHT
BEGIN:STANDARD
TZOFFSETFROM:+0200
TZOFFSETTO:+0100
TZNAME:CET
DTSTART:20241027T010000
END:STANDARD
END:VTIMEZONE
BEGIN:VEVENT
DTSTART;TZID=Europe/Madrid:20231006T223000
DTEND;TZID=Europe/Madrid:20231006T223000
DTSTAMP:20260424T213847
CREATED:20221009T104344Z
LAST-MODIFIED:20221009T104344Z
UID:10006437-1696631400-1696631400@disfruta-denia.com
SUMMARY:Karaoké en A fer la Mar
DESCRIPTION:El viernes KARAOKE \, te atreves?? 🎤🎤 \nReserva tu mesa para las cenas 🇮🇹\nos esperamos! 🔥
URL:https://disfruta-denia.com/evento/karaoke-en-a-fer-la-mar/2023-10-06/
LOCATION:A fer la mar\, calle la mar\, nº 7\, Denia\, Alicante\, 03700\, España
CATEGORIES:Karaoké,Música
ATTACH;FMTTYPE=image/jpeg:https://disfruta-denia.com/wp-content/uploads/2022/10/309902935_847749016574718_387941431502313107_n.jpeg
END:VEVENT
BEGIN:VEVENT
DTSTART;TZID=Europe/Madrid:20231011T200000
DTEND;TZID=Europe/Madrid:20231011T200000
DTSTAMP:20260424T213847
CREATED:20231011T071244Z
LAST-MODIFIED:20231011T071244Z
UID:10014645-1697054400-1697054400@disfruta-denia.com
SUMMARY:Karaoke night party
DESCRIPTION:Karaoke night party
URL:https://disfruta-denia.com/evento/karaoke-night-party/2023-10-11/
LOCATION:The Speak Denia\, Carrer del Pont\, 19\, Denia\, Alicante\, 03700\, España
CATEGORIES:Karaoké,Música,Ocio nocturno
ATTACH;FMTTYPE=image/jpeg:https://disfruta-denia.com/wp-content/uploads/2023/10/2724257e-57f4-488c-a9bb-c0bdd5475a31.jpeg
END:VEVENT
BEGIN:VEVENT
DTSTART;TZID=Europe/Madrid:20231013T223000
DTEND;TZID=Europe/Madrid:20231013T223000
DTSTAMP:20260424T213847
CREATED:20221009T104344Z
LAST-MODIFIED:20221009T104344Z
UID:10006438-1697236200-1697236200@disfruta-denia.com
SUMMARY:Karaoké en A fer la Mar
DESCRIPTION:El viernes KARAOKE \, te atreves?? 🎤🎤 \nReserva tu mesa para las cenas 🇮🇹\nos esperamos! 🔥
URL:https://disfruta-denia.com/evento/karaoke-en-a-fer-la-mar/2023-10-13/
LOCATION:A fer la mar\, calle la mar\, nº 7\, Denia\, Alicante\, 03700\, España
CATEGORIES:Karaoké,Música
ATTACH;FMTTYPE=image/jpeg:https://disfruta-denia.com/wp-content/uploads/2022/10/309902935_847749016574718_387941431502313107_n.jpeg
END:VEVENT
BEGIN:VEVENT
DTSTART;TZID=Europe/Madrid:20231018T200000
DTEND;TZID=Europe/Madrid:20231018T200000
DTSTAMP:20260424T213847
CREATED:20231011T071244Z
LAST-MODIFIED:20231011T071244Z
UID:10014646-1697659200-1697659200@disfruta-denia.com
SUMMARY:Karaoke night party
DESCRIPTION:Karaoke night party
URL:https://disfruta-denia.com/evento/karaoke-night-party/2023-10-18/
LOCATION:The Speak Denia\, Carrer del Pont\, 19\, Denia\, Alicante\, 03700\, España
CATEGORIES:Karaoké,Música,Ocio nocturno
ATTACH;FMTTYPE=image/jpeg:https://disfruta-denia.com/wp-content/uploads/2023/10/2724257e-57f4-488c-a9bb-c0bdd5475a31.jpeg
END:VEVENT
BEGIN:VEVENT
DTSTART;TZID=Europe/Madrid:20231020T223000
DTEND;TZID=Europe/Madrid:20231020T223000
DTSTAMP:20260424T213847
CREATED:20221009T104344Z
LAST-MODIFIED:20221009T104344Z
UID:10006439-1697841000-1697841000@disfruta-denia.com
SUMMARY:Karaoké en A fer la Mar
DESCRIPTION:El viernes KARAOKE \, te atreves?? 🎤🎤 \nReserva tu mesa para las cenas 🇮🇹\nos esperamos! 🔥
URL:https://disfruta-denia.com/evento/karaoke-en-a-fer-la-mar/2023-10-20/
LOCATION:A fer la mar\, calle la mar\, nº 7\, Denia\, Alicante\, 03700\, España
CATEGORIES:Karaoké,Música
ATTACH;FMTTYPE=image/jpeg:https://disfruta-denia.com/wp-content/uploads/2022/10/309902935_847749016574718_387941431502313107_n.jpeg
END:VEVENT
BEGIN:VEVENT
DTSTART;TZID=Europe/Madrid:20231025T200000
DTEND;TZID=Europe/Madrid:20231025T200000
DTSTAMP:20260424T213847
CREATED:20231011T071244Z
LAST-MODIFIED:20231011T071244Z
UID:10014647-1698264000-1698264000@disfruta-denia.com
SUMMARY:Karaoke night party
DESCRIPTION:Karaoke night party
URL:https://disfruta-denia.com/evento/karaoke-night-party/2023-10-25/
LOCATION:The Speak Denia\, Carrer del Pont\, 19\, Denia\, Alicante\, 03700\, España
CATEGORIES:Karaoké,Música,Ocio nocturno
ATTACH;FMTTYPE=image/jpeg:https://disfruta-denia.com/wp-content/uploads/2023/10/2724257e-57f4-488c-a9bb-c0bdd5475a31.jpeg
END:VEVENT
BEGIN:VEVENT
DTSTART;TZID=Europe/Madrid:20231027T223000
DTEND;TZID=Europe/Madrid:20231027T223000
DTSTAMP:20260424T213847
CREATED:20221009T104344Z
LAST-MODIFIED:20221009T104344Z
UID:10006440-1698445800-1698445800@disfruta-denia.com
SUMMARY:Karaoké en A fer la Mar
DESCRIPTION:El viernes KARAOKE \, te atreves?? 🎤🎤 \nReserva tu mesa para las cenas 🇮🇹\nos esperamos! 🔥
URL:https://disfruta-denia.com/evento/karaoke-en-a-fer-la-mar/2023-10-27/
LOCATION:A fer la mar\, calle la mar\, nº 7\, Denia\, Alicante\, 03700\, España
CATEGORIES:Karaoké,Música
ATTACH;FMTTYPE=image/jpeg:https://disfruta-denia.com/wp-content/uploads/2022/10/309902935_847749016574718_387941431502313107_n.jpeg
END:VEVENT
BEGIN:VEVENT
DTSTART;TZID=Europe/Madrid:20231030T200000
DTEND;TZID=Europe/Madrid:20231030T200000
DTSTAMP:20260424T213847
CREATED:20230925T075857Z
LAST-MODIFIED:20230925T075857Z
UID:10013715-1698696000-1698696000@disfruta-denia.com
SUMMARY:Fancy dress Halloween party
DESCRIPTION:Join us for a spooky Halloween karaoke party\, fancy dress optional\, prize for best dressed .
URL:https://disfruta-denia.com/evento/fancy-dress-halloween-party/
LOCATION:La Salsa Denia\, Pasaje Paris 2\, Puerta 30\, Dénia\, 03700\, España
CATEGORIES:Karaoké,Música
ATTACH;FMTTYPE=image/jpeg:https://disfruta-denia.com/wp-content/uploads/2023/09/382743165_289712440666638_5960650526978865361_n.jpg
END:VEVENT
END:VCALENDAR