BEGIN:VCALENDAR
VERSION:2.0
PRODID:-//Disfruta Denia - ECPv6.15.20//NONSGML v1.0//EN
CALSCALE:GREGORIAN
METHOD:PUBLISH
X-WR-CALNAME:Disfruta Denia
X-ORIGINAL-URL:https://disfruta-denia.com
X-WR-CALDESC:Eventos para Disfruta Denia
REFRESH-INTERVAL;VALUE=DURATION:PT1H
X-Robots-Tag:noindex
X-PUBLISHED-TTL:PT1H
BEGIN:VTIMEZONE
TZID:Europe/Madrid
BEGIN:DAYLIGHT
TZOFFSETFROM:+0100
TZOFFSETTO:+0200
TZNAME:CEST
DTSTART:20220327T010000
END:DAYLIGHT
BEGIN:STANDARD
TZOFFSETFROM:+0200
TZOFFSETTO:+0100
TZNAME:CET
DTSTART:20221030T010000
END:STANDARD
BEGIN:DAYLIGHT
TZOFFSETFROM:+0100
TZOFFSETTO:+0200
TZNAME:CEST
DTSTART:20230326T010000
END:DAYLIGHT
BEGIN:STANDARD
TZOFFSETFROM:+0200
TZOFFSETTO:+0100
TZNAME:CET
DTSTART:20231029T010000
END:STANDARD
BEGIN:DAYLIGHT
TZOFFSETFROM:+0100
TZOFFSETTO:+0200
TZNAME:CEST
DTSTART:20240331T010000
END:DAYLIGHT
BEGIN:STANDARD
TZOFFSETFROM:+0200
TZOFFSETTO:+0100
TZNAME:CET
DTSTART:20241027T010000
END:STANDARD
END:VTIMEZONE
BEGIN:VEVENT
DTSTART;TZID=Europe/Madrid:20231101T200000
DTEND;TZID=Europe/Madrid:20231101T200000
DTSTAMP:20260424T195830
CREATED:20231011T071244Z
LAST-MODIFIED:20231011T071244Z
UID:10014648-1698868800-1698868800@disfruta-denia.com
SUMMARY:Karaoke night party
DESCRIPTION:Karaoke night party
URL:https://disfruta-denia.com/evento/karaoke-night-party/2023-11-01/
LOCATION:The Speak Denia\, Carrer del Pont\, 19\, Denia\, Alicante\, 03700\, España
CATEGORIES:Karaoké,Música,Ocio nocturno
ATTACH;FMTTYPE=image/jpeg:https://disfruta-denia.com/wp-content/uploads/2023/10/2724257e-57f4-488c-a9bb-c0bdd5475a31.jpeg
END:VEVENT
BEGIN:VEVENT
DTSTART;TZID=Europe/Madrid:20231103T223000
DTEND;TZID=Europe/Madrid:20231103T223000
DTSTAMP:20260424T195830
CREATED:20221009T104344Z
LAST-MODIFIED:20221009T104344Z
UID:10006441-1699050600-1699050600@disfruta-denia.com
SUMMARY:Karaoké en A fer la Mar
DESCRIPTION:El viernes KARAOKE \, te atreves?? 🎤🎤 \nReserva tu mesa para las cenas 🇮🇹\nos esperamos! 🔥
URL:https://disfruta-denia.com/evento/karaoke-en-a-fer-la-mar/2023-11-03/
LOCATION:A fer la mar\, calle la mar\, nº 7\, Denia\, Alicante\, 03700\, España
CATEGORIES:Karaoké,Música
ATTACH;FMTTYPE=image/jpeg:https://disfruta-denia.com/wp-content/uploads/2022/10/309902935_847749016574718_387941431502313107_n.jpeg
END:VEVENT
BEGIN:VEVENT
DTSTART;TZID=Europe/Madrid:20231108T200000
DTEND;TZID=Europe/Madrid:20231108T200000
DTSTAMP:20260424T195830
CREATED:20231011T071244Z
LAST-MODIFIED:20231011T071244Z
UID:10014649-1699473600-1699473600@disfruta-denia.com
SUMMARY:Karaoke night party
DESCRIPTION:Karaoke night party
URL:https://disfruta-denia.com/evento/karaoke-night-party/2023-11-08/
LOCATION:The Speak Denia\, Carrer del Pont\, 19\, Denia\, Alicante\, 03700\, España
CATEGORIES:Karaoké,Música,Ocio nocturno
ATTACH;FMTTYPE=image/jpeg:https://disfruta-denia.com/wp-content/uploads/2023/10/2724257e-57f4-488c-a9bb-c0bdd5475a31.jpeg
END:VEVENT
BEGIN:VEVENT
DTSTART;TZID=Europe/Madrid:20231110T223000
DTEND;TZID=Europe/Madrid:20231110T223000
DTSTAMP:20260424T195830
CREATED:20221009T104344Z
LAST-MODIFIED:20221009T104344Z
UID:10006442-1699655400-1699655400@disfruta-denia.com
SUMMARY:Karaoké en A fer la Mar
DESCRIPTION:El viernes KARAOKE \, te atreves?? 🎤🎤 \nReserva tu mesa para las cenas 🇮🇹\nos esperamos! 🔥
URL:https://disfruta-denia.com/evento/karaoke-en-a-fer-la-mar/2023-11-10/
LOCATION:A fer la mar\, calle la mar\, nº 7\, Denia\, Alicante\, 03700\, España
CATEGORIES:Karaoké,Música
ATTACH;FMTTYPE=image/jpeg:https://disfruta-denia.com/wp-content/uploads/2022/10/309902935_847749016574718_387941431502313107_n.jpeg
END:VEVENT
BEGIN:VEVENT
DTSTART;TZID=Europe/Madrid:20231115T200000
DTEND;TZID=Europe/Madrid:20231115T200000
DTSTAMP:20260424T195830
CREATED:20231011T071244Z
LAST-MODIFIED:20231011T071244Z
UID:10014650-1700078400-1700078400@disfruta-denia.com
SUMMARY:Karaoke night party
DESCRIPTION:Karaoke night party
URL:https://disfruta-denia.com/evento/karaoke-night-party/2023-11-15/
LOCATION:The Speak Denia\, Carrer del Pont\, 19\, Denia\, Alicante\, 03700\, España
CATEGORIES:Karaoké,Música,Ocio nocturno
ATTACH;FMTTYPE=image/jpeg:https://disfruta-denia.com/wp-content/uploads/2023/10/2724257e-57f4-488c-a9bb-c0bdd5475a31.jpeg
END:VEVENT
BEGIN:VEVENT
DTSTART;TZID=Europe/Madrid:20231117T223000
DTEND;TZID=Europe/Madrid:20231117T223000
DTSTAMP:20260424T195830
CREATED:20221009T104344Z
LAST-MODIFIED:20221009T104344Z
UID:10006443-1700260200-1700260200@disfruta-denia.com
SUMMARY:Karaoké en A fer la Mar
DESCRIPTION:El viernes KARAOKE \, te atreves?? 🎤🎤 \nReserva tu mesa para las cenas 🇮🇹\nos esperamos! 🔥
URL:https://disfruta-denia.com/evento/karaoke-en-a-fer-la-mar/2023-11-17/
LOCATION:A fer la mar\, calle la mar\, nº 7\, Denia\, Alicante\, 03700\, España
CATEGORIES:Karaoké,Música
ATTACH;FMTTYPE=image/jpeg:https://disfruta-denia.com/wp-content/uploads/2022/10/309902935_847749016574718_387941431502313107_n.jpeg
END:VEVENT
BEGIN:VEVENT
DTSTART;TZID=Europe/Madrid:20231122T200000
DTEND;TZID=Europe/Madrid:20231122T200000
DTSTAMP:20260424T195830
CREATED:20231011T071244Z
LAST-MODIFIED:20231011T071244Z
UID:10014651-1700683200-1700683200@disfruta-denia.com
SUMMARY:Karaoke night party
DESCRIPTION:Karaoke night party
URL:https://disfruta-denia.com/evento/karaoke-night-party/2023-11-22/
LOCATION:The Speak Denia\, Carrer del Pont\, 19\, Denia\, Alicante\, 03700\, España
CATEGORIES:Karaoké,Música,Ocio nocturno
ATTACH;FMTTYPE=image/jpeg:https://disfruta-denia.com/wp-content/uploads/2023/10/2724257e-57f4-488c-a9bb-c0bdd5475a31.jpeg
END:VEVENT
BEGIN:VEVENT
DTSTART;TZID=Europe/Madrid:20231124T223000
DTEND;TZID=Europe/Madrid:20231124T223000
DTSTAMP:20260424T195830
CREATED:20221009T104344Z
LAST-MODIFIED:20221009T104344Z
UID:10006444-1700865000-1700865000@disfruta-denia.com
SUMMARY:Karaoké en A fer la Mar
DESCRIPTION:El viernes KARAOKE \, te atreves?? 🎤🎤 \nReserva tu mesa para las cenas 🇮🇹\nos esperamos! 🔥
URL:https://disfruta-denia.com/evento/karaoke-en-a-fer-la-mar/2023-11-24/
LOCATION:A fer la mar\, calle la mar\, nº 7\, Denia\, Alicante\, 03700\, España
CATEGORIES:Karaoké,Música
ATTACH;FMTTYPE=image/jpeg:https://disfruta-denia.com/wp-content/uploads/2022/10/309902935_847749016574718_387941431502313107_n.jpeg
END:VEVENT
BEGIN:VEVENT
DTSTART;TZID=Europe/Madrid:20231129T200000
DTEND;TZID=Europe/Madrid:20231129T200000
DTSTAMP:20260424T195830
CREATED:20231011T071244Z
LAST-MODIFIED:20231011T071244Z
UID:10014652-1701288000-1701288000@disfruta-denia.com
SUMMARY:Karaoke night party
DESCRIPTION:Karaoke night party
URL:https://disfruta-denia.com/evento/karaoke-night-party/2023-11-29/
LOCATION:The Speak Denia\, Carrer del Pont\, 19\, Denia\, Alicante\, 03700\, España
CATEGORIES:Karaoké,Música,Ocio nocturno
ATTACH;FMTTYPE=image/jpeg:https://disfruta-denia.com/wp-content/uploads/2023/10/2724257e-57f4-488c-a9bb-c0bdd5475a31.jpeg
END:VEVENT
END:VCALENDAR