BEGIN:VCALENDAR
VERSION:2.0
PRODID:-//Disfruta Denia - ECPv6.15.20//NONSGML v1.0//EN
CALSCALE:GREGORIAN
METHOD:PUBLISH
X-WR-CALNAME:Disfruta Denia
X-ORIGINAL-URL:https://disfruta-denia.com
X-WR-CALDESC:Eventos para Disfruta Denia
REFRESH-INTERVAL;VALUE=DURATION:PT1H
X-Robots-Tag:noindex
X-PUBLISHED-TTL:PT1H
BEGIN:VTIMEZONE
TZID:Europe/Madrid
BEGIN:DAYLIGHT
TZOFFSETFROM:+0100
TZOFFSETTO:+0200
TZNAME:CEST
DTSTART:20220327T010000
END:DAYLIGHT
BEGIN:STANDARD
TZOFFSETFROM:+0200
TZOFFSETTO:+0100
TZNAME:CET
DTSTART:20221030T010000
END:STANDARD
BEGIN:DAYLIGHT
TZOFFSETFROM:+0100
TZOFFSETTO:+0200
TZNAME:CEST
DTSTART:20230326T010000
END:DAYLIGHT
BEGIN:STANDARD
TZOFFSETFROM:+0200
TZOFFSETTO:+0100
TZNAME:CET
DTSTART:20231029T010000
END:STANDARD
BEGIN:DAYLIGHT
TZOFFSETFROM:+0100
TZOFFSETTO:+0200
TZNAME:CEST
DTSTART:20240331T010000
END:DAYLIGHT
BEGIN:STANDARD
TZOFFSETFROM:+0200
TZOFFSETTO:+0100
TZNAME:CET
DTSTART:20241027T010000
END:STANDARD
END:VTIMEZONE
BEGIN:VEVENT
DTSTART;TZID=Europe/Madrid:20231201T223000
DTEND;TZID=Europe/Madrid:20231201T223000
DTSTAMP:20260424T181947
CREATED:20221009T104344Z
LAST-MODIFIED:20221009T104344Z
UID:10006445-1701469800-1701469800@disfruta-denia.com
SUMMARY:Karaoké en A fer la Mar
DESCRIPTION:El viernes KARAOKE \, te atreves?? 🎤🎤 \nReserva tu mesa para las cenas 🇮🇹\nos esperamos! 🔥
URL:https://disfruta-denia.com/evento/karaoke-en-a-fer-la-mar/2023-12-01/
LOCATION:A fer la mar\, calle la mar\, nº 7\, Denia\, Alicante\, 03700\, España
CATEGORIES:Karaoké,Música
ATTACH;FMTTYPE=image/jpeg:https://disfruta-denia.com/wp-content/uploads/2022/10/309902935_847749016574718_387941431502313107_n.jpeg
END:VEVENT
BEGIN:VEVENT
DTSTART;TZID=Europe/Madrid:20231206T200000
DTEND;TZID=Europe/Madrid:20231206T200000
DTSTAMP:20260424T181947
CREATED:20231011T071244Z
LAST-MODIFIED:20231011T071244Z
UID:10014653-1701892800-1701892800@disfruta-denia.com
SUMMARY:Karaoke night party
DESCRIPTION:Karaoke night party
URL:https://disfruta-denia.com/evento/karaoke-night-party/2023-12-06/
LOCATION:The Speak Denia\, Carrer del Pont\, 19\, Denia\, Alicante\, 03700\, España
CATEGORIES:Karaoké,Música,Ocio nocturno
ATTACH;FMTTYPE=image/jpeg:https://disfruta-denia.com/wp-content/uploads/2023/10/2724257e-57f4-488c-a9bb-c0bdd5475a31.jpeg
END:VEVENT
BEGIN:VEVENT
DTSTART;TZID=Europe/Madrid:20231208T223000
DTEND;TZID=Europe/Madrid:20231208T223000
DTSTAMP:20260424T181947
CREATED:20221009T104344Z
LAST-MODIFIED:20221009T104344Z
UID:10006446-1702074600-1702074600@disfruta-denia.com
SUMMARY:Karaoké en A fer la Mar
DESCRIPTION:El viernes KARAOKE \, te atreves?? 🎤🎤 \nReserva tu mesa para las cenas 🇮🇹\nos esperamos! 🔥
URL:https://disfruta-denia.com/evento/karaoke-en-a-fer-la-mar/2023-12-08/
LOCATION:A fer la mar\, calle la mar\, nº 7\, Denia\, Alicante\, 03700\, España
CATEGORIES:Karaoké,Música
ATTACH;FMTTYPE=image/jpeg:https://disfruta-denia.com/wp-content/uploads/2022/10/309902935_847749016574718_387941431502313107_n.jpeg
END:VEVENT
BEGIN:VEVENT
DTSTART;TZID=Europe/Madrid:20231213T200000
DTEND;TZID=Europe/Madrid:20231213T200000
DTSTAMP:20260424T181947
CREATED:20231011T071244Z
LAST-MODIFIED:20231011T071244Z
UID:10014654-1702497600-1702497600@disfruta-denia.com
SUMMARY:Karaoke night party
DESCRIPTION:Karaoke night party
URL:https://disfruta-denia.com/evento/karaoke-night-party/2023-12-13/
LOCATION:The Speak Denia\, Carrer del Pont\, 19\, Denia\, Alicante\, 03700\, España
CATEGORIES:Karaoké,Música,Ocio nocturno
ATTACH;FMTTYPE=image/jpeg:https://disfruta-denia.com/wp-content/uploads/2023/10/2724257e-57f4-488c-a9bb-c0bdd5475a31.jpeg
END:VEVENT
BEGIN:VEVENT
DTSTART;TZID=Europe/Madrid:20231215T223000
DTEND;TZID=Europe/Madrid:20231215T223000
DTSTAMP:20260424T181947
CREATED:20221009T104344Z
LAST-MODIFIED:20221009T104344Z
UID:10006447-1702679400-1702679400@disfruta-denia.com
SUMMARY:Karaoké en A fer la Mar
DESCRIPTION:El viernes KARAOKE \, te atreves?? 🎤🎤 \nReserva tu mesa para las cenas 🇮🇹\nos esperamos! 🔥
URL:https://disfruta-denia.com/evento/karaoke-en-a-fer-la-mar/2023-12-15/
LOCATION:A fer la mar\, calle la mar\, nº 7\, Denia\, Alicante\, 03700\, España
CATEGORIES:Karaoké,Música
ATTACH;FMTTYPE=image/jpeg:https://disfruta-denia.com/wp-content/uploads/2022/10/309902935_847749016574718_387941431502313107_n.jpeg
END:VEVENT
BEGIN:VEVENT
DTSTART;TZID=Europe/Madrid:20231220T200000
DTEND;TZID=Europe/Madrid:20231220T200000
DTSTAMP:20260424T181947
CREATED:20231011T071244Z
LAST-MODIFIED:20231011T071244Z
UID:10014655-1703102400-1703102400@disfruta-denia.com
SUMMARY:Karaoke night party
DESCRIPTION:Karaoke night party
URL:https://disfruta-denia.com/evento/karaoke-night-party/2023-12-20/
LOCATION:The Speak Denia\, Carrer del Pont\, 19\, Denia\, Alicante\, 03700\, España
CATEGORIES:Karaoké,Música,Ocio nocturno
ATTACH;FMTTYPE=image/jpeg:https://disfruta-denia.com/wp-content/uploads/2023/10/2724257e-57f4-488c-a9bb-c0bdd5475a31.jpeg
END:VEVENT
BEGIN:VEVENT
DTSTART;TZID=Europe/Madrid:20231222T223000
DTEND;TZID=Europe/Madrid:20231222T223000
DTSTAMP:20260424T181947
CREATED:20221009T104344Z
LAST-MODIFIED:20221009T104344Z
UID:10006448-1703284200-1703284200@disfruta-denia.com
SUMMARY:Karaoké en A fer la Mar
DESCRIPTION:El viernes KARAOKE \, te atreves?? 🎤🎤 \nReserva tu mesa para las cenas 🇮🇹\nos esperamos! 🔥
URL:https://disfruta-denia.com/evento/karaoke-en-a-fer-la-mar/2023-12-22/
LOCATION:A fer la mar\, calle la mar\, nº 7\, Denia\, Alicante\, 03700\, España
CATEGORIES:Karaoké,Música
ATTACH;FMTTYPE=image/jpeg:https://disfruta-denia.com/wp-content/uploads/2022/10/309902935_847749016574718_387941431502313107_n.jpeg
END:VEVENT
BEGIN:VEVENT
DTSTART;TZID=Europe/Madrid:20231227T200000
DTEND;TZID=Europe/Madrid:20231227T200000
DTSTAMP:20260424T181947
CREATED:20231011T071244Z
LAST-MODIFIED:20231011T071244Z
UID:10014656-1703707200-1703707200@disfruta-denia.com
SUMMARY:Karaoke night party
DESCRIPTION:Karaoke night party
URL:https://disfruta-denia.com/evento/karaoke-night-party/2023-12-27/
LOCATION:The Speak Denia\, Carrer del Pont\, 19\, Denia\, Alicante\, 03700\, España
CATEGORIES:Karaoké,Música,Ocio nocturno
ATTACH;FMTTYPE=image/jpeg:https://disfruta-denia.com/wp-content/uploads/2023/10/2724257e-57f4-488c-a9bb-c0bdd5475a31.jpeg
END:VEVENT
BEGIN:VEVENT
DTSTART;TZID=Europe/Madrid:20231229T223000
DTEND;TZID=Europe/Madrid:20231229T223000
DTSTAMP:20260424T181947
CREATED:20221009T104344Z
LAST-MODIFIED:20221009T104344Z
UID:10006449-1703889000-1703889000@disfruta-denia.com
SUMMARY:Karaoké en A fer la Mar
DESCRIPTION:El viernes KARAOKE \, te atreves?? 🎤🎤 \nReserva tu mesa para las cenas 🇮🇹\nos esperamos! 🔥
URL:https://disfruta-denia.com/evento/karaoke-en-a-fer-la-mar/2023-12-29/
LOCATION:A fer la mar\, calle la mar\, nº 7\, Denia\, Alicante\, 03700\, España
CATEGORIES:Karaoké,Música
ATTACH;FMTTYPE=image/jpeg:https://disfruta-denia.com/wp-content/uploads/2022/10/309902935_847749016574718_387941431502313107_n.jpeg
END:VEVENT
END:VCALENDAR