BEGIN:VCALENDAR
VERSION:2.0
PRODID:-//Disfruta Denia - ECPv6.15.20//NONSGML v1.0//EN
CALSCALE:GREGORIAN
METHOD:PUBLISH
X-ORIGINAL-URL:https://disfruta-denia.com
X-WR-CALDESC:Eventos para Disfruta Denia
REFRESH-INTERVAL;VALUE=DURATION:PT1H
X-Robots-Tag:noindex
X-PUBLISHED-TTL:PT1H
BEGIN:VTIMEZONE
TZID:Europe/Madrid
BEGIN:DAYLIGHT
TZOFFSETFROM:+0100
TZOFFSETTO:+0200
TZNAME:CEST
DTSTART:20230326T010000
END:DAYLIGHT
BEGIN:STANDARD
TZOFFSETFROM:+0200
TZOFFSETTO:+0100
TZNAME:CET
DTSTART:20231029T010000
END:STANDARD
BEGIN:DAYLIGHT
TZOFFSETFROM:+0100
TZOFFSETTO:+0200
TZNAME:CEST
DTSTART:20240331T010000
END:DAYLIGHT
BEGIN:STANDARD
TZOFFSETFROM:+0200
TZOFFSETTO:+0100
TZNAME:CET
DTSTART:20241027T010000
END:STANDARD
BEGIN:DAYLIGHT
TZOFFSETFROM:+0100
TZOFFSETTO:+0200
TZNAME:CEST
DTSTART:20250330T010000
END:DAYLIGHT
BEGIN:STANDARD
TZOFFSETFROM:+0200
TZOFFSETTO:+0100
TZNAME:CET
DTSTART:20251026T010000
END:STANDARD
END:VTIMEZONE
BEGIN:VEVENT
DTSTART;TZID=Europe/Madrid:20240103T200000
DTEND;TZID=Europe/Madrid:20240103T200000
DTSTAMP:20260424T183304
CREATED:20231011T071244Z
LAST-MODIFIED:20231011T071244Z
UID:10014657-1704312000-1704312000@disfruta-denia.com
SUMMARY:Karaoke night party
DESCRIPTION:Karaoke night party
URL:https://disfruta-denia.com/evento/karaoke-night-party/2024-01-03/
LOCATION:The Speak Denia\, Carrer del Pont\, 19\, Denia\, Alicante\, 03700\, España
CATEGORIES:Karaoké,Música,Ocio nocturno
ATTACH;FMTTYPE=image/jpeg:https://disfruta-denia.com/wp-content/uploads/2023/10/2724257e-57f4-488c-a9bb-c0bdd5475a31.jpeg
END:VEVENT
BEGIN:VEVENT
DTSTART;TZID=Europe/Madrid:20240105T223000
DTEND;TZID=Europe/Madrid:20240105T223000
DTSTAMP:20260424T183304
CREATED:20221009T104344Z
LAST-MODIFIED:20221009T104344Z
UID:10006450-1704493800-1704493800@disfruta-denia.com
SUMMARY:Karaoké en A fer la Mar
DESCRIPTION:El viernes KARAOKE \, te atreves?? 🎤🎤 \nReserva tu mesa para las cenas 🇮🇹\nos esperamos! 🔥
URL:https://disfruta-denia.com/evento/karaoke-en-a-fer-la-mar/2024-01-05/
LOCATION:A fer la mar\, calle la mar\, nº 7\, Denia\, Alicante\, 03700\, España
CATEGORIES:Karaoké,Música
ATTACH;FMTTYPE=image/jpeg:https://disfruta-denia.com/wp-content/uploads/2022/10/309902935_847749016574718_387941431502313107_n.jpeg
END:VEVENT
BEGIN:VEVENT
DTSTART;TZID=Europe/Madrid:20240110T200000
DTEND;TZID=Europe/Madrid:20240110T200000
DTSTAMP:20260424T183304
CREATED:20231011T071244Z
LAST-MODIFIED:20231011T071244Z
UID:10014658-1704916800-1704916800@disfruta-denia.com
SUMMARY:Karaoke night party
DESCRIPTION:Karaoke night party
URL:https://disfruta-denia.com/evento/karaoke-night-party/2024-01-10/
LOCATION:The Speak Denia\, Carrer del Pont\, 19\, Denia\, Alicante\, 03700\, España
CATEGORIES:Karaoké,Música,Ocio nocturno
ATTACH;FMTTYPE=image/jpeg:https://disfruta-denia.com/wp-content/uploads/2023/10/2724257e-57f4-488c-a9bb-c0bdd5475a31.jpeg
END:VEVENT
BEGIN:VEVENT
DTSTART;TZID=Europe/Madrid:20240112T223000
DTEND;TZID=Europe/Madrid:20240112T223000
DTSTAMP:20260424T183304
CREATED:20221009T104344Z
LAST-MODIFIED:20221009T104344Z
UID:10006451-1705098600-1705098600@disfruta-denia.com
SUMMARY:Karaoké en A fer la Mar
DESCRIPTION:El viernes KARAOKE \, te atreves?? 🎤🎤 \nReserva tu mesa para las cenas 🇮🇹\nos esperamos! 🔥
URL:https://disfruta-denia.com/evento/karaoke-en-a-fer-la-mar/2024-01-12/
LOCATION:A fer la mar\, calle la mar\, nº 7\, Denia\, Alicante\, 03700\, España
CATEGORIES:Karaoké,Música
ATTACH;FMTTYPE=image/jpeg:https://disfruta-denia.com/wp-content/uploads/2022/10/309902935_847749016574718_387941431502313107_n.jpeg
END:VEVENT
BEGIN:VEVENT
DTSTART;TZID=Europe/Madrid:20240117T200000
DTEND;TZID=Europe/Madrid:20240117T200000
DTSTAMP:20260424T183304
CREATED:20231011T071244Z
LAST-MODIFIED:20231011T071244Z
UID:10014659-1705521600-1705521600@disfruta-denia.com
SUMMARY:Karaoke night party
DESCRIPTION:Karaoke night party
URL:https://disfruta-denia.com/evento/karaoke-night-party/2024-01-17/
LOCATION:The Speak Denia\, Carrer del Pont\, 19\, Denia\, Alicante\, 03700\, España
CATEGORIES:Karaoké,Música,Ocio nocturno
ATTACH;FMTTYPE=image/jpeg:https://disfruta-denia.com/wp-content/uploads/2023/10/2724257e-57f4-488c-a9bb-c0bdd5475a31.jpeg
END:VEVENT
BEGIN:VEVENT
DTSTART;TZID=Europe/Madrid:20240119T223000
DTEND;TZID=Europe/Madrid:20240119T223000
DTSTAMP:20260424T183304
CREATED:20221009T104344Z
LAST-MODIFIED:20221009T104344Z
UID:10006452-1705703400-1705703400@disfruta-denia.com
SUMMARY:Karaoké en A fer la Mar
DESCRIPTION:El viernes KARAOKE \, te atreves?? 🎤🎤 \nReserva tu mesa para las cenas 🇮🇹\nos esperamos! 🔥
URL:https://disfruta-denia.com/evento/karaoke-en-a-fer-la-mar/2024-01-19/
LOCATION:A fer la mar\, calle la mar\, nº 7\, Denia\, Alicante\, 03700\, España
CATEGORIES:Karaoké,Música
ATTACH;FMTTYPE=image/jpeg:https://disfruta-denia.com/wp-content/uploads/2022/10/309902935_847749016574718_387941431502313107_n.jpeg
END:VEVENT
BEGIN:VEVENT
DTSTART;TZID=Europe/Madrid:20240124T200000
DTEND;TZID=Europe/Madrid:20240124T200000
DTSTAMP:20260424T183304
CREATED:20231011T071244Z
LAST-MODIFIED:20231011T071244Z
UID:10014660-1706126400-1706126400@disfruta-denia.com
SUMMARY:Karaoke night party
DESCRIPTION:Karaoke night party
URL:https://disfruta-denia.com/evento/karaoke-night-party/2024-01-24/
LOCATION:The Speak Denia\, Carrer del Pont\, 19\, Denia\, Alicante\, 03700\, España
CATEGORIES:Karaoké,Música,Ocio nocturno
ATTACH;FMTTYPE=image/jpeg:https://disfruta-denia.com/wp-content/uploads/2023/10/2724257e-57f4-488c-a9bb-c0bdd5475a31.jpeg
END:VEVENT
BEGIN:VEVENT
DTSTART;TZID=Europe/Madrid:20240126T223000
DTEND;TZID=Europe/Madrid:20240126T223000
DTSTAMP:20260424T183304
CREATED:20221009T104344Z
LAST-MODIFIED:20221009T104344Z
UID:10006453-1706308200-1706308200@disfruta-denia.com
SUMMARY:Karaoké en A fer la Mar
DESCRIPTION:El viernes KARAOKE \, te atreves?? 🎤🎤 \nReserva tu mesa para las cenas 🇮🇹\nos esperamos! 🔥
URL:https://disfruta-denia.com/evento/karaoke-en-a-fer-la-mar/2024-01-26/
LOCATION:A fer la mar\, calle la mar\, nº 7\, Denia\, Alicante\, 03700\, España
CATEGORIES:Karaoké,Música
ATTACH;FMTTYPE=image/jpeg:https://disfruta-denia.com/wp-content/uploads/2022/10/309902935_847749016574718_387941431502313107_n.jpeg
END:VEVENT
BEGIN:VEVENT
DTSTART;TZID=Europe/Madrid:20240131T200000
DTEND;TZID=Europe/Madrid:20240131T200000
DTSTAMP:20260424T183304
CREATED:20231011T071244Z
LAST-MODIFIED:20231011T071244Z
UID:10014661-1706731200-1706731200@disfruta-denia.com
SUMMARY:Karaoke night party
DESCRIPTION:Karaoke night party
URL:https://disfruta-denia.com/evento/karaoke-night-party/2024-01-31/
LOCATION:The Speak Denia\, Carrer del Pont\, 19\, Denia\, Alicante\, 03700\, España
CATEGORIES:Karaoké,Música,Ocio nocturno
ATTACH;FMTTYPE=image/jpeg:https://disfruta-denia.com/wp-content/uploads/2023/10/2724257e-57f4-488c-a9bb-c0bdd5475a31.jpeg
END:VEVENT
END:VCALENDAR