BEGIN:VCALENDAR
VERSION:2.0
PRODID:-//Disfruta Denia - ECPv6.15.20//NONSGML v1.0//EN
CALSCALE:GREGORIAN
METHOD:PUBLISH
X-ORIGINAL-URL:https://disfruta-denia.com
X-WR-CALDESC:Eventos para Disfruta Denia
REFRESH-INTERVAL;VALUE=DURATION:PT1H
X-Robots-Tag:noindex
X-PUBLISHED-TTL:PT1H
BEGIN:VTIMEZONE
TZID:Europe/Madrid
BEGIN:DAYLIGHT
TZOFFSETFROM:+0100
TZOFFSETTO:+0200
TZNAME:CEST
DTSTART:20230326T010000
END:DAYLIGHT
BEGIN:STANDARD
TZOFFSETFROM:+0200
TZOFFSETTO:+0100
TZNAME:CET
DTSTART:20231029T010000
END:STANDARD
BEGIN:DAYLIGHT
TZOFFSETFROM:+0100
TZOFFSETTO:+0200
TZNAME:CEST
DTSTART:20240331T010000
END:DAYLIGHT
BEGIN:STANDARD
TZOFFSETFROM:+0200
TZOFFSETTO:+0100
TZNAME:CET
DTSTART:20241027T010000
END:STANDARD
BEGIN:DAYLIGHT
TZOFFSETFROM:+0100
TZOFFSETTO:+0200
TZNAME:CEST
DTSTART:20250330T010000
END:DAYLIGHT
BEGIN:STANDARD
TZOFFSETFROM:+0200
TZOFFSETTO:+0100
TZNAME:CET
DTSTART:20251026T010000
END:STANDARD
END:VTIMEZONE
BEGIN:VEVENT
DTSTART;TZID=Europe/Madrid:20240502T210000
DTEND;TZID=Europe/Madrid:20240502T210000
DTSTAMP:20260424T094944
CREATED:20240307T094627Z
LAST-MODIFIED:20240307T094631Z
UID:10016606-1714683600-1714683600@disfruta-denia.com
SUMMARY:Karaoké en Rebeldía Blues
DESCRIPTION:Karaoké en Rebeldía Blues
URL:https://disfruta-denia.com/evento/karaoke-en-rebeldia-blues-4-2-2-2-2-2/2024-05-02/
LOCATION:Rebeldia Blues\, Carr. de Dénia A Xábia\, 3G\, Denia\, Alicante\, 03700\, España
CATEGORIES:Karaoké,Música
ATTACH;FMTTYPE=image/jpeg:https://disfruta-denia.com/wp-content/uploads/2024/02/429768881_17912348297911738_3047273990901060399_n.jpg
END:VEVENT
BEGIN:VEVENT
DTSTART;TZID=Europe/Madrid:20240503T223000
DTEND;TZID=Europe/Madrid:20240503T223000
DTSTAMP:20260424T094944
CREATED:20221009T104344Z
LAST-MODIFIED:20221009T104344Z
UID:10006467-1714775400-1714775400@disfruta-denia.com
SUMMARY:Karaoké en A fer la Mar
DESCRIPTION:El viernes KARAOKE \, te atreves?? 🎤🎤 \nReserva tu mesa para las cenas 🇮🇹\nos esperamos! 🔥
URL:https://disfruta-denia.com/evento/karaoke-en-a-fer-la-mar/2024-05-03/
LOCATION:A fer la mar\, calle la mar\, nº 7\, Denia\, Alicante\, 03700\, España
CATEGORIES:Karaoké,Música
ATTACH;FMTTYPE=image/jpeg:https://disfruta-denia.com/wp-content/uploads/2022/10/309902935_847749016574718_387941431502313107_n.jpeg
END:VEVENT
BEGIN:VEVENT
DTSTART;TZID=Europe/Madrid:20240509T210000
DTEND;TZID=Europe/Madrid:20240509T210000
DTSTAMP:20260424T094944
CREATED:20240307T094627Z
LAST-MODIFIED:20240307T094631Z
UID:10016607-1715288400-1715288400@disfruta-denia.com
SUMMARY:Karaoké en Rebeldía Blues
DESCRIPTION:Karaoké en Rebeldía Blues
URL:https://disfruta-denia.com/evento/karaoke-en-rebeldia-blues-4-2-2-2-2-2/2024-05-09/
LOCATION:Rebeldia Blues\, Carr. de Dénia A Xábia\, 3G\, Denia\, Alicante\, 03700\, España
CATEGORIES:Karaoké,Música
ATTACH;FMTTYPE=image/jpeg:https://disfruta-denia.com/wp-content/uploads/2024/02/429768881_17912348297911738_3047273990901060399_n.jpg
END:VEVENT
BEGIN:VEVENT
DTSTART;TZID=Europe/Madrid:20240510T223000
DTEND;TZID=Europe/Madrid:20240510T223000
DTSTAMP:20260424T094944
CREATED:20221009T104344Z
LAST-MODIFIED:20221009T104344Z
UID:10006468-1715380200-1715380200@disfruta-denia.com
SUMMARY:Karaoké en A fer la Mar
DESCRIPTION:El viernes KARAOKE \, te atreves?? 🎤🎤 \nReserva tu mesa para las cenas 🇮🇹\nos esperamos! 🔥
URL:https://disfruta-denia.com/evento/karaoke-en-a-fer-la-mar/2024-05-10/
LOCATION:A fer la mar\, calle la mar\, nº 7\, Denia\, Alicante\, 03700\, España
CATEGORIES:Karaoké,Música
ATTACH;FMTTYPE=image/jpeg:https://disfruta-denia.com/wp-content/uploads/2022/10/309902935_847749016574718_387941431502313107_n.jpeg
END:VEVENT
BEGIN:VEVENT
DTSTART;TZID=Europe/Madrid:20240516T210000
DTEND;TZID=Europe/Madrid:20240516T210000
DTSTAMP:20260424T094944
CREATED:20240307T094627Z
LAST-MODIFIED:20240307T094631Z
UID:10016608-1715893200-1715893200@disfruta-denia.com
SUMMARY:Karaoké en Rebeldía Blues
DESCRIPTION:Karaoké en Rebeldía Blues
URL:https://disfruta-denia.com/evento/karaoke-en-rebeldia-blues-4-2-2-2-2-2/2024-05-16/
LOCATION:Rebeldia Blues\, Carr. de Dénia A Xábia\, 3G\, Denia\, Alicante\, 03700\, España
CATEGORIES:Karaoké,Música
ATTACH;FMTTYPE=image/jpeg:https://disfruta-denia.com/wp-content/uploads/2024/02/429768881_17912348297911738_3047273990901060399_n.jpg
END:VEVENT
BEGIN:VEVENT
DTSTART;TZID=Europe/Madrid:20240517T223000
DTEND;TZID=Europe/Madrid:20240517T223000
DTSTAMP:20260424T094944
CREATED:20221009T104344Z
LAST-MODIFIED:20221009T104344Z
UID:10006469-1715985000-1715985000@disfruta-denia.com
SUMMARY:Karaoké en A fer la Mar
DESCRIPTION:El viernes KARAOKE \, te atreves?? 🎤🎤 \nReserva tu mesa para las cenas 🇮🇹\nos esperamos! 🔥
URL:https://disfruta-denia.com/evento/karaoke-en-a-fer-la-mar/2024-05-17/
LOCATION:A fer la mar\, calle la mar\, nº 7\, Denia\, Alicante\, 03700\, España
CATEGORIES:Karaoké,Música
ATTACH;FMTTYPE=image/jpeg:https://disfruta-denia.com/wp-content/uploads/2022/10/309902935_847749016574718_387941431502313107_n.jpeg
END:VEVENT
BEGIN:VEVENT
DTSTART;TZID=Europe/Madrid:20240523T210000
DTEND;TZID=Europe/Madrid:20240523T210000
DTSTAMP:20260424T094944
CREATED:20240307T094627Z
LAST-MODIFIED:20240307T094631Z
UID:10016609-1716498000-1716498000@disfruta-denia.com
SUMMARY:Karaoké en Rebeldía Blues
DESCRIPTION:Karaoké en Rebeldía Blues
URL:https://disfruta-denia.com/evento/karaoke-en-rebeldia-blues-4-2-2-2-2-2/2024-05-23/
LOCATION:Rebeldia Blues\, Carr. de Dénia A Xábia\, 3G\, Denia\, Alicante\, 03700\, España
CATEGORIES:Karaoké,Música
ATTACH;FMTTYPE=image/jpeg:https://disfruta-denia.com/wp-content/uploads/2024/02/429768881_17912348297911738_3047273990901060399_n.jpg
END:VEVENT
BEGIN:VEVENT
DTSTART;TZID=Europe/Madrid:20240524T223000
DTEND;TZID=Europe/Madrid:20240524T223000
DTSTAMP:20260424T094944
CREATED:20221009T104344Z
LAST-MODIFIED:20221009T104344Z
UID:10006470-1716589800-1716589800@disfruta-denia.com
SUMMARY:Karaoké en A fer la Mar
DESCRIPTION:El viernes KARAOKE \, te atreves?? 🎤🎤 \nReserva tu mesa para las cenas 🇮🇹\nos esperamos! 🔥
URL:https://disfruta-denia.com/evento/karaoke-en-a-fer-la-mar/2024-05-24/
LOCATION:A fer la mar\, calle la mar\, nº 7\, Denia\, Alicante\, 03700\, España
CATEGORIES:Karaoké,Música
ATTACH;FMTTYPE=image/jpeg:https://disfruta-denia.com/wp-content/uploads/2022/10/309902935_847749016574718_387941431502313107_n.jpeg
END:VEVENT
BEGIN:VEVENT
DTSTART;TZID=Europe/Madrid:20240530T210000
DTEND;TZID=Europe/Madrid:20240530T210000
DTSTAMP:20260424T094944
CREATED:20240307T094627Z
LAST-MODIFIED:20240307T094631Z
UID:10016610-1717102800-1717102800@disfruta-denia.com
SUMMARY:Karaoké en Rebeldía Blues
DESCRIPTION:Karaoké en Rebeldía Blues
URL:https://disfruta-denia.com/evento/karaoke-en-rebeldia-blues-4-2-2-2-2-2/2024-05-30/
LOCATION:Rebeldia Blues\, Carr. de Dénia A Xábia\, 3G\, Denia\, Alicante\, 03700\, España
CATEGORIES:Karaoké,Música
ATTACH;FMTTYPE=image/jpeg:https://disfruta-denia.com/wp-content/uploads/2024/02/429768881_17912348297911738_3047273990901060399_n.jpg
END:VEVENT
BEGIN:VEVENT
DTSTART;TZID=Europe/Madrid:20240531T223000
DTEND;TZID=Europe/Madrid:20240531T223000
DTSTAMP:20260424T094944
CREATED:20221009T104344Z
LAST-MODIFIED:20221009T104344Z
UID:10006471-1717194600-1717194600@disfruta-denia.com
SUMMARY:Karaoké en A fer la Mar
DESCRIPTION:El viernes KARAOKE \, te atreves?? 🎤🎤 \nReserva tu mesa para las cenas 🇮🇹\nos esperamos! 🔥
URL:https://disfruta-denia.com/evento/karaoke-en-a-fer-la-mar/2024-05-31/
LOCATION:A fer la mar\, calle la mar\, nº 7\, Denia\, Alicante\, 03700\, España
CATEGORIES:Karaoké,Música
ATTACH;FMTTYPE=image/jpeg:https://disfruta-denia.com/wp-content/uploads/2022/10/309902935_847749016574718_387941431502313107_n.jpeg
END:VEVENT
END:VCALENDAR