BEGIN:VCALENDAR
VERSION:2.0
PRODID:-//Disfruta Denia - ECPv6.15.20//NONSGML v1.0//EN
CALSCALE:GREGORIAN
METHOD:PUBLISH
X-WR-CALNAME:Disfruta Denia
X-ORIGINAL-URL:https://disfruta-denia.com
X-WR-CALDESC:Eventos para Disfruta Denia
REFRESH-INTERVAL;VALUE=DURATION:PT1H
X-Robots-Tag:noindex
X-PUBLISHED-TTL:PT1H
BEGIN:VTIMEZONE
TZID:Europe/Madrid
BEGIN:DAYLIGHT
TZOFFSETFROM:+0100
TZOFFSETTO:+0200
TZNAME:CEST
DTSTART:20250330T010000
END:DAYLIGHT
BEGIN:STANDARD
TZOFFSETFROM:+0200
TZOFFSETTO:+0100
TZNAME:CET
DTSTART:20251026T010000
END:STANDARD
BEGIN:DAYLIGHT
TZOFFSETFROM:+0100
TZOFFSETTO:+0200
TZNAME:CEST
DTSTART:20260329T010000
END:DAYLIGHT
BEGIN:STANDARD
TZOFFSETFROM:+0200
TZOFFSETTO:+0100
TZNAME:CET
DTSTART:20261025T010000
END:STANDARD
BEGIN:DAYLIGHT
TZOFFSETFROM:+0100
TZOFFSETTO:+0200
TZNAME:CEST
DTSTART:20270328T010000
END:DAYLIGHT
BEGIN:STANDARD
TZOFFSETFROM:+0200
TZOFFSETTO:+0100
TZNAME:CET
DTSTART:20271031T010000
END:STANDARD
END:VTIMEZONE
BEGIN:VEVENT
DTSTART;TZID=Europe/Madrid:20260501T235900
DTEND;TZID=Europe/Madrid:20260501T235900
DTSTAMP:20260425T125720
CREATED:20260422T093628Z
LAST-MODIFIED:20260422T093630Z
UID:10025371-1777679940-1777679940@disfruta-denia.com
SUMMARY:Concierto Pop Indie Rock
DESCRIPTION:El concierto empieza las 00h30
URL:https://disfruta-denia.com/evento/concierto-pop-indie-rock-2-2/2026-05-01/
LOCATION:La Chica de ayer\, Calle la mar 30\, Denia\, Alicante\, 03700\, España
CATEGORIES:Concierto,Música,Ocio nocturno
ATTACH;FMTTYPE=image/jpeg:https://disfruta-denia.com/wp-content/uploads/2026/04/6909b00d-8daa-4998-ba62-171f0eb524f8.jpg
END:VEVENT
BEGIN:VEVENT
DTSTART;TZID=Europe/Madrid:20260502T235900
DTEND;TZID=Europe/Madrid:20260502T235900
DTSTAMP:20260425T125720
CREATED:20260422T093647Z
LAST-MODIFIED:20260422T093650Z
UID:10025708-1777766340-1777766340@disfruta-denia.com
SUMMARY:Concierto covers
DESCRIPTION:El concierto comienza a las 00h30
URL:https://disfruta-denia.com/evento/homenaje-pop-rock-80-90-2-2-2-2/2026-05-02/
LOCATION:La Chica de ayer\, Calle la mar 30\, Denia\, Alicante\, 03700\, España
CATEGORIES:Concierto,Música,Ocio nocturno
ATTACH;FMTTYPE=image/jpeg:https://disfruta-denia.com/wp-content/uploads/2026/04/1761e8ac-86c2-4f3f-8a68-61a1fc791519.jpg
END:VEVENT
BEGIN:VEVENT
DTSTART;TZID=Europe/Madrid:20260508T235900
DTEND;TZID=Europe/Madrid:20260508T235900
DTSTAMP:20260425T125721
CREATED:20260422T093628Z
LAST-MODIFIED:20260422T093630Z
UID:10025372-1778284740-1778284740@disfruta-denia.com
SUMMARY:Concierto Pop Indie Rock
DESCRIPTION:El concierto empieza las 00h30
URL:https://disfruta-denia.com/evento/concierto-pop-indie-rock-2-2/2026-05-08/
LOCATION:La Chica de ayer\, Calle la mar 30\, Denia\, Alicante\, 03700\, España
CATEGORIES:Concierto,Música,Ocio nocturno
ATTACH;FMTTYPE=image/jpeg:https://disfruta-denia.com/wp-content/uploads/2026/04/6909b00d-8daa-4998-ba62-171f0eb524f8.jpg
END:VEVENT
BEGIN:VEVENT
DTSTART;TZID=Europe/Madrid:20260509T235900
DTEND;TZID=Europe/Madrid:20260509T235900
DTSTAMP:20260425T125721
CREATED:20260422T093647Z
LAST-MODIFIED:20260422T093650Z
UID:10025709-1778371140-1778371140@disfruta-denia.com
SUMMARY:Concierto covers
DESCRIPTION:El concierto comienza a las 00h30
URL:https://disfruta-denia.com/evento/homenaje-pop-rock-80-90-2-2-2-2/2026-05-09/
LOCATION:La Chica de ayer\, Calle la mar 30\, Denia\, Alicante\, 03700\, España
CATEGORIES:Concierto,Música,Ocio nocturno
ATTACH;FMTTYPE=image/jpeg:https://disfruta-denia.com/wp-content/uploads/2026/04/1761e8ac-86c2-4f3f-8a68-61a1fc791519.jpg
END:VEVENT
BEGIN:VEVENT
DTSTART;TZID=Europe/Madrid:20260515T235900
DTEND;TZID=Europe/Madrid:20260515T235900
DTSTAMP:20260425T125721
CREATED:20260422T093628Z
LAST-MODIFIED:20260422T093630Z
UID:10025373-1778889540-1778889540@disfruta-denia.com
SUMMARY:Concierto Pop Indie Rock
DESCRIPTION:El concierto empieza las 00h30
URL:https://disfruta-denia.com/evento/concierto-pop-indie-rock-2-2/2026-05-15/
LOCATION:La Chica de ayer\, Calle la mar 30\, Denia\, Alicante\, 03700\, España
CATEGORIES:Concierto,Música,Ocio nocturno
ATTACH;FMTTYPE=image/jpeg:https://disfruta-denia.com/wp-content/uploads/2026/04/6909b00d-8daa-4998-ba62-171f0eb524f8.jpg
END:VEVENT
BEGIN:VEVENT
DTSTART;TZID=Europe/Madrid:20260516T235900
DTEND;TZID=Europe/Madrid:20260516T235900
DTSTAMP:20260425T125721
CREATED:20260422T093647Z
LAST-MODIFIED:20260422T093650Z
UID:10025710-1778975940-1778975940@disfruta-denia.com
SUMMARY:Concierto covers
DESCRIPTION:El concierto comienza a las 00h30
URL:https://disfruta-denia.com/evento/homenaje-pop-rock-80-90-2-2-2-2/2026-05-16/
LOCATION:La Chica de ayer\, Calle la mar 30\, Denia\, Alicante\, 03700\, España
CATEGORIES:Concierto,Música,Ocio nocturno
ATTACH;FMTTYPE=image/jpeg:https://disfruta-denia.com/wp-content/uploads/2026/04/1761e8ac-86c2-4f3f-8a68-61a1fc791519.jpg
END:VEVENT
BEGIN:VEVENT
DTSTART;TZID=Europe/Madrid:20260522T235900
DTEND;TZID=Europe/Madrid:20260522T235900
DTSTAMP:20260425T125721
CREATED:20260422T093628Z
LAST-MODIFIED:20260422T093630Z
UID:10025374-1779494340-1779494340@disfruta-denia.com
SUMMARY:Concierto Pop Indie Rock
DESCRIPTION:El concierto empieza las 00h30
URL:https://disfruta-denia.com/evento/concierto-pop-indie-rock-2-2/2026-05-22/
LOCATION:La Chica de ayer\, Calle la mar 30\, Denia\, Alicante\, 03700\, España
CATEGORIES:Concierto,Música,Ocio nocturno
ATTACH;FMTTYPE=image/jpeg:https://disfruta-denia.com/wp-content/uploads/2026/04/6909b00d-8daa-4998-ba62-171f0eb524f8.jpg
END:VEVENT
BEGIN:VEVENT
DTSTART;TZID=Europe/Madrid:20260523T235900
DTEND;TZID=Europe/Madrid:20260523T235900
DTSTAMP:20260425T125721
CREATED:20260422T093647Z
LAST-MODIFIED:20260422T093650Z
UID:10025711-1779580740-1779580740@disfruta-denia.com
SUMMARY:Concierto covers
DESCRIPTION:El concierto comienza a las 00h30
URL:https://disfruta-denia.com/evento/homenaje-pop-rock-80-90-2-2-2-2/2026-05-23/
LOCATION:La Chica de ayer\, Calle la mar 30\, Denia\, Alicante\, 03700\, España
CATEGORIES:Concierto,Música,Ocio nocturno
ATTACH;FMTTYPE=image/jpeg:https://disfruta-denia.com/wp-content/uploads/2026/04/1761e8ac-86c2-4f3f-8a68-61a1fc791519.jpg
END:VEVENT
BEGIN:VEVENT
DTSTART;TZID=Europe/Madrid:20260529T235900
DTEND;TZID=Europe/Madrid:20260529T235900
DTSTAMP:20260425T125721
CREATED:20260422T093628Z
LAST-MODIFIED:20260422T093630Z
UID:10025375-1780099140-1780099140@disfruta-denia.com
SUMMARY:Concierto Pop Indie Rock
DESCRIPTION:El concierto empieza las 00h30
URL:https://disfruta-denia.com/evento/concierto-pop-indie-rock-2-2/2026-05-29/
LOCATION:La Chica de ayer\, Calle la mar 30\, Denia\, Alicante\, 03700\, España
CATEGORIES:Concierto,Música,Ocio nocturno
ATTACH;FMTTYPE=image/jpeg:https://disfruta-denia.com/wp-content/uploads/2026/04/6909b00d-8daa-4998-ba62-171f0eb524f8.jpg
END:VEVENT
BEGIN:VEVENT
DTSTART;TZID=Europe/Madrid:20260530T235900
DTEND;TZID=Europe/Madrid:20260530T235900
DTSTAMP:20260425T125721
CREATED:20260422T093647Z
LAST-MODIFIED:20260422T093650Z
UID:10025712-1780185540-1780185540@disfruta-denia.com
SUMMARY:Concierto covers
DESCRIPTION:El concierto comienza a las 00h30
URL:https://disfruta-denia.com/evento/homenaje-pop-rock-80-90-2-2-2-2/2026-05-30/
LOCATION:La Chica de ayer\, Calle la mar 30\, Denia\, Alicante\, 03700\, España
CATEGORIES:Concierto,Música,Ocio nocturno
ATTACH;FMTTYPE=image/jpeg:https://disfruta-denia.com/wp-content/uploads/2026/04/1761e8ac-86c2-4f3f-8a68-61a1fc791519.jpg
END:VEVENT
END:VCALENDAR