BEGIN:VCALENDAR
VERSION:2.0
PRODID:-//Disfruta Denia - ECPv6.15.20//NONSGML v1.0//EN
CALSCALE:GREGORIAN
METHOD:PUBLISH
X-ORIGINAL-URL:https://disfruta-denia.com
X-WR-CALDESC:Eventos para Disfruta Denia
REFRESH-INTERVAL;VALUE=DURATION:PT1H
X-Robots-Tag:noindex
X-PUBLISHED-TTL:PT1H
BEGIN:VTIMEZONE
TZID:Europe/Madrid
BEGIN:DAYLIGHT
TZOFFSETFROM:+0100
TZOFFSETTO:+0200
TZNAME:CEST
DTSTART:20250330T010000
END:DAYLIGHT
BEGIN:STANDARD
TZOFFSETFROM:+0200
TZOFFSETTO:+0100
TZNAME:CET
DTSTART:20251026T010000
END:STANDARD
BEGIN:DAYLIGHT
TZOFFSETFROM:+0100
TZOFFSETTO:+0200
TZNAME:CEST
DTSTART:20260329T010000
END:DAYLIGHT
BEGIN:STANDARD
TZOFFSETFROM:+0200
TZOFFSETTO:+0100
TZNAME:CET
DTSTART:20261025T010000
END:STANDARD
BEGIN:DAYLIGHT
TZOFFSETFROM:+0100
TZOFFSETTO:+0200
TZNAME:CEST
DTSTART:20270328T010000
END:DAYLIGHT
BEGIN:STANDARD
TZOFFSETFROM:+0200
TZOFFSETTO:+0100
TZNAME:CET
DTSTART:20271031T010000
END:STANDARD
END:VTIMEZONE
BEGIN:VEVENT
DTSTART;TZID=Europe/Madrid:20260801T235900
DTEND;TZID=Europe/Madrid:20260801T235900
DTSTAMP:20260425T213739
CREATED:20260422T093647Z
LAST-MODIFIED:20260422T093650Z
UID:10025721-1785628740-1785628740@disfruta-denia.com
SUMMARY:Concierto covers
DESCRIPTION:El concierto comienza a las 00h30
URL:https://disfruta-denia.com/evento/homenaje-pop-rock-80-90-2-2-2-2/2026-08-01/
LOCATION:La Chica de ayer\, Calle la mar 30\, Denia\, Alicante\, 03700\, España
CATEGORIES:Concierto,Música,Ocio nocturno
ATTACH;FMTTYPE=image/jpeg:https://disfruta-denia.com/wp-content/uploads/2026/04/1761e8ac-86c2-4f3f-8a68-61a1fc791519.jpg
END:VEVENT
BEGIN:VEVENT
DTSTART;TZID=Europe/Madrid:20260807T235900
DTEND;TZID=Europe/Madrid:20260807T235900
DTSTAMP:20260425T213739
CREATED:20260422T093628Z
LAST-MODIFIED:20260422T093630Z
UID:10025385-1786147140-1786147140@disfruta-denia.com
SUMMARY:Concierto Pop Indie Rock
DESCRIPTION:El concierto empieza las 00h30
URL:https://disfruta-denia.com/evento/concierto-pop-indie-rock-2-2/2026-08-07/
LOCATION:La Chica de ayer\, Calle la mar 30\, Denia\, Alicante\, 03700\, España
CATEGORIES:Concierto,Música,Ocio nocturno
ATTACH;FMTTYPE=image/jpeg:https://disfruta-denia.com/wp-content/uploads/2026/04/6909b00d-8daa-4998-ba62-171f0eb524f8.jpg
END:VEVENT
BEGIN:VEVENT
DTSTART;TZID=Europe/Madrid:20260808T235900
DTEND;TZID=Europe/Madrid:20260808T235900
DTSTAMP:20260425T213739
CREATED:20260422T093647Z
LAST-MODIFIED:20260422T093650Z
UID:10025722-1786233540-1786233540@disfruta-denia.com
SUMMARY:Concierto covers
DESCRIPTION:El concierto comienza a las 00h30
URL:https://disfruta-denia.com/evento/homenaje-pop-rock-80-90-2-2-2-2/2026-08-08/
LOCATION:La Chica de ayer\, Calle la mar 30\, Denia\, Alicante\, 03700\, España
CATEGORIES:Concierto,Música,Ocio nocturno
ATTACH;FMTTYPE=image/jpeg:https://disfruta-denia.com/wp-content/uploads/2026/04/1761e8ac-86c2-4f3f-8a68-61a1fc791519.jpg
END:VEVENT
BEGIN:VEVENT
DTSTART;TZID=Europe/Madrid:20260814T235900
DTEND;TZID=Europe/Madrid:20260814T235900
DTSTAMP:20260425T213739
CREATED:20260422T093628Z
LAST-MODIFIED:20260422T093630Z
UID:10025386-1786751940-1786751940@disfruta-denia.com
SUMMARY:Concierto Pop Indie Rock
DESCRIPTION:El concierto empieza las 00h30
URL:https://disfruta-denia.com/evento/concierto-pop-indie-rock-2-2/2026-08-14/
LOCATION:La Chica de ayer\, Calle la mar 30\, Denia\, Alicante\, 03700\, España
CATEGORIES:Concierto,Música,Ocio nocturno
ATTACH;FMTTYPE=image/jpeg:https://disfruta-denia.com/wp-content/uploads/2026/04/6909b00d-8daa-4998-ba62-171f0eb524f8.jpg
END:VEVENT
BEGIN:VEVENT
DTSTART;TZID=Europe/Madrid:20260815T235900
DTEND;TZID=Europe/Madrid:20260815T235900
DTSTAMP:20260425T213739
CREATED:20260422T093647Z
LAST-MODIFIED:20260422T093650Z
UID:10025723-1786838340-1786838340@disfruta-denia.com
SUMMARY:Concierto covers
DESCRIPTION:El concierto comienza a las 00h30
URL:https://disfruta-denia.com/evento/homenaje-pop-rock-80-90-2-2-2-2/2026-08-15/
LOCATION:La Chica de ayer\, Calle la mar 30\, Denia\, Alicante\, 03700\, España
CATEGORIES:Concierto,Música,Ocio nocturno
ATTACH;FMTTYPE=image/jpeg:https://disfruta-denia.com/wp-content/uploads/2026/04/1761e8ac-86c2-4f3f-8a68-61a1fc791519.jpg
END:VEVENT
BEGIN:VEVENT
DTSTART;TZID=Europe/Madrid:20260821T235900
DTEND;TZID=Europe/Madrid:20260821T235900
DTSTAMP:20260425T213739
CREATED:20260422T093628Z
LAST-MODIFIED:20260422T093630Z
UID:10025387-1787356740-1787356740@disfruta-denia.com
SUMMARY:Concierto Pop Indie Rock
DESCRIPTION:El concierto empieza las 00h30
URL:https://disfruta-denia.com/evento/concierto-pop-indie-rock-2-2/2026-08-21/
LOCATION:La Chica de ayer\, Calle la mar 30\, Denia\, Alicante\, 03700\, España
CATEGORIES:Concierto,Música,Ocio nocturno
ATTACH;FMTTYPE=image/jpeg:https://disfruta-denia.com/wp-content/uploads/2026/04/6909b00d-8daa-4998-ba62-171f0eb524f8.jpg
END:VEVENT
BEGIN:VEVENT
DTSTART;TZID=Europe/Madrid:20260822T235900
DTEND;TZID=Europe/Madrid:20260822T235900
DTSTAMP:20260425T213739
CREATED:20260422T093647Z
LAST-MODIFIED:20260422T093650Z
UID:10025724-1787443140-1787443140@disfruta-denia.com
SUMMARY:Concierto covers
DESCRIPTION:El concierto comienza a las 00h30
URL:https://disfruta-denia.com/evento/homenaje-pop-rock-80-90-2-2-2-2/2026-08-22/
LOCATION:La Chica de ayer\, Calle la mar 30\, Denia\, Alicante\, 03700\, España
CATEGORIES:Concierto,Música,Ocio nocturno
ATTACH;FMTTYPE=image/jpeg:https://disfruta-denia.com/wp-content/uploads/2026/04/1761e8ac-86c2-4f3f-8a68-61a1fc791519.jpg
END:VEVENT
BEGIN:VEVENT
DTSTART;TZID=Europe/Madrid:20260828T235900
DTEND;TZID=Europe/Madrid:20260828T235900
DTSTAMP:20260425T213739
CREATED:20260422T093628Z
LAST-MODIFIED:20260422T093630Z
UID:10025388-1787961540-1787961540@disfruta-denia.com
SUMMARY:Concierto Pop Indie Rock
DESCRIPTION:El concierto empieza las 00h30
URL:https://disfruta-denia.com/evento/concierto-pop-indie-rock-2-2/2026-08-28/
LOCATION:La Chica de ayer\, Calle la mar 30\, Denia\, Alicante\, 03700\, España
CATEGORIES:Concierto,Música,Ocio nocturno
ATTACH;FMTTYPE=image/jpeg:https://disfruta-denia.com/wp-content/uploads/2026/04/6909b00d-8daa-4998-ba62-171f0eb524f8.jpg
END:VEVENT
BEGIN:VEVENT
DTSTART;TZID=Europe/Madrid:20260829T235900
DTEND;TZID=Europe/Madrid:20260829T235900
DTSTAMP:20260425T213739
CREATED:20260422T093647Z
LAST-MODIFIED:20260422T093650Z
UID:10025725-1788047940-1788047940@disfruta-denia.com
SUMMARY:Concierto covers
DESCRIPTION:El concierto comienza a las 00h30
URL:https://disfruta-denia.com/evento/homenaje-pop-rock-80-90-2-2-2-2/2026-08-29/
LOCATION:La Chica de ayer\, Calle la mar 30\, Denia\, Alicante\, 03700\, España
CATEGORIES:Concierto,Música,Ocio nocturno
ATTACH;FMTTYPE=image/jpeg:https://disfruta-denia.com/wp-content/uploads/2026/04/1761e8ac-86c2-4f3f-8a68-61a1fc791519.jpg
END:VEVENT
END:VCALENDAR