BEGIN:VCALENDAR
VERSION:2.0
PRODID:-//Disfruta Denia - ECPv6.15.20//NONSGML v1.0//EN
CALSCALE:GREGORIAN
METHOD:PUBLISH
X-ORIGINAL-URL:https://disfruta-denia.com
X-WR-CALDESC:Eventos para Disfruta Denia
REFRESH-INTERVAL;VALUE=DURATION:PT1H
X-Robots-Tag:noindex
X-PUBLISHED-TTL:PT1H
BEGIN:VTIMEZONE
TZID:Europe/Madrid
BEGIN:DAYLIGHT
TZOFFSETFROM:+0100
TZOFFSETTO:+0200
TZNAME:CEST
DTSTART:20250330T010000
END:DAYLIGHT
BEGIN:STANDARD
TZOFFSETFROM:+0200
TZOFFSETTO:+0100
TZNAME:CET
DTSTART:20251026T010000
END:STANDARD
BEGIN:DAYLIGHT
TZOFFSETFROM:+0100
TZOFFSETTO:+0200
TZNAME:CEST
DTSTART:20260329T010000
END:DAYLIGHT
BEGIN:STANDARD
TZOFFSETFROM:+0200
TZOFFSETTO:+0100
TZNAME:CET
DTSTART:20261025T010000
END:STANDARD
BEGIN:DAYLIGHT
TZOFFSETFROM:+0100
TZOFFSETTO:+0200
TZNAME:CEST
DTSTART:20270328T010000
END:DAYLIGHT
BEGIN:STANDARD
TZOFFSETFROM:+0200
TZOFFSETTO:+0100
TZNAME:CET
DTSTART:20271031T010000
END:STANDARD
END:VTIMEZONE
BEGIN:VEVENT
DTSTART;TZID=Europe/Madrid:20261002T235900
DTEND;TZID=Europe/Madrid:20261002T235900
DTSTAMP:20260426T024300
CREATED:20260422T093628Z
LAST-MODIFIED:20260422T093630Z
UID:10025393-1790985540-1790985540@disfruta-denia.com
SUMMARY:Concierto Pop Indie Rock
DESCRIPTION:El concierto empieza las 00h30
URL:https://disfruta-denia.com/evento/concierto-pop-indie-rock-2-2/2026-10-02/
LOCATION:La Chica de ayer\, Calle la mar 30\, Denia\, Alicante\, 03700\, España
CATEGORIES:Concierto,Música,Ocio nocturno
ATTACH;FMTTYPE=image/jpeg:https://disfruta-denia.com/wp-content/uploads/2026/04/6909b00d-8daa-4998-ba62-171f0eb524f8.jpg
END:VEVENT
BEGIN:VEVENT
DTSTART;TZID=Europe/Madrid:20261003T235900
DTEND;TZID=Europe/Madrid:20261003T235900
DTSTAMP:20260426T024300
CREATED:20260422T093647Z
LAST-MODIFIED:20260422T093650Z
UID:10025730-1791071940-1791071940@disfruta-denia.com
SUMMARY:Concierto covers
DESCRIPTION:El concierto comienza a las 00h30
URL:https://disfruta-denia.com/evento/homenaje-pop-rock-80-90-2-2-2-2/2026-10-03/
LOCATION:La Chica de ayer\, Calle la mar 30\, Denia\, Alicante\, 03700\, España
CATEGORIES:Concierto,Música,Ocio nocturno
ATTACH;FMTTYPE=image/jpeg:https://disfruta-denia.com/wp-content/uploads/2026/04/1761e8ac-86c2-4f3f-8a68-61a1fc791519.jpg
END:VEVENT
BEGIN:VEVENT
DTSTART;TZID=Europe/Madrid:20261009T235900
DTEND;TZID=Europe/Madrid:20261009T235900
DTSTAMP:20260426T024300
CREATED:20260422T093628Z
LAST-MODIFIED:20260422T093630Z
UID:10025394-1791590340-1791590340@disfruta-denia.com
SUMMARY:Concierto Pop Indie Rock
DESCRIPTION:El concierto empieza las 00h30
URL:https://disfruta-denia.com/evento/concierto-pop-indie-rock-2-2/2026-10-09/
LOCATION:La Chica de ayer\, Calle la mar 30\, Denia\, Alicante\, 03700\, España
CATEGORIES:Concierto,Música,Ocio nocturno
ATTACH;FMTTYPE=image/jpeg:https://disfruta-denia.com/wp-content/uploads/2026/04/6909b00d-8daa-4998-ba62-171f0eb524f8.jpg
END:VEVENT
BEGIN:VEVENT
DTSTART;TZID=Europe/Madrid:20261010T235900
DTEND;TZID=Europe/Madrid:20261010T235900
DTSTAMP:20260426T024300
CREATED:20260422T093647Z
LAST-MODIFIED:20260422T093650Z
UID:10025731-1791676740-1791676740@disfruta-denia.com
SUMMARY:Concierto covers
DESCRIPTION:El concierto comienza a las 00h30
URL:https://disfruta-denia.com/evento/homenaje-pop-rock-80-90-2-2-2-2/2026-10-10/
LOCATION:La Chica de ayer\, Calle la mar 30\, Denia\, Alicante\, 03700\, España
CATEGORIES:Concierto,Música,Ocio nocturno
ATTACH;FMTTYPE=image/jpeg:https://disfruta-denia.com/wp-content/uploads/2026/04/1761e8ac-86c2-4f3f-8a68-61a1fc791519.jpg
END:VEVENT
BEGIN:VEVENT
DTSTART;TZID=Europe/Madrid:20261016T235900
DTEND;TZID=Europe/Madrid:20261016T235900
DTSTAMP:20260426T024300
CREATED:20260422T093628Z
LAST-MODIFIED:20260422T093630Z
UID:10025395-1792195140-1792195140@disfruta-denia.com
SUMMARY:Concierto Pop Indie Rock
DESCRIPTION:El concierto empieza las 00h30
URL:https://disfruta-denia.com/evento/concierto-pop-indie-rock-2-2/2026-10-16/
LOCATION:La Chica de ayer\, Calle la mar 30\, Denia\, Alicante\, 03700\, España
CATEGORIES:Concierto,Música,Ocio nocturno
ATTACH;FMTTYPE=image/jpeg:https://disfruta-denia.com/wp-content/uploads/2026/04/6909b00d-8daa-4998-ba62-171f0eb524f8.jpg
END:VEVENT
BEGIN:VEVENT
DTSTART;TZID=Europe/Madrid:20261017T235900
DTEND;TZID=Europe/Madrid:20261017T235900
DTSTAMP:20260426T024300
CREATED:20260422T093647Z
LAST-MODIFIED:20260422T093650Z
UID:10025732-1792281540-1792281540@disfruta-denia.com
SUMMARY:Concierto covers
DESCRIPTION:El concierto comienza a las 00h30
URL:https://disfruta-denia.com/evento/homenaje-pop-rock-80-90-2-2-2-2/2026-10-17/
LOCATION:La Chica de ayer\, Calle la mar 30\, Denia\, Alicante\, 03700\, España
CATEGORIES:Concierto,Música,Ocio nocturno
ATTACH;FMTTYPE=image/jpeg:https://disfruta-denia.com/wp-content/uploads/2026/04/1761e8ac-86c2-4f3f-8a68-61a1fc791519.jpg
END:VEVENT
BEGIN:VEVENT
DTSTART;TZID=Europe/Madrid:20261023T235900
DTEND;TZID=Europe/Madrid:20261023T235900
DTSTAMP:20260426T024300
CREATED:20260422T093628Z
LAST-MODIFIED:20260422T093630Z
UID:10025396-1792799940-1792799940@disfruta-denia.com
SUMMARY:Concierto Pop Indie Rock
DESCRIPTION:El concierto empieza las 00h30
URL:https://disfruta-denia.com/evento/concierto-pop-indie-rock-2-2/2026-10-23/
LOCATION:La Chica de ayer\, Calle la mar 30\, Denia\, Alicante\, 03700\, España
CATEGORIES:Concierto,Música,Ocio nocturno
ATTACH;FMTTYPE=image/jpeg:https://disfruta-denia.com/wp-content/uploads/2026/04/6909b00d-8daa-4998-ba62-171f0eb524f8.jpg
END:VEVENT
BEGIN:VEVENT
DTSTART;TZID=Europe/Madrid:20261024T235900
DTEND;TZID=Europe/Madrid:20261024T235900
DTSTAMP:20260426T024300
CREATED:20260422T093647Z
LAST-MODIFIED:20260422T093650Z
UID:10025733-1792886340-1792886340@disfruta-denia.com
SUMMARY:Concierto covers
DESCRIPTION:El concierto comienza a las 00h30
URL:https://disfruta-denia.com/evento/homenaje-pop-rock-80-90-2-2-2-2/2026-10-24/
LOCATION:La Chica de ayer\, Calle la mar 30\, Denia\, Alicante\, 03700\, España
CATEGORIES:Concierto,Música,Ocio nocturno
ATTACH;FMTTYPE=image/jpeg:https://disfruta-denia.com/wp-content/uploads/2026/04/1761e8ac-86c2-4f3f-8a68-61a1fc791519.jpg
END:VEVENT
BEGIN:VEVENT
DTSTART;TZID=Europe/Madrid:20261030T235900
DTEND;TZID=Europe/Madrid:20261030T235900
DTSTAMP:20260426T024300
CREATED:20260422T093628Z
LAST-MODIFIED:20260422T093630Z
UID:10025397-1793404740-1793404740@disfruta-denia.com
SUMMARY:Concierto Pop Indie Rock
DESCRIPTION:El concierto empieza las 00h30
URL:https://disfruta-denia.com/evento/concierto-pop-indie-rock-2-2/2026-10-30/
LOCATION:La Chica de ayer\, Calle la mar 30\, Denia\, Alicante\, 03700\, España
CATEGORIES:Concierto,Música,Ocio nocturno
ATTACH;FMTTYPE=image/jpeg:https://disfruta-denia.com/wp-content/uploads/2026/04/6909b00d-8daa-4998-ba62-171f0eb524f8.jpg
END:VEVENT
BEGIN:VEVENT
DTSTART;TZID=Europe/Madrid:20261031T235900
DTEND;TZID=Europe/Madrid:20261031T235900
DTSTAMP:20260426T024300
CREATED:20260422T093647Z
LAST-MODIFIED:20260422T093650Z
UID:10025734-1793491140-1793491140@disfruta-denia.com
SUMMARY:Concierto covers
DESCRIPTION:El concierto comienza a las 00h30
URL:https://disfruta-denia.com/evento/homenaje-pop-rock-80-90-2-2-2-2/2026-10-31/
LOCATION:La Chica de ayer\, Calle la mar 30\, Denia\, Alicante\, 03700\, España
CATEGORIES:Concierto,Música,Ocio nocturno
ATTACH;FMTTYPE=image/jpeg:https://disfruta-denia.com/wp-content/uploads/2026/04/1761e8ac-86c2-4f3f-8a68-61a1fc791519.jpg
END:VEVENT
END:VCALENDAR