BEGIN:VCALENDAR
VERSION:2.0
PRODID:-//Disfruta Denia - ECPv6.15.20//NONSGML v1.0//EN
CALSCALE:GREGORIAN
METHOD:PUBLISH
X-WR-CALNAME:Disfruta Denia
X-ORIGINAL-URL:https://disfruta-denia.com
X-WR-CALDESC:Eventos para Disfruta Denia
REFRESH-INTERVAL;VALUE=DURATION:PT1H
X-Robots-Tag:noindex
X-PUBLISHED-TTL:PT1H
BEGIN:VTIMEZONE
TZID:Europe/Madrid
BEGIN:DAYLIGHT
TZOFFSETFROM:+0100
TZOFFSETTO:+0200
TZNAME:CEST
DTSTART:20250330T010000
END:DAYLIGHT
BEGIN:STANDARD
TZOFFSETFROM:+0200
TZOFFSETTO:+0100
TZNAME:CET
DTSTART:20251026T010000
END:STANDARD
BEGIN:DAYLIGHT
TZOFFSETFROM:+0100
TZOFFSETTO:+0200
TZNAME:CEST
DTSTART:20260329T010000
END:DAYLIGHT
BEGIN:STANDARD
TZOFFSETFROM:+0200
TZOFFSETTO:+0100
TZNAME:CET
DTSTART:20261025T010000
END:STANDARD
BEGIN:DAYLIGHT
TZOFFSETFROM:+0100
TZOFFSETTO:+0200
TZNAME:CEST
DTSTART:20270328T010000
END:DAYLIGHT
BEGIN:STANDARD
TZOFFSETFROM:+0200
TZOFFSETTO:+0100
TZNAME:CET
DTSTART:20271031T010000
END:STANDARD
END:VTIMEZONE
BEGIN:VEVENT
DTSTART;TZID=Europe/Madrid:20261204T235900
DTEND;TZID=Europe/Madrid:20261204T235900
DTSTAMP:20260426T060850
CREATED:20260422T093628Z
LAST-MODIFIED:20260422T093630Z
UID:10025402-1796428740-1796428740@disfruta-denia.com
SUMMARY:Concierto Pop Indie Rock
DESCRIPTION:El concierto empieza las 00h30
URL:https://disfruta-denia.com/evento/concierto-pop-indie-rock-2-2/2026-12-04/
LOCATION:La Chica de ayer\, Calle la mar 30\, Denia\, Alicante\, 03700\, España
CATEGORIES:Concierto,Música,Ocio nocturno
ATTACH;FMTTYPE=image/jpeg:https://disfruta-denia.com/wp-content/uploads/2026/04/6909b00d-8daa-4998-ba62-171f0eb524f8.jpg
END:VEVENT
BEGIN:VEVENT
DTSTART;TZID=Europe/Madrid:20261205T235900
DTEND;TZID=Europe/Madrid:20261205T235900
DTSTAMP:20260426T060850
CREATED:20260422T093647Z
LAST-MODIFIED:20260422T093650Z
UID:10025739-1796515140-1796515140@disfruta-denia.com
SUMMARY:Concierto covers
DESCRIPTION:El concierto comienza a las 00h30
URL:https://disfruta-denia.com/evento/homenaje-pop-rock-80-90-2-2-2-2/2026-12-05/
LOCATION:La Chica de ayer\, Calle la mar 30\, Denia\, Alicante\, 03700\, España
CATEGORIES:Concierto,Música,Ocio nocturno
ATTACH;FMTTYPE=image/jpeg:https://disfruta-denia.com/wp-content/uploads/2026/04/1761e8ac-86c2-4f3f-8a68-61a1fc791519.jpg
END:VEVENT
BEGIN:VEVENT
DTSTART;TZID=Europe/Madrid:20261211T235900
DTEND;TZID=Europe/Madrid:20261211T235900
DTSTAMP:20260426T060850
CREATED:20260422T093628Z
LAST-MODIFIED:20260422T093630Z
UID:10025403-1797033540-1797033540@disfruta-denia.com
SUMMARY:Concierto Pop Indie Rock
DESCRIPTION:El concierto empieza las 00h30
URL:https://disfruta-denia.com/evento/concierto-pop-indie-rock-2-2/2026-12-11/
LOCATION:La Chica de ayer\, Calle la mar 30\, Denia\, Alicante\, 03700\, España
CATEGORIES:Concierto,Música,Ocio nocturno
ATTACH;FMTTYPE=image/jpeg:https://disfruta-denia.com/wp-content/uploads/2026/04/6909b00d-8daa-4998-ba62-171f0eb524f8.jpg
END:VEVENT
BEGIN:VEVENT
DTSTART;TZID=Europe/Madrid:20261212T235900
DTEND;TZID=Europe/Madrid:20261212T235900
DTSTAMP:20260426T060850
CREATED:20260422T093647Z
LAST-MODIFIED:20260422T093650Z
UID:10025740-1797119940-1797119940@disfruta-denia.com
SUMMARY:Concierto covers
DESCRIPTION:El concierto comienza a las 00h30
URL:https://disfruta-denia.com/evento/homenaje-pop-rock-80-90-2-2-2-2/2026-12-12/
LOCATION:La Chica de ayer\, Calle la mar 30\, Denia\, Alicante\, 03700\, España
CATEGORIES:Concierto,Música,Ocio nocturno
ATTACH;FMTTYPE=image/jpeg:https://disfruta-denia.com/wp-content/uploads/2026/04/1761e8ac-86c2-4f3f-8a68-61a1fc791519.jpg
END:VEVENT
BEGIN:VEVENT
DTSTART;TZID=Europe/Madrid:20261218T235900
DTEND;TZID=Europe/Madrid:20261218T235900
DTSTAMP:20260426T060850
CREATED:20260422T093628Z
LAST-MODIFIED:20260422T093630Z
UID:10025404-1797638340-1797638340@disfruta-denia.com
SUMMARY:Concierto Pop Indie Rock
DESCRIPTION:El concierto empieza las 00h30
URL:https://disfruta-denia.com/evento/concierto-pop-indie-rock-2-2/2026-12-18/
LOCATION:La Chica de ayer\, Calle la mar 30\, Denia\, Alicante\, 03700\, España
CATEGORIES:Concierto,Música,Ocio nocturno
ATTACH;FMTTYPE=image/jpeg:https://disfruta-denia.com/wp-content/uploads/2026/04/6909b00d-8daa-4998-ba62-171f0eb524f8.jpg
END:VEVENT
BEGIN:VEVENT
DTSTART;TZID=Europe/Madrid:20261219T235900
DTEND;TZID=Europe/Madrid:20261219T235900
DTSTAMP:20260426T060850
CREATED:20260422T093647Z
LAST-MODIFIED:20260422T093650Z
UID:10025741-1797724740-1797724740@disfruta-denia.com
SUMMARY:Concierto covers
DESCRIPTION:El concierto comienza a las 00h30
URL:https://disfruta-denia.com/evento/homenaje-pop-rock-80-90-2-2-2-2/2026-12-19/
LOCATION:La Chica de ayer\, Calle la mar 30\, Denia\, Alicante\, 03700\, España
CATEGORIES:Concierto,Música,Ocio nocturno
ATTACH;FMTTYPE=image/jpeg:https://disfruta-denia.com/wp-content/uploads/2026/04/1761e8ac-86c2-4f3f-8a68-61a1fc791519.jpg
END:VEVENT
BEGIN:VEVENT
DTSTART;TZID=Europe/Madrid:20261225T235900
DTEND;TZID=Europe/Madrid:20261225T235900
DTSTAMP:20260426T060850
CREATED:20260422T093628Z
LAST-MODIFIED:20260422T093630Z
UID:10025405-1798243140-1798243140@disfruta-denia.com
SUMMARY:Concierto Pop Indie Rock
DESCRIPTION:El concierto empieza las 00h30
URL:https://disfruta-denia.com/evento/concierto-pop-indie-rock-2-2/2026-12-25/
LOCATION:La Chica de ayer\, Calle la mar 30\, Denia\, Alicante\, 03700\, España
CATEGORIES:Concierto,Música,Ocio nocturno
ATTACH;FMTTYPE=image/jpeg:https://disfruta-denia.com/wp-content/uploads/2026/04/6909b00d-8daa-4998-ba62-171f0eb524f8.jpg
END:VEVENT
BEGIN:VEVENT
DTSTART;TZID=Europe/Madrid:20261226T235900
DTEND;TZID=Europe/Madrid:20261226T235900
DTSTAMP:20260426T060850
CREATED:20260422T093647Z
LAST-MODIFIED:20260422T093650Z
UID:10025742-1798329540-1798329540@disfruta-denia.com
SUMMARY:Concierto covers
DESCRIPTION:El concierto comienza a las 00h30
URL:https://disfruta-denia.com/evento/homenaje-pop-rock-80-90-2-2-2-2/2026-12-26/
LOCATION:La Chica de ayer\, Calle la mar 30\, Denia\, Alicante\, 03700\, España
CATEGORIES:Concierto,Música,Ocio nocturno
ATTACH;FMTTYPE=image/jpeg:https://disfruta-denia.com/wp-content/uploads/2026/04/1761e8ac-86c2-4f3f-8a68-61a1fc791519.jpg
END:VEVENT
END:VCALENDAR