BEGIN:VCALENDAR
VERSION:2.0
PRODID:-//Disfruta Denia - ECPv6.15.20//NONSGML v1.0//EN
CALSCALE:GREGORIAN
METHOD:PUBLISH
X-ORIGINAL-URL:https://disfruta-denia.com
X-WR-CALDESC:Eventos para Disfruta Denia
REFRESH-INTERVAL;VALUE=DURATION:PT1H
X-Robots-Tag:noindex
X-PUBLISHED-TTL:PT1H
BEGIN:VTIMEZONE
TZID:Europe/Madrid
BEGIN:DAYLIGHT
TZOFFSETFROM:+0100
TZOFFSETTO:+0200
TZNAME:CEST
DTSTART:20220327T010000
END:DAYLIGHT
BEGIN:STANDARD
TZOFFSETFROM:+0200
TZOFFSETTO:+0100
TZNAME:CET
DTSTART:20221030T010000
END:STANDARD
BEGIN:DAYLIGHT
TZOFFSETFROM:+0100
TZOFFSETTO:+0200
TZNAME:CEST
DTSTART:20230326T010000
END:DAYLIGHT
BEGIN:STANDARD
TZOFFSETFROM:+0200
TZOFFSETTO:+0100
TZNAME:CET
DTSTART:20231029T010000
END:STANDARD
BEGIN:DAYLIGHT
TZOFFSETFROM:+0100
TZOFFSETTO:+0200
TZNAME:CEST
DTSTART:20240331T010000
END:DAYLIGHT
BEGIN:STANDARD
TZOFFSETFROM:+0200
TZOFFSETTO:+0100
TZNAME:CET
DTSTART:20241027T010000
END:STANDARD
END:VTIMEZONE
BEGIN:VEVENT
DTSTART;TZID=Europe/Madrid:20230701T180000
DTEND;TZID=Europe/Madrid:20230701T220000
DTSTAMP:20260425T005634
CREATED:20230628T072714Z
LAST-MODIFIED:20230628T072746Z
UID:10012161-1688234400-1688248800@disfruta-denia.com
SUMMARY:Shopping Party
DESCRIPTION:Llega la Shopping Party.  Este fin de semana ven a celebrar con nuestros asociados la fiesta del comercio donde podrás disfrutar de descuentos especiales para esa noche\, batucadas\, regalos y mucho mas…. \nOs esperamos de 18-22h
URL:https://disfruta-denia.com/evento/shopping-party/
LOCATION:Denia\, Denia\, Alicante\, 03700\, España
CATEGORIES:Shopping
ATTACH;FMTTYPE=image/jpeg:https://disfruta-denia.com/wp-content/uploads/2023/06/356875854_999686241002980_8096772962126054933_n.jpg
END:VEVENT
END:VCALENDAR