BEGIN:VCALENDAR
VERSION:2.0
PRODID:-//Disfruta Denia - ECPv6.15.20//NONSGML v1.0//EN
CALSCALE:GREGORIAN
METHOD:PUBLISH
X-WR-CALNAME:Disfruta Denia
X-ORIGINAL-URL:https://disfruta-denia.com
X-WR-CALDESC:Eventos para Disfruta Denia
REFRESH-INTERVAL;VALUE=DURATION:PT1H
X-Robots-Tag:noindex
X-PUBLISHED-TTL:PT1H
BEGIN:VTIMEZONE
TZID:Europe/Madrid
BEGIN:DAYLIGHT
TZOFFSETFROM:+0100
TZOFFSETTO:+0200
TZNAME:CEST
DTSTART:20230326T010000
END:DAYLIGHT
BEGIN:STANDARD
TZOFFSETFROM:+0200
TZOFFSETTO:+0100
TZNAME:CET
DTSTART:20231029T010000
END:STANDARD
BEGIN:DAYLIGHT
TZOFFSETFROM:+0100
TZOFFSETTO:+0200
TZNAME:CEST
DTSTART:20240331T010000
END:DAYLIGHT
BEGIN:STANDARD
TZOFFSETFROM:+0200
TZOFFSETTO:+0100
TZNAME:CET
DTSTART:20241027T010000
END:STANDARD
BEGIN:DAYLIGHT
TZOFFSETFROM:+0100
TZOFFSETTO:+0200
TZNAME:CEST
DTSTART:20250330T010000
END:DAYLIGHT
BEGIN:STANDARD
TZOFFSETFROM:+0200
TZOFFSETTO:+0100
TZNAME:CET
DTSTART:20251026T010000
END:STANDARD
END:VTIMEZONE
BEGIN:VEVENT
DTSTART;TZID=Europe/Madrid:20240504T170000
DTEND;TZID=Europe/Madrid:20240504T203000
DTSTAMP:20260424T065223
CREATED:20240424T110432Z
LAST-MODIFIED:20240424T110432Z
UID:10018207-1714842000-1714854600@disfruta-denia.com
SUMMARY:Día de la Madre “Compra de Flor en Flor”
DESCRIPTION:Pensando en la celebración del día de la madre y la llegada de la primavera\, y con el objetivo de incentivar el comercio local\, la concejala de Comercio del Ajuntament de Dénia\, María José García\, y la presidenta de la Asociación de Comerciantes Autónomos de Dénia (ACADE)\, Paula García\, han presentado hoy miércoles 24 de abril\, la campaña “Compra en Dénia de flor en flor”. Se trata de una iniciativa\, que tendrá lugar entre el 29 de abril y el 4 de mayo\, para celebrar y homenajear a todas las madres en su día especial\, en un día lleno de actividades y eventos en colaboración con los comercios locales. \n“La campaña tiene un objetivo muy claro y valioso: crear valor para nuestros comercios locales\, fidelizar\, atraer y visibilizar las ventajas que ofrece nuestro comercio local. Es una oportunidad no solo para hacer compras\, sino también para disfrutar de un ambiente vibrante y acogedor en nuestras calles”\, ha comentado María José García\, que invita a todos los ciudadanos de Dénia\, visitantes y turistas a disfrutar de un día único recorriendo las tiendas locales y participando en las actividades especiales preparadas para la ocasión. \nCon el objetivo de fomentar y destacar al comercio local\, ACADE ha preparado una serie de acciones y eventos en colaboración con sus comercios asociados. Desde promociones exclusivas y descuentos hasta música\, talleres infantiles\, sorteos\, regalos y muchas más acciones especiales para que todos los asistentes disfruten del evento. \nPaula García\, anima a todos los ciudadanos a unirse a esta celebración “os esperamos a todos y a todas y os invitamos a recorrer Dénia de flor en flor\, disfrutando de las todas las actividades y sorpresas que con tanto cariño hemos preparado desde la asociación para celebrar el Día de la Madre de una manera única y especial”. \nEl sábado 4 de mayo\, de 17.00 horas a 20.30 horas\, Dénia celebrará el Día de la Madre con una multitud de eventos y de actividades a lo largo de muchas calles de la ciudad. Habrá música en directo en las calles Colón y Marqués de Campos\, pintacaras para los niños y un mago recorrerá las calles y comercios asociados ofreciendo trucos de magia y diversión para todos. Además\, se instalarán unos photocalls florales repartidos en cuatro puntos de Dénia y fotomatones en la Calle Marqués de Campos y en el cruce de la Calle Carlos Sent y Cándida Carbonell. Por último\, se desarrollará un taller infantil de decoración de macetas de terracota en la esquina de calle Colón y calle Diana. Para participar en el taller infantil es necesario presentar un ticket de compra de valor igual o superior a 10€ en alguno de los comercios ACADE \nPor último\, la concejala de Comercio ha recordado que esta semana también está en marcha el concurso de escaparates de primavera\, que comenzó el 22 de abril y finaliza el 5 de mayo\, “una oportunidad fantástica para apreciar la creatividad de nuestros comerciantes y sumergirnos en la atmósfera de color y alegría primaveral que embellece nuestras calles”. El Ajuntament entregará sus premios el miércoles 8 de mayo.
URL:https://disfruta-denia.com/evento/dia-de-la-madre-compra-de-flor-en-flor/
LOCATION:Carrer del Marqués de Campo\, Carrer del Marqués de Campo\, Denia\, Alicante\, 03700\, España
CATEGORIES:Shopping
ATTACH;FMTTYPE=image/jpeg:https://disfruta-denia.com/wp-content/uploads/2024/04/6974f1.jpg
END:VEVENT
END:VCALENDAR