BEGIN:VCALENDAR
VERSION:2.0
PRODID:-//Disfruta Denia - ECPv6.15.20//NONSGML v1.0//EN
CALSCALE:GREGORIAN
METHOD:PUBLISH
X-ORIGINAL-URL:https://disfruta-denia.com
X-WR-CALDESC:Eventos para Disfruta Denia
REFRESH-INTERVAL;VALUE=DURATION:PT1H
X-Robots-Tag:noindex
X-PUBLISHED-TTL:PT1H
BEGIN:VTIMEZONE
TZID:Europe/Madrid
BEGIN:DAYLIGHT
TZOFFSETFROM:+0100
TZOFFSETTO:+0200
TZNAME:CEST
DTSTART:20250330T010000
END:DAYLIGHT
BEGIN:STANDARD
TZOFFSETFROM:+0200
TZOFFSETTO:+0100
TZNAME:CET
DTSTART:20251026T010000
END:STANDARD
BEGIN:DAYLIGHT
TZOFFSETFROM:+0100
TZOFFSETTO:+0200
TZNAME:CEST
DTSTART:20260329T010000
END:DAYLIGHT
BEGIN:STANDARD
TZOFFSETFROM:+0200
TZOFFSETTO:+0100
TZNAME:CET
DTSTART:20261025T010000
END:STANDARD
BEGIN:DAYLIGHT
TZOFFSETFROM:+0100
TZOFFSETTO:+0200
TZNAME:CEST
DTSTART:20270328T010000
END:DAYLIGHT
BEGIN:STANDARD
TZOFFSETFROM:+0200
TZOFFSETTO:+0100
TZNAME:CET
DTSTART:20271031T010000
END:STANDARD
END:VTIMEZONE
BEGIN:VEVENT
DTSTART;TZID=Europe/Madrid:20260801T193000
DTEND;TZID=Europe/Madrid:20260801T193000
DTSTAMP:20260426T020342
CREATED:20260422T093637Z
LAST-MODIFIED:20260422T093639Z
UID:10024596-1785612600-1785612600@disfruta-denia.com
SUMMARY:Concierto tardeo versiones en La Chica de Ayer
DESCRIPTION:
URL:https://disfruta-denia.com/evento/concierto-tardeo-en-la-chica-de-ayer-4-3-2-2-2-2-2-2-2-2-2-2-2-2-2-2-2/2026-08-01/
LOCATION:La Chica de ayer\, Calle la mar 30\, Denia\, Alicante\, 03700\, España
CATEGORIES:Concierto,Música,Tardeo
ATTACH;FMTTYPE=image/jpeg:https://disfruta-denia.com/wp-content/uploads/2026/04/1761e8ac-86c2-4f3f-8a68-61a1fc791519.jpg
END:VEVENT
BEGIN:VEVENT
DTSTART;TZID=Europe/Madrid:20260802T160000
DTEND;TZID=Europe/Madrid:20260802T160000
DTSTAMP:20260426T020342
CREATED:20260421T083752Z
LAST-MODIFIED:20260421T083753Z
UID:10022821-1785686400-1785686400@disfruta-denia.com
SUMMARY:Tardeos live Mr Fisher
DESCRIPTION:
URL:https://disfruta-denia.com/evento/tardeos-live-mr-fisher-3-2-3/2026-08-02/
LOCATION:Mr Fisher\, Moll de La Pansa s/n. Marina El Portet\, Denia\, Alicante\, 03700\, España
CATEGORIES:Concierto,Música,Tardeo
ATTACH;FMTTYPE=image/png:https://disfruta-denia.com/wp-content/uploads/2026/04/MRFISHER_LAMOCHA_03_05.png
END:VEVENT
BEGIN:VEVENT
DTSTART;TZID=Europe/Madrid:20260802T160000
DTEND;TZID=Europe/Madrid:20260802T180000
DTSTAMP:20260426T020342
CREATED:20260403T085340Z
LAST-MODIFIED:20260403T090037Z
UID:10026910-1785686400-1785693600@disfruta-denia.com
SUMMARY:Tardeo música en directo en Nomada
DESCRIPTION:
URL:https://disfruta-denia.com/evento/tardeo-musica-en-directo-en-nomada/2026-08-02/
LOCATION:Nomada Restaurante\, 11\, Moll de la Pansa\, Dénia\, 03700\, España
CATEGORIES:Concierto,Música,Tardeo
ATTACH;FMTTYPE=image/jpeg:https://disfruta-denia.com/wp-content/uploads/2026/04/PHOTO-2026-04-03-10-49-20.jpg
END:VEVENT
BEGIN:VEVENT
DTSTART;TZID=Europe/Madrid:20260802T180000
DTEND;TZID=Europe/Madrid:20260802T180000
DTSTAMP:20260426T020342
CREATED:20260409T065357Z
LAST-MODIFIED:20260409T065357Z
UID:10025118-1785693600-1785693600@disfruta-denia.com
SUMMARY:Best Of en concierto
DESCRIPTION:
URL:https://disfruta-denia.com/evento/tardeo-en-la-chica-de-ayer-2-2/2026-08-02/
LOCATION:La Chica de ayer\, Calle la mar 30\, Denia\, Alicante\, 03700\, España
CATEGORIES:Concierto,Música,Tardeo
ATTACH;FMTTYPE=image/jpeg:https://disfruta-denia.com/wp-content/uploads/2026/03/86973c98-373f-4a86-82cf-b7b619475342.jpg
END:VEVENT
BEGIN:VEVENT
DTSTART;TZID=Europe/Madrid:20260803T203000
DTEND;TZID=Europe/Madrid:20260803T203000
DTSTAMP:20260426T020342
CREATED:20260307T125319Z
LAST-MODIFIED:20260307T125319Z
UID:10011561-1785789000-1785789000@disfruta-denia.com
SUMMARY:Tardeo con Marce Pesoa
DESCRIPTION:Esta noche. Tonight. \nLive music 20.30h. \nMarce Pesoa en The Speak Dénia. \nTacos\, Cocktails\, Parrilla \n& la mejor musica 🔥🤘 \nReservas: 675753879 \nLet’s #funmonday today!
URL:https://disfruta-denia.com/evento/tardeo-con-marce-pesoa-2-2/2026-08-03/
LOCATION:The Speak Denia\, Carrer del Pont\, 19\, Denia\, Alicante\, 03700\, España
CATEGORIES:Concierto,Música,Tardeo
ATTACH;FMTTYPE=image/jpeg:https://disfruta-denia.com/wp-content/uploads/2023/06/IMG-20230619-WA0000.jpg
END:VEVENT
BEGIN:VEVENT
DTSTART;TZID=Europe/Madrid:20260805T190000
DTEND;TZID=Europe/Madrid:20260805T210000
DTSTAMP:20260426T020342
CREATED:20260128T085100Z
LAST-MODIFIED:20260128T085100Z
UID:10008419-1785956400-1785963600@disfruta-denia.com
SUMMARY:Tardeo en Basta
DESCRIPTION:
URL:https://disfruta-denia.com/evento/tardeo-en-basta-3-3-2/2026-08-05/
LOCATION:Basta Lounge Bar\, Marina de Dénia\, Local C2\, Denia\, Valencian Community\, 03700\, España
CATEGORIES:Concierto,Música,Tardeo
ATTACH;FMTTYPE=image/jpeg:https://disfruta-denia.com/wp-content/uploads/2023/11/622742350_1496613362465887_1711052853307817582_n.jpg
END:VEVENT
BEGIN:VEVENT
DTSTART;TZID=Europe/Madrid:20260805T193000
DTEND;TZID=Europe/Madrid:20260805T193000
DTSTAMP:20260426T020342
CREATED:20250603T094354Z
LAST-MODIFIED:20250603T094354Z
UID:10021372-1785958200-1785958200@disfruta-denia.com
SUMMARY:Encuentros en Códigos
DESCRIPTION:​¡Bienvenidos a Encuentros en Códigos\, el Meetup internacional semanal en Códigos del Arte!\nNos reunimos todos los miércoles a partir de las 19:30 — toma algo\, relájate\, y disfruta de una buena conversación.\nTodos los miércoles – 19:30\nEntrada: Gratuita
URL:https://disfruta-denia.com/evento/encuentros-en-codigos/2026-08-05/
LOCATION:Códigos del Arte\, Carreró de Morant\, 8\, Dénia\, 03700\, España
CATEGORIES:Tardeo
ATTACH;FMTTYPE=image/png:https://disfruta-denia.com/wp-content/uploads/2025/06/Codigos-del-Arte-20.png
END:VEVENT
BEGIN:VEVENT
DTSTART;TZID=Europe/Madrid:20260808T193000
DTEND;TZID=Europe/Madrid:20260808T193000
DTSTAMP:20260426T020342
CREATED:20260422T093637Z
LAST-MODIFIED:20260422T093639Z
UID:10024597-1786217400-1786217400@disfruta-denia.com
SUMMARY:Concierto tardeo versiones en La Chica de Ayer
DESCRIPTION:
URL:https://disfruta-denia.com/evento/concierto-tardeo-en-la-chica-de-ayer-4-3-2-2-2-2-2-2-2-2-2-2-2-2-2-2-2/2026-08-08/
LOCATION:La Chica de ayer\, Calle la mar 30\, Denia\, Alicante\, 03700\, España
CATEGORIES:Concierto,Música,Tardeo
ATTACH;FMTTYPE=image/jpeg:https://disfruta-denia.com/wp-content/uploads/2026/04/1761e8ac-86c2-4f3f-8a68-61a1fc791519.jpg
END:VEVENT
BEGIN:VEVENT
DTSTART;TZID=Europe/Madrid:20260809T160000
DTEND;TZID=Europe/Madrid:20260809T160000
DTSTAMP:20260426T020342
CREATED:20260421T083752Z
LAST-MODIFIED:20260421T083753Z
UID:10022822-1786291200-1786291200@disfruta-denia.com
SUMMARY:Tardeos live Mr Fisher
DESCRIPTION:
URL:https://disfruta-denia.com/evento/tardeos-live-mr-fisher-3-2-3/2026-08-09/
LOCATION:Mr Fisher\, Moll de La Pansa s/n. Marina El Portet\, Denia\, Alicante\, 03700\, España
CATEGORIES:Concierto,Música,Tardeo
ATTACH;FMTTYPE=image/png:https://disfruta-denia.com/wp-content/uploads/2026/04/MRFISHER_LAMOCHA_03_05.png
END:VEVENT
BEGIN:VEVENT
DTSTART;TZID=Europe/Madrid:20260809T160000
DTEND;TZID=Europe/Madrid:20260809T180000
DTSTAMP:20260426T020342
CREATED:20260403T085340Z
LAST-MODIFIED:20260403T090037Z
UID:10026911-1786291200-1786298400@disfruta-denia.com
SUMMARY:Tardeo música en directo en Nomada
DESCRIPTION:
URL:https://disfruta-denia.com/evento/tardeo-musica-en-directo-en-nomada/2026-08-09/
LOCATION:Nomada Restaurante\, 11\, Moll de la Pansa\, Dénia\, 03700\, España
CATEGORIES:Concierto,Música,Tardeo
ATTACH;FMTTYPE=image/jpeg:https://disfruta-denia.com/wp-content/uploads/2026/04/PHOTO-2026-04-03-10-49-20.jpg
END:VEVENT
BEGIN:VEVENT
DTSTART;TZID=Europe/Madrid:20260809T180000
DTEND;TZID=Europe/Madrid:20260809T180000
DTSTAMP:20260426T020342
CREATED:20260409T065357Z
LAST-MODIFIED:20260409T065357Z
UID:10025119-1786298400-1786298400@disfruta-denia.com
SUMMARY:Best Of en concierto
DESCRIPTION:
URL:https://disfruta-denia.com/evento/tardeo-en-la-chica-de-ayer-2-2/2026-08-09/
LOCATION:La Chica de ayer\, Calle la mar 30\, Denia\, Alicante\, 03700\, España
CATEGORIES:Concierto,Música,Tardeo
ATTACH;FMTTYPE=image/jpeg:https://disfruta-denia.com/wp-content/uploads/2026/03/86973c98-373f-4a86-82cf-b7b619475342.jpg
END:VEVENT
BEGIN:VEVENT
DTSTART;TZID=Europe/Madrid:20260810T203000
DTEND;TZID=Europe/Madrid:20260810T203000
DTSTAMP:20260426T020342
CREATED:20260307T125319Z
LAST-MODIFIED:20260307T125319Z
UID:10011562-1786393800-1786393800@disfruta-denia.com
SUMMARY:Tardeo con Marce Pesoa
DESCRIPTION:Esta noche. Tonight. \nLive music 20.30h. \nMarce Pesoa en The Speak Dénia. \nTacos\, Cocktails\, Parrilla \n& la mejor musica 🔥🤘 \nReservas: 675753879 \nLet’s #funmonday today!
URL:https://disfruta-denia.com/evento/tardeo-con-marce-pesoa-2-2/2026-08-10/
LOCATION:The Speak Denia\, Carrer del Pont\, 19\, Denia\, Alicante\, 03700\, España
CATEGORIES:Concierto,Música,Tardeo
ATTACH;FMTTYPE=image/jpeg:https://disfruta-denia.com/wp-content/uploads/2023/06/IMG-20230619-WA0000.jpg
END:VEVENT
BEGIN:VEVENT
DTSTART;TZID=Europe/Madrid:20260812T190000
DTEND;TZID=Europe/Madrid:20260812T210000
DTSTAMP:20260426T020342
CREATED:20260128T085100Z
LAST-MODIFIED:20260128T085100Z
UID:10008420-1786561200-1786568400@disfruta-denia.com
SUMMARY:Tardeo en Basta
DESCRIPTION:
URL:https://disfruta-denia.com/evento/tardeo-en-basta-3-3-2/2026-08-12/
LOCATION:Basta Lounge Bar\, Marina de Dénia\, Local C2\, Denia\, Valencian Community\, 03700\, España
CATEGORIES:Concierto,Música,Tardeo
ATTACH;FMTTYPE=image/jpeg:https://disfruta-denia.com/wp-content/uploads/2023/11/622742350_1496613362465887_1711052853307817582_n.jpg
END:VEVENT
BEGIN:VEVENT
DTSTART;TZID=Europe/Madrid:20260812T193000
DTEND;TZID=Europe/Madrid:20260812T193000
DTSTAMP:20260426T020342
CREATED:20250603T094354Z
LAST-MODIFIED:20250603T094354Z
UID:10021373-1786563000-1786563000@disfruta-denia.com
SUMMARY:Encuentros en Códigos
DESCRIPTION:​¡Bienvenidos a Encuentros en Códigos\, el Meetup internacional semanal en Códigos del Arte!\nNos reunimos todos los miércoles a partir de las 19:30 — toma algo\, relájate\, y disfruta de una buena conversación.\nTodos los miércoles – 19:30\nEntrada: Gratuita
URL:https://disfruta-denia.com/evento/encuentros-en-codigos/2026-08-12/
LOCATION:Códigos del Arte\, Carreró de Morant\, 8\, Dénia\, 03700\, España
CATEGORIES:Tardeo
ATTACH;FMTTYPE=image/png:https://disfruta-denia.com/wp-content/uploads/2025/06/Codigos-del-Arte-20.png
END:VEVENT
BEGIN:VEVENT
DTSTART;TZID=Europe/Madrid:20260815T193000
DTEND;TZID=Europe/Madrid:20260815T193000
DTSTAMP:20260426T020342
CREATED:20260422T093637Z
LAST-MODIFIED:20260422T093639Z
UID:10024598-1786822200-1786822200@disfruta-denia.com
SUMMARY:Concierto tardeo versiones en La Chica de Ayer
DESCRIPTION:
URL:https://disfruta-denia.com/evento/concierto-tardeo-en-la-chica-de-ayer-4-3-2-2-2-2-2-2-2-2-2-2-2-2-2-2-2/2026-08-15/
LOCATION:La Chica de ayer\, Calle la mar 30\, Denia\, Alicante\, 03700\, España
CATEGORIES:Concierto,Música,Tardeo
ATTACH;FMTTYPE=image/jpeg:https://disfruta-denia.com/wp-content/uploads/2026/04/1761e8ac-86c2-4f3f-8a68-61a1fc791519.jpg
END:VEVENT
BEGIN:VEVENT
DTSTART;TZID=Europe/Madrid:20260816T160000
DTEND;TZID=Europe/Madrid:20260816T160000
DTSTAMP:20260426T020342
CREATED:20260421T083752Z
LAST-MODIFIED:20260421T083753Z
UID:10022823-1786896000-1786896000@disfruta-denia.com
SUMMARY:Tardeos live Mr Fisher
DESCRIPTION:
URL:https://disfruta-denia.com/evento/tardeos-live-mr-fisher-3-2-3/2026-08-16/
LOCATION:Mr Fisher\, Moll de La Pansa s/n. Marina El Portet\, Denia\, Alicante\, 03700\, España
CATEGORIES:Concierto,Música,Tardeo
ATTACH;FMTTYPE=image/png:https://disfruta-denia.com/wp-content/uploads/2026/04/MRFISHER_LAMOCHA_03_05.png
END:VEVENT
BEGIN:VEVENT
DTSTART;TZID=Europe/Madrid:20260816T160000
DTEND;TZID=Europe/Madrid:20260816T180000
DTSTAMP:20260426T020342
CREATED:20260403T085340Z
LAST-MODIFIED:20260403T090037Z
UID:10026912-1786896000-1786903200@disfruta-denia.com
SUMMARY:Tardeo música en directo en Nomada
DESCRIPTION:
URL:https://disfruta-denia.com/evento/tardeo-musica-en-directo-en-nomada/2026-08-16/
LOCATION:Nomada Restaurante\, 11\, Moll de la Pansa\, Dénia\, 03700\, España
CATEGORIES:Concierto,Música,Tardeo
ATTACH;FMTTYPE=image/jpeg:https://disfruta-denia.com/wp-content/uploads/2026/04/PHOTO-2026-04-03-10-49-20.jpg
END:VEVENT
BEGIN:VEVENT
DTSTART;TZID=Europe/Madrid:20260816T180000
DTEND;TZID=Europe/Madrid:20260816T180000
DTSTAMP:20260426T020342
CREATED:20260409T065357Z
LAST-MODIFIED:20260409T065357Z
UID:10025120-1786903200-1786903200@disfruta-denia.com
SUMMARY:Best Of en concierto
DESCRIPTION:
URL:https://disfruta-denia.com/evento/tardeo-en-la-chica-de-ayer-2-2/2026-08-16/
LOCATION:La Chica de ayer\, Calle la mar 30\, Denia\, Alicante\, 03700\, España
CATEGORIES:Concierto,Música,Tardeo
ATTACH;FMTTYPE=image/jpeg:https://disfruta-denia.com/wp-content/uploads/2026/03/86973c98-373f-4a86-82cf-b7b619475342.jpg
END:VEVENT
BEGIN:VEVENT
DTSTART;TZID=Europe/Madrid:20260817T203000
DTEND;TZID=Europe/Madrid:20260817T203000
DTSTAMP:20260426T020342
CREATED:20260307T125319Z
LAST-MODIFIED:20260307T125319Z
UID:10011563-1786998600-1786998600@disfruta-denia.com
SUMMARY:Tardeo con Marce Pesoa
DESCRIPTION:Esta noche. Tonight. \nLive music 20.30h. \nMarce Pesoa en The Speak Dénia. \nTacos\, Cocktails\, Parrilla \n& la mejor musica 🔥🤘 \nReservas: 675753879 \nLet’s #funmonday today!
URL:https://disfruta-denia.com/evento/tardeo-con-marce-pesoa-2-2/2026-08-17/
LOCATION:The Speak Denia\, Carrer del Pont\, 19\, Denia\, Alicante\, 03700\, España
CATEGORIES:Concierto,Música,Tardeo
ATTACH;FMTTYPE=image/jpeg:https://disfruta-denia.com/wp-content/uploads/2023/06/IMG-20230619-WA0000.jpg
END:VEVENT
BEGIN:VEVENT
DTSTART;TZID=Europe/Madrid:20260819T190000
DTEND;TZID=Europe/Madrid:20260819T210000
DTSTAMP:20260426T020342
CREATED:20260128T085100Z
LAST-MODIFIED:20260128T085100Z
UID:10008421-1787166000-1787173200@disfruta-denia.com
SUMMARY:Tardeo en Basta
DESCRIPTION:
URL:https://disfruta-denia.com/evento/tardeo-en-basta-3-3-2/2026-08-19/
LOCATION:Basta Lounge Bar\, Marina de Dénia\, Local C2\, Denia\, Valencian Community\, 03700\, España
CATEGORIES:Concierto,Música,Tardeo
ATTACH;FMTTYPE=image/jpeg:https://disfruta-denia.com/wp-content/uploads/2023/11/622742350_1496613362465887_1711052853307817582_n.jpg
END:VEVENT
BEGIN:VEVENT
DTSTART;TZID=Europe/Madrid:20260819T193000
DTEND;TZID=Europe/Madrid:20260819T193000
DTSTAMP:20260426T020342
CREATED:20250603T094354Z
LAST-MODIFIED:20250603T094354Z
UID:10021374-1787167800-1787167800@disfruta-denia.com
SUMMARY:Encuentros en Códigos
DESCRIPTION:​¡Bienvenidos a Encuentros en Códigos\, el Meetup internacional semanal en Códigos del Arte!\nNos reunimos todos los miércoles a partir de las 19:30 — toma algo\, relájate\, y disfruta de una buena conversación.\nTodos los miércoles – 19:30\nEntrada: Gratuita
URL:https://disfruta-denia.com/evento/encuentros-en-codigos/2026-08-19/
LOCATION:Códigos del Arte\, Carreró de Morant\, 8\, Dénia\, 03700\, España
CATEGORIES:Tardeo
ATTACH;FMTTYPE=image/png:https://disfruta-denia.com/wp-content/uploads/2025/06/Codigos-del-Arte-20.png
END:VEVENT
BEGIN:VEVENT
DTSTART;TZID=Europe/Madrid:20260822T193000
DTEND;TZID=Europe/Madrid:20260822T193000
DTSTAMP:20260426T020342
CREATED:20260422T093637Z
LAST-MODIFIED:20260422T093639Z
UID:10024599-1787427000-1787427000@disfruta-denia.com
SUMMARY:Concierto tardeo versiones en La Chica de Ayer
DESCRIPTION:
URL:https://disfruta-denia.com/evento/concierto-tardeo-en-la-chica-de-ayer-4-3-2-2-2-2-2-2-2-2-2-2-2-2-2-2-2/2026-08-22/
LOCATION:La Chica de ayer\, Calle la mar 30\, Denia\, Alicante\, 03700\, España
CATEGORIES:Concierto,Música,Tardeo
ATTACH;FMTTYPE=image/jpeg:https://disfruta-denia.com/wp-content/uploads/2026/04/1761e8ac-86c2-4f3f-8a68-61a1fc791519.jpg
END:VEVENT
BEGIN:VEVENT
DTSTART;TZID=Europe/Madrid:20260823T160000
DTEND;TZID=Europe/Madrid:20260823T160000
DTSTAMP:20260426T020342
CREATED:20260421T083752Z
LAST-MODIFIED:20260421T083753Z
UID:10022824-1787500800-1787500800@disfruta-denia.com
SUMMARY:Tardeos live Mr Fisher
DESCRIPTION:
URL:https://disfruta-denia.com/evento/tardeos-live-mr-fisher-3-2-3/2026-08-23/
LOCATION:Mr Fisher\, Moll de La Pansa s/n. Marina El Portet\, Denia\, Alicante\, 03700\, España
CATEGORIES:Concierto,Música,Tardeo
ATTACH;FMTTYPE=image/png:https://disfruta-denia.com/wp-content/uploads/2026/04/MRFISHER_LAMOCHA_03_05.png
END:VEVENT
BEGIN:VEVENT
DTSTART;TZID=Europe/Madrid:20260823T160000
DTEND;TZID=Europe/Madrid:20260823T180000
DTSTAMP:20260426T020342
CREATED:20260403T085340Z
LAST-MODIFIED:20260403T090037Z
UID:10026913-1787500800-1787508000@disfruta-denia.com
SUMMARY:Tardeo música en directo en Nomada
DESCRIPTION:
URL:https://disfruta-denia.com/evento/tardeo-musica-en-directo-en-nomada/2026-08-23/
LOCATION:Nomada Restaurante\, 11\, Moll de la Pansa\, Dénia\, 03700\, España
CATEGORIES:Concierto,Música,Tardeo
ATTACH;FMTTYPE=image/jpeg:https://disfruta-denia.com/wp-content/uploads/2026/04/PHOTO-2026-04-03-10-49-20.jpg
END:VEVENT
BEGIN:VEVENT
DTSTART;TZID=Europe/Madrid:20260823T180000
DTEND;TZID=Europe/Madrid:20260823T180000
DTSTAMP:20260426T020342
CREATED:20260409T065357Z
LAST-MODIFIED:20260409T065357Z
UID:10025121-1787508000-1787508000@disfruta-denia.com
SUMMARY:Best Of en concierto
DESCRIPTION:
URL:https://disfruta-denia.com/evento/tardeo-en-la-chica-de-ayer-2-2/2026-08-23/
LOCATION:La Chica de ayer\, Calle la mar 30\, Denia\, Alicante\, 03700\, España
CATEGORIES:Concierto,Música,Tardeo
ATTACH;FMTTYPE=image/jpeg:https://disfruta-denia.com/wp-content/uploads/2026/03/86973c98-373f-4a86-82cf-b7b619475342.jpg
END:VEVENT
BEGIN:VEVENT
DTSTART;TZID=Europe/Madrid:20260824T203000
DTEND;TZID=Europe/Madrid:20260824T203000
DTSTAMP:20260426T020342
CREATED:20260307T125319Z
LAST-MODIFIED:20260307T125319Z
UID:10011564-1787603400-1787603400@disfruta-denia.com
SUMMARY:Tardeo con Marce Pesoa
DESCRIPTION:Esta noche. Tonight. \nLive music 20.30h. \nMarce Pesoa en The Speak Dénia. \nTacos\, Cocktails\, Parrilla \n& la mejor musica 🔥🤘 \nReservas: 675753879 \nLet’s #funmonday today!
URL:https://disfruta-denia.com/evento/tardeo-con-marce-pesoa-2-2/2026-08-24/
LOCATION:The Speak Denia\, Carrer del Pont\, 19\, Denia\, Alicante\, 03700\, España
CATEGORIES:Concierto,Música,Tardeo
ATTACH;FMTTYPE=image/jpeg:https://disfruta-denia.com/wp-content/uploads/2023/06/IMG-20230619-WA0000.jpg
END:VEVENT
BEGIN:VEVENT
DTSTART;TZID=Europe/Madrid:20260826T190000
DTEND;TZID=Europe/Madrid:20260826T210000
DTSTAMP:20260426T020342
CREATED:20260128T085100Z
LAST-MODIFIED:20260128T085100Z
UID:10008422-1787770800-1787778000@disfruta-denia.com
SUMMARY:Tardeo en Basta
DESCRIPTION:
URL:https://disfruta-denia.com/evento/tardeo-en-basta-3-3-2/2026-08-26/
LOCATION:Basta Lounge Bar\, Marina de Dénia\, Local C2\, Denia\, Valencian Community\, 03700\, España
CATEGORIES:Concierto,Música,Tardeo
ATTACH;FMTTYPE=image/jpeg:https://disfruta-denia.com/wp-content/uploads/2023/11/622742350_1496613362465887_1711052853307817582_n.jpg
END:VEVENT
BEGIN:VEVENT
DTSTART;TZID=Europe/Madrid:20260826T193000
DTEND;TZID=Europe/Madrid:20260826T193000
DTSTAMP:20260426T020342
CREATED:20250603T094354Z
LAST-MODIFIED:20250603T094354Z
UID:10021375-1787772600-1787772600@disfruta-denia.com
SUMMARY:Encuentros en Códigos
DESCRIPTION:​¡Bienvenidos a Encuentros en Códigos\, el Meetup internacional semanal en Códigos del Arte!\nNos reunimos todos los miércoles a partir de las 19:30 — toma algo\, relájate\, y disfruta de una buena conversación.\nTodos los miércoles – 19:30\nEntrada: Gratuita
URL:https://disfruta-denia.com/evento/encuentros-en-codigos/2026-08-26/
LOCATION:Códigos del Arte\, Carreró de Morant\, 8\, Dénia\, 03700\, España
CATEGORIES:Tardeo
ATTACH;FMTTYPE=image/png:https://disfruta-denia.com/wp-content/uploads/2025/06/Codigos-del-Arte-20.png
END:VEVENT
BEGIN:VEVENT
DTSTART;TZID=Europe/Madrid:20260829T193000
DTEND;TZID=Europe/Madrid:20260829T193000
DTSTAMP:20260426T020342
CREATED:20260422T093637Z
LAST-MODIFIED:20260422T093639Z
UID:10024600-1788031800-1788031800@disfruta-denia.com
SUMMARY:Concierto tardeo versiones en La Chica de Ayer
DESCRIPTION:
URL:https://disfruta-denia.com/evento/concierto-tardeo-en-la-chica-de-ayer-4-3-2-2-2-2-2-2-2-2-2-2-2-2-2-2-2/2026-08-29/
LOCATION:La Chica de ayer\, Calle la mar 30\, Denia\, Alicante\, 03700\, España
CATEGORIES:Concierto,Música,Tardeo
ATTACH;FMTTYPE=image/jpeg:https://disfruta-denia.com/wp-content/uploads/2026/04/1761e8ac-86c2-4f3f-8a68-61a1fc791519.jpg
END:VEVENT
BEGIN:VEVENT
DTSTART;TZID=Europe/Madrid:20260830T160000
DTEND;TZID=Europe/Madrid:20260830T160000
DTSTAMP:20260426T020342
CREATED:20260421T083752Z
LAST-MODIFIED:20260421T083753Z
UID:10022825-1788105600-1788105600@disfruta-denia.com
SUMMARY:Tardeos live Mr Fisher
DESCRIPTION:
URL:https://disfruta-denia.com/evento/tardeos-live-mr-fisher-3-2-3/2026-08-30/
LOCATION:Mr Fisher\, Moll de La Pansa s/n. Marina El Portet\, Denia\, Alicante\, 03700\, España
CATEGORIES:Concierto,Música,Tardeo
ATTACH;FMTTYPE=image/png:https://disfruta-denia.com/wp-content/uploads/2026/04/MRFISHER_LAMOCHA_03_05.png
END:VEVENT
END:VCALENDAR