BEGIN:VCALENDAR
VERSION:2.0
PRODID:-//Disfruta Denia - ECPv6.15.20//NONSGML v1.0//EN
CALSCALE:GREGORIAN
METHOD:PUBLISH
X-WR-CALNAME:Disfruta Denia
X-ORIGINAL-URL:https://disfruta-denia.com
X-WR-CALDESC:Eventos para Disfruta Denia
REFRESH-INTERVAL;VALUE=DURATION:PT1H
X-Robots-Tag:noindex
X-PUBLISHED-TTL:PT1H
BEGIN:VTIMEZONE
TZID:Europe/Madrid
BEGIN:DAYLIGHT
TZOFFSETFROM:+0100
TZOFFSETTO:+0200
TZNAME:CEST
DTSTART:20250330T010000
END:DAYLIGHT
BEGIN:STANDARD
TZOFFSETFROM:+0200
TZOFFSETTO:+0100
TZNAME:CET
DTSTART:20251026T010000
END:STANDARD
BEGIN:DAYLIGHT
TZOFFSETFROM:+0100
TZOFFSETTO:+0200
TZNAME:CEST
DTSTART:20260329T010000
END:DAYLIGHT
BEGIN:STANDARD
TZOFFSETFROM:+0200
TZOFFSETTO:+0100
TZNAME:CET
DTSTART:20261025T010000
END:STANDARD
BEGIN:DAYLIGHT
TZOFFSETFROM:+0100
TZOFFSETTO:+0200
TZNAME:CEST
DTSTART:20270328T010000
END:DAYLIGHT
BEGIN:STANDARD
TZOFFSETFROM:+0200
TZOFFSETTO:+0100
TZNAME:CET
DTSTART:20271031T010000
END:STANDARD
END:VTIMEZONE
BEGIN:VEVENT
DTSTART;TZID=Europe/Madrid:20260902T190000
DTEND;TZID=Europe/Madrid:20260902T210000
DTSTAMP:20260426T032636
CREATED:20260128T085100Z
LAST-MODIFIED:20260128T085100Z
UID:10008423-1788375600-1788382800@disfruta-denia.com
SUMMARY:Tardeo en Basta
DESCRIPTION:
URL:https://disfruta-denia.com/evento/tardeo-en-basta-3-3-2/2026-09-02/
LOCATION:Basta Lounge Bar\, Marina de Dénia\, Local C2\, Denia\, Valencian Community\, 03700\, España
CATEGORIES:Concierto,Música,Tardeo
ATTACH;FMTTYPE=image/jpeg:https://disfruta-denia.com/wp-content/uploads/2023/11/622742350_1496613362465887_1711052853307817582_n.jpg
END:VEVENT
BEGIN:VEVENT
DTSTART;TZID=Europe/Madrid:20260902T193000
DTEND;TZID=Europe/Madrid:20260902T193000
DTSTAMP:20260426T032636
CREATED:20250603T094354Z
LAST-MODIFIED:20250603T094354Z
UID:10021376-1788377400-1788377400@disfruta-denia.com
SUMMARY:Encuentros en Códigos
DESCRIPTION:​¡Bienvenidos a Encuentros en Códigos\, el Meetup internacional semanal en Códigos del Arte!\nNos reunimos todos los miércoles a partir de las 19:30 — toma algo\, relájate\, y disfruta de una buena conversación.\nTodos los miércoles – 19:30\nEntrada: Gratuita
URL:https://disfruta-denia.com/evento/encuentros-en-codigos/2026-09-02/
LOCATION:Códigos del Arte\, Carreró de Morant\, 8\, Dénia\, 03700\, España
CATEGORIES:Tardeo
ATTACH;FMTTYPE=image/png:https://disfruta-denia.com/wp-content/uploads/2025/06/Codigos-del-Arte-20.png
END:VEVENT
BEGIN:VEVENT
DTSTART;TZID=Europe/Madrid:20260905T193000
DTEND;TZID=Europe/Madrid:20260905T193000
DTSTAMP:20260426T032636
CREATED:20260422T093637Z
LAST-MODIFIED:20260422T093639Z
UID:10024601-1788636600-1788636600@disfruta-denia.com
SUMMARY:Concierto tardeo versiones en La Chica de Ayer
DESCRIPTION:
URL:https://disfruta-denia.com/evento/concierto-tardeo-en-la-chica-de-ayer-4-3-2-2-2-2-2-2-2-2-2-2-2-2-2-2-2/2026-09-05/
LOCATION:La Chica de ayer\, Calle la mar 30\, Denia\, Alicante\, 03700\, España
CATEGORIES:Concierto,Música,Tardeo
ATTACH;FMTTYPE=image/jpeg:https://disfruta-denia.com/wp-content/uploads/2026/04/1761e8ac-86c2-4f3f-8a68-61a1fc791519.jpg
END:VEVENT
BEGIN:VEVENT
DTSTART;TZID=Europe/Madrid:20260906T160000
DTEND;TZID=Europe/Madrid:20260906T160000
DTSTAMP:20260426T032636
CREATED:20260421T083752Z
LAST-MODIFIED:20260421T083753Z
UID:10022826-1788710400-1788710400@disfruta-denia.com
SUMMARY:Tardeos live Mr Fisher
DESCRIPTION:
URL:https://disfruta-denia.com/evento/tardeos-live-mr-fisher-3-2-3/2026-09-06/
LOCATION:Mr Fisher\, Moll de La Pansa s/n. Marina El Portet\, Denia\, Alicante\, 03700\, España
CATEGORIES:Concierto,Música,Tardeo
ATTACH;FMTTYPE=image/png:https://disfruta-denia.com/wp-content/uploads/2026/04/MRFISHER_LAMOCHA_03_05.png
END:VEVENT
BEGIN:VEVENT
DTSTART;TZID=Europe/Madrid:20260906T160000
DTEND;TZID=Europe/Madrid:20260906T180000
DTSTAMP:20260426T032636
CREATED:20260403T085340Z
LAST-MODIFIED:20260403T090037Z
UID:10026915-1788710400-1788717600@disfruta-denia.com
SUMMARY:Tardeo música en directo en Nomada
DESCRIPTION:
URL:https://disfruta-denia.com/evento/tardeo-musica-en-directo-en-nomada/2026-09-06/
LOCATION:Nomada Restaurante\, 11\, Moll de la Pansa\, Dénia\, 03700\, España
CATEGORIES:Concierto,Música,Tardeo
ATTACH;FMTTYPE=image/jpeg:https://disfruta-denia.com/wp-content/uploads/2026/04/PHOTO-2026-04-03-10-49-20.jpg
END:VEVENT
BEGIN:VEVENT
DTSTART;TZID=Europe/Madrid:20260906T180000
DTEND;TZID=Europe/Madrid:20260906T180000
DTSTAMP:20260426T032636
CREATED:20260409T065357Z
LAST-MODIFIED:20260409T065357Z
UID:10025123-1788717600-1788717600@disfruta-denia.com
SUMMARY:Best Of en concierto
DESCRIPTION:
URL:https://disfruta-denia.com/evento/tardeo-en-la-chica-de-ayer-2-2/2026-09-06/
LOCATION:La Chica de ayer\, Calle la mar 30\, Denia\, Alicante\, 03700\, España
CATEGORIES:Concierto,Música,Tardeo
ATTACH;FMTTYPE=image/jpeg:https://disfruta-denia.com/wp-content/uploads/2026/03/86973c98-373f-4a86-82cf-b7b619475342.jpg
END:VEVENT
BEGIN:VEVENT
DTSTART;TZID=Europe/Madrid:20260907T203000
DTEND;TZID=Europe/Madrid:20260907T203000
DTSTAMP:20260426T032636
CREATED:20260307T125319Z
LAST-MODIFIED:20260307T125319Z
UID:10011566-1788813000-1788813000@disfruta-denia.com
SUMMARY:Tardeo con Marce Pesoa
DESCRIPTION:Esta noche. Tonight. \nLive music 20.30h. \nMarce Pesoa en The Speak Dénia. \nTacos\, Cocktails\, Parrilla \n& la mejor musica 🔥🤘 \nReservas: 675753879 \nLet’s #funmonday today!
URL:https://disfruta-denia.com/evento/tardeo-con-marce-pesoa-2-2/2026-09-07/
LOCATION:The Speak Denia\, Carrer del Pont\, 19\, Denia\, Alicante\, 03700\, España
CATEGORIES:Concierto,Música,Tardeo
ATTACH;FMTTYPE=image/jpeg:https://disfruta-denia.com/wp-content/uploads/2023/06/IMG-20230619-WA0000.jpg
END:VEVENT
BEGIN:VEVENT
DTSTART;TZID=Europe/Madrid:20260909T190000
DTEND;TZID=Europe/Madrid:20260909T210000
DTSTAMP:20260426T032636
CREATED:20260128T085100Z
LAST-MODIFIED:20260128T085100Z
UID:10008424-1788980400-1788987600@disfruta-denia.com
SUMMARY:Tardeo en Basta
DESCRIPTION:
URL:https://disfruta-denia.com/evento/tardeo-en-basta-3-3-2/2026-09-09/
LOCATION:Basta Lounge Bar\, Marina de Dénia\, Local C2\, Denia\, Valencian Community\, 03700\, España
CATEGORIES:Concierto,Música,Tardeo
ATTACH;FMTTYPE=image/jpeg:https://disfruta-denia.com/wp-content/uploads/2023/11/622742350_1496613362465887_1711052853307817582_n.jpg
END:VEVENT
BEGIN:VEVENT
DTSTART;TZID=Europe/Madrid:20260909T193000
DTEND;TZID=Europe/Madrid:20260909T193000
DTSTAMP:20260426T032636
CREATED:20250603T094354Z
LAST-MODIFIED:20250603T094354Z
UID:10021377-1788982200-1788982200@disfruta-denia.com
SUMMARY:Encuentros en Códigos
DESCRIPTION:​¡Bienvenidos a Encuentros en Códigos\, el Meetup internacional semanal en Códigos del Arte!\nNos reunimos todos los miércoles a partir de las 19:30 — toma algo\, relájate\, y disfruta de una buena conversación.\nTodos los miércoles – 19:30\nEntrada: Gratuita
URL:https://disfruta-denia.com/evento/encuentros-en-codigos/2026-09-09/
LOCATION:Códigos del Arte\, Carreró de Morant\, 8\, Dénia\, 03700\, España
CATEGORIES:Tardeo
ATTACH;FMTTYPE=image/png:https://disfruta-denia.com/wp-content/uploads/2025/06/Codigos-del-Arte-20.png
END:VEVENT
BEGIN:VEVENT
DTSTART;TZID=Europe/Madrid:20260912T193000
DTEND;TZID=Europe/Madrid:20260912T193000
DTSTAMP:20260426T032636
CREATED:20260422T093637Z
LAST-MODIFIED:20260422T093639Z
UID:10024602-1789241400-1789241400@disfruta-denia.com
SUMMARY:Concierto tardeo versiones en La Chica de Ayer
DESCRIPTION:
URL:https://disfruta-denia.com/evento/concierto-tardeo-en-la-chica-de-ayer-4-3-2-2-2-2-2-2-2-2-2-2-2-2-2-2-2/2026-09-12/
LOCATION:La Chica de ayer\, Calle la mar 30\, Denia\, Alicante\, 03700\, España
CATEGORIES:Concierto,Música,Tardeo
ATTACH;FMTTYPE=image/jpeg:https://disfruta-denia.com/wp-content/uploads/2026/04/1761e8ac-86c2-4f3f-8a68-61a1fc791519.jpg
END:VEVENT
BEGIN:VEVENT
DTSTART;TZID=Europe/Madrid:20260913T160000
DTEND;TZID=Europe/Madrid:20260913T160000
DTSTAMP:20260426T032636
CREATED:20260421T083752Z
LAST-MODIFIED:20260421T083753Z
UID:10022827-1789315200-1789315200@disfruta-denia.com
SUMMARY:Tardeos live Mr Fisher
DESCRIPTION:
URL:https://disfruta-denia.com/evento/tardeos-live-mr-fisher-3-2-3/2026-09-13/
LOCATION:Mr Fisher\, Moll de La Pansa s/n. Marina El Portet\, Denia\, Alicante\, 03700\, España
CATEGORIES:Concierto,Música,Tardeo
ATTACH;FMTTYPE=image/png:https://disfruta-denia.com/wp-content/uploads/2026/04/MRFISHER_LAMOCHA_03_05.png
END:VEVENT
BEGIN:VEVENT
DTSTART;TZID=Europe/Madrid:20260913T160000
DTEND;TZID=Europe/Madrid:20260913T180000
DTSTAMP:20260426T032636
CREATED:20260403T085340Z
LAST-MODIFIED:20260403T090037Z
UID:10026916-1789315200-1789322400@disfruta-denia.com
SUMMARY:Tardeo música en directo en Nomada
DESCRIPTION:
URL:https://disfruta-denia.com/evento/tardeo-musica-en-directo-en-nomada/2026-09-13/
LOCATION:Nomada Restaurante\, 11\, Moll de la Pansa\, Dénia\, 03700\, España
CATEGORIES:Concierto,Música,Tardeo
ATTACH;FMTTYPE=image/jpeg:https://disfruta-denia.com/wp-content/uploads/2026/04/PHOTO-2026-04-03-10-49-20.jpg
END:VEVENT
BEGIN:VEVENT
DTSTART;TZID=Europe/Madrid:20260913T180000
DTEND;TZID=Europe/Madrid:20260913T180000
DTSTAMP:20260426T032636
CREATED:20260409T065357Z
LAST-MODIFIED:20260409T065357Z
UID:10025124-1789322400-1789322400@disfruta-denia.com
SUMMARY:Best Of en concierto
DESCRIPTION:
URL:https://disfruta-denia.com/evento/tardeo-en-la-chica-de-ayer-2-2/2026-09-13/
LOCATION:La Chica de ayer\, Calle la mar 30\, Denia\, Alicante\, 03700\, España
CATEGORIES:Concierto,Música,Tardeo
ATTACH;FMTTYPE=image/jpeg:https://disfruta-denia.com/wp-content/uploads/2026/03/86973c98-373f-4a86-82cf-b7b619475342.jpg
END:VEVENT
BEGIN:VEVENT
DTSTART;TZID=Europe/Madrid:20260914T203000
DTEND;TZID=Europe/Madrid:20260914T203000
DTSTAMP:20260426T032636
CREATED:20260307T125319Z
LAST-MODIFIED:20260307T125319Z
UID:10011567-1789417800-1789417800@disfruta-denia.com
SUMMARY:Tardeo con Marce Pesoa
DESCRIPTION:Esta noche. Tonight. \nLive music 20.30h. \nMarce Pesoa en The Speak Dénia. \nTacos\, Cocktails\, Parrilla \n& la mejor musica 🔥🤘 \nReservas: 675753879 \nLet’s #funmonday today!
URL:https://disfruta-denia.com/evento/tardeo-con-marce-pesoa-2-2/2026-09-14/
LOCATION:The Speak Denia\, Carrer del Pont\, 19\, Denia\, Alicante\, 03700\, España
CATEGORIES:Concierto,Música,Tardeo
ATTACH;FMTTYPE=image/jpeg:https://disfruta-denia.com/wp-content/uploads/2023/06/IMG-20230619-WA0000.jpg
END:VEVENT
BEGIN:VEVENT
DTSTART;TZID=Europe/Madrid:20260916T190000
DTEND;TZID=Europe/Madrid:20260916T210000
DTSTAMP:20260426T032636
CREATED:20260128T085100Z
LAST-MODIFIED:20260128T085100Z
UID:10008425-1789585200-1789592400@disfruta-denia.com
SUMMARY:Tardeo en Basta
DESCRIPTION:
URL:https://disfruta-denia.com/evento/tardeo-en-basta-3-3-2/2026-09-16/
LOCATION:Basta Lounge Bar\, Marina de Dénia\, Local C2\, Denia\, Valencian Community\, 03700\, España
CATEGORIES:Concierto,Música,Tardeo
ATTACH;FMTTYPE=image/jpeg:https://disfruta-denia.com/wp-content/uploads/2023/11/622742350_1496613362465887_1711052853307817582_n.jpg
END:VEVENT
BEGIN:VEVENT
DTSTART;TZID=Europe/Madrid:20260916T193000
DTEND;TZID=Europe/Madrid:20260916T193000
DTSTAMP:20260426T032636
CREATED:20250603T094354Z
LAST-MODIFIED:20250603T094354Z
UID:10021378-1789587000-1789587000@disfruta-denia.com
SUMMARY:Encuentros en Códigos
DESCRIPTION:​¡Bienvenidos a Encuentros en Códigos\, el Meetup internacional semanal en Códigos del Arte!\nNos reunimos todos los miércoles a partir de las 19:30 — toma algo\, relájate\, y disfruta de una buena conversación.\nTodos los miércoles – 19:30\nEntrada: Gratuita
URL:https://disfruta-denia.com/evento/encuentros-en-codigos/2026-09-16/
LOCATION:Códigos del Arte\, Carreró de Morant\, 8\, Dénia\, 03700\, España
CATEGORIES:Tardeo
ATTACH;FMTTYPE=image/png:https://disfruta-denia.com/wp-content/uploads/2025/06/Codigos-del-Arte-20.png
END:VEVENT
BEGIN:VEVENT
DTSTART;TZID=Europe/Madrid:20260919T193000
DTEND;TZID=Europe/Madrid:20260919T193000
DTSTAMP:20260426T032636
CREATED:20260422T093637Z
LAST-MODIFIED:20260422T093639Z
UID:10024603-1789846200-1789846200@disfruta-denia.com
SUMMARY:Concierto tardeo versiones en La Chica de Ayer
DESCRIPTION:
URL:https://disfruta-denia.com/evento/concierto-tardeo-en-la-chica-de-ayer-4-3-2-2-2-2-2-2-2-2-2-2-2-2-2-2-2/2026-09-19/
LOCATION:La Chica de ayer\, Calle la mar 30\, Denia\, Alicante\, 03700\, España
CATEGORIES:Concierto,Música,Tardeo
ATTACH;FMTTYPE=image/jpeg:https://disfruta-denia.com/wp-content/uploads/2026/04/1761e8ac-86c2-4f3f-8a68-61a1fc791519.jpg
END:VEVENT
BEGIN:VEVENT
DTSTART;TZID=Europe/Madrid:20260920T160000
DTEND;TZID=Europe/Madrid:20260920T160000
DTSTAMP:20260426T032636
CREATED:20260421T083752Z
LAST-MODIFIED:20260421T083753Z
UID:10022828-1789920000-1789920000@disfruta-denia.com
SUMMARY:Tardeos live Mr Fisher
DESCRIPTION:
URL:https://disfruta-denia.com/evento/tardeos-live-mr-fisher-3-2-3/2026-09-20/
LOCATION:Mr Fisher\, Moll de La Pansa s/n. Marina El Portet\, Denia\, Alicante\, 03700\, España
CATEGORIES:Concierto,Música,Tardeo
ATTACH;FMTTYPE=image/png:https://disfruta-denia.com/wp-content/uploads/2026/04/MRFISHER_LAMOCHA_03_05.png
END:VEVENT
BEGIN:VEVENT
DTSTART;TZID=Europe/Madrid:20260920T160000
DTEND;TZID=Europe/Madrid:20260920T180000
DTSTAMP:20260426T032636
CREATED:20260403T085340Z
LAST-MODIFIED:20260403T090037Z
UID:10026917-1789920000-1789927200@disfruta-denia.com
SUMMARY:Tardeo música en directo en Nomada
DESCRIPTION:
URL:https://disfruta-denia.com/evento/tardeo-musica-en-directo-en-nomada/2026-09-20/
LOCATION:Nomada Restaurante\, 11\, Moll de la Pansa\, Dénia\, 03700\, España
CATEGORIES:Concierto,Música,Tardeo
ATTACH;FMTTYPE=image/jpeg:https://disfruta-denia.com/wp-content/uploads/2026/04/PHOTO-2026-04-03-10-49-20.jpg
END:VEVENT
BEGIN:VEVENT
DTSTART;TZID=Europe/Madrid:20260920T180000
DTEND;TZID=Europe/Madrid:20260920T180000
DTSTAMP:20260426T032636
CREATED:20260409T065357Z
LAST-MODIFIED:20260409T065357Z
UID:10025125-1789927200-1789927200@disfruta-denia.com
SUMMARY:Best Of en concierto
DESCRIPTION:
URL:https://disfruta-denia.com/evento/tardeo-en-la-chica-de-ayer-2-2/2026-09-20/
LOCATION:La Chica de ayer\, Calle la mar 30\, Denia\, Alicante\, 03700\, España
CATEGORIES:Concierto,Música,Tardeo
ATTACH;FMTTYPE=image/jpeg:https://disfruta-denia.com/wp-content/uploads/2026/03/86973c98-373f-4a86-82cf-b7b619475342.jpg
END:VEVENT
BEGIN:VEVENT
DTSTART;TZID=Europe/Madrid:20260921T203000
DTEND;TZID=Europe/Madrid:20260921T203000
DTSTAMP:20260426T032636
CREATED:20260307T125319Z
LAST-MODIFIED:20260307T125319Z
UID:10011568-1790022600-1790022600@disfruta-denia.com
SUMMARY:Tardeo con Marce Pesoa
DESCRIPTION:Esta noche. Tonight. \nLive music 20.30h. \nMarce Pesoa en The Speak Dénia. \nTacos\, Cocktails\, Parrilla \n& la mejor musica 🔥🤘 \nReservas: 675753879 \nLet’s #funmonday today!
URL:https://disfruta-denia.com/evento/tardeo-con-marce-pesoa-2-2/2026-09-21/
LOCATION:The Speak Denia\, Carrer del Pont\, 19\, Denia\, Alicante\, 03700\, España
CATEGORIES:Concierto,Música,Tardeo
ATTACH;FMTTYPE=image/jpeg:https://disfruta-denia.com/wp-content/uploads/2023/06/IMG-20230619-WA0000.jpg
END:VEVENT
BEGIN:VEVENT
DTSTART;TZID=Europe/Madrid:20260923T190000
DTEND;TZID=Europe/Madrid:20260923T210000
DTSTAMP:20260426T032636
CREATED:20260128T085100Z
LAST-MODIFIED:20260128T085100Z
UID:10008426-1790190000-1790197200@disfruta-denia.com
SUMMARY:Tardeo en Basta
DESCRIPTION:
URL:https://disfruta-denia.com/evento/tardeo-en-basta-3-3-2/2026-09-23/
LOCATION:Basta Lounge Bar\, Marina de Dénia\, Local C2\, Denia\, Valencian Community\, 03700\, España
CATEGORIES:Concierto,Música,Tardeo
ATTACH;FMTTYPE=image/jpeg:https://disfruta-denia.com/wp-content/uploads/2023/11/622742350_1496613362465887_1711052853307817582_n.jpg
END:VEVENT
BEGIN:VEVENT
DTSTART;TZID=Europe/Madrid:20260923T193000
DTEND;TZID=Europe/Madrid:20260923T193000
DTSTAMP:20260426T032636
CREATED:20250603T094354Z
LAST-MODIFIED:20250603T094354Z
UID:10021379-1790191800-1790191800@disfruta-denia.com
SUMMARY:Encuentros en Códigos
DESCRIPTION:​¡Bienvenidos a Encuentros en Códigos\, el Meetup internacional semanal en Códigos del Arte!\nNos reunimos todos los miércoles a partir de las 19:30 — toma algo\, relájate\, y disfruta de una buena conversación.\nTodos los miércoles – 19:30\nEntrada: Gratuita
URL:https://disfruta-denia.com/evento/encuentros-en-codigos/2026-09-23/
LOCATION:Códigos del Arte\, Carreró de Morant\, 8\, Dénia\, 03700\, España
CATEGORIES:Tardeo
ATTACH;FMTTYPE=image/png:https://disfruta-denia.com/wp-content/uploads/2025/06/Codigos-del-Arte-20.png
END:VEVENT
BEGIN:VEVENT
DTSTART;TZID=Europe/Madrid:20260926T193000
DTEND;TZID=Europe/Madrid:20260926T193000
DTSTAMP:20260426T032636
CREATED:20260422T093637Z
LAST-MODIFIED:20260422T093639Z
UID:10024604-1790451000-1790451000@disfruta-denia.com
SUMMARY:Concierto tardeo versiones en La Chica de Ayer
DESCRIPTION:
URL:https://disfruta-denia.com/evento/concierto-tardeo-en-la-chica-de-ayer-4-3-2-2-2-2-2-2-2-2-2-2-2-2-2-2-2/2026-09-26/
LOCATION:La Chica de ayer\, Calle la mar 30\, Denia\, Alicante\, 03700\, España
CATEGORIES:Concierto,Música,Tardeo
ATTACH;FMTTYPE=image/jpeg:https://disfruta-denia.com/wp-content/uploads/2026/04/1761e8ac-86c2-4f3f-8a68-61a1fc791519.jpg
END:VEVENT
BEGIN:VEVENT
DTSTART;TZID=Europe/Madrid:20260927T160000
DTEND;TZID=Europe/Madrid:20260927T160000
DTSTAMP:20260426T032636
CREATED:20260421T083752Z
LAST-MODIFIED:20260421T083753Z
UID:10022829-1790524800-1790524800@disfruta-denia.com
SUMMARY:Tardeos live Mr Fisher
DESCRIPTION:
URL:https://disfruta-denia.com/evento/tardeos-live-mr-fisher-3-2-3/2026-09-27/
LOCATION:Mr Fisher\, Moll de La Pansa s/n. Marina El Portet\, Denia\, Alicante\, 03700\, España
CATEGORIES:Concierto,Música,Tardeo
ATTACH;FMTTYPE=image/png:https://disfruta-denia.com/wp-content/uploads/2026/04/MRFISHER_LAMOCHA_03_05.png
END:VEVENT
BEGIN:VEVENT
DTSTART;TZID=Europe/Madrid:20260927T160000
DTEND;TZID=Europe/Madrid:20260927T180000
DTSTAMP:20260426T032636
CREATED:20260403T085340Z
LAST-MODIFIED:20260403T090037Z
UID:10026918-1790524800-1790532000@disfruta-denia.com
SUMMARY:Tardeo música en directo en Nomada
DESCRIPTION:
URL:https://disfruta-denia.com/evento/tardeo-musica-en-directo-en-nomada/2026-09-27/
LOCATION:Nomada Restaurante\, 11\, Moll de la Pansa\, Dénia\, 03700\, España
CATEGORIES:Concierto,Música,Tardeo
ATTACH;FMTTYPE=image/jpeg:https://disfruta-denia.com/wp-content/uploads/2026/04/PHOTO-2026-04-03-10-49-20.jpg
END:VEVENT
BEGIN:VEVENT
DTSTART;TZID=Europe/Madrid:20260927T180000
DTEND;TZID=Europe/Madrid:20260927T180000
DTSTAMP:20260426T032636
CREATED:20260409T065357Z
LAST-MODIFIED:20260409T065357Z
UID:10025126-1790532000-1790532000@disfruta-denia.com
SUMMARY:Best Of en concierto
DESCRIPTION:
URL:https://disfruta-denia.com/evento/tardeo-en-la-chica-de-ayer-2-2/2026-09-27/
LOCATION:La Chica de ayer\, Calle la mar 30\, Denia\, Alicante\, 03700\, España
CATEGORIES:Concierto,Música,Tardeo
ATTACH;FMTTYPE=image/jpeg:https://disfruta-denia.com/wp-content/uploads/2026/03/86973c98-373f-4a86-82cf-b7b619475342.jpg
END:VEVENT
BEGIN:VEVENT
DTSTART;TZID=Europe/Madrid:20260928T203000
DTEND;TZID=Europe/Madrid:20260928T203000
DTSTAMP:20260426T032636
CREATED:20260307T125319Z
LAST-MODIFIED:20260307T125319Z
UID:10011569-1790627400-1790627400@disfruta-denia.com
SUMMARY:Tardeo con Marce Pesoa
DESCRIPTION:Esta noche. Tonight. \nLive music 20.30h. \nMarce Pesoa en The Speak Dénia. \nTacos\, Cocktails\, Parrilla \n& la mejor musica 🔥🤘 \nReservas: 675753879 \nLet’s #funmonday today!
URL:https://disfruta-denia.com/evento/tardeo-con-marce-pesoa-2-2/2026-09-28/
LOCATION:The Speak Denia\, Carrer del Pont\, 19\, Denia\, Alicante\, 03700\, España
CATEGORIES:Concierto,Música,Tardeo
ATTACH;FMTTYPE=image/jpeg:https://disfruta-denia.com/wp-content/uploads/2023/06/IMG-20230619-WA0000.jpg
END:VEVENT
BEGIN:VEVENT
DTSTART;TZID=Europe/Madrid:20260930T190000
DTEND;TZID=Europe/Madrid:20260930T210000
DTSTAMP:20260426T032636
CREATED:20260128T085100Z
LAST-MODIFIED:20260128T085100Z
UID:10008427-1790794800-1790802000@disfruta-denia.com
SUMMARY:Tardeo en Basta
DESCRIPTION:
URL:https://disfruta-denia.com/evento/tardeo-en-basta-3-3-2/2026-09-30/
LOCATION:Basta Lounge Bar\, Marina de Dénia\, Local C2\, Denia\, Valencian Community\, 03700\, España
CATEGORIES:Concierto,Música,Tardeo
ATTACH;FMTTYPE=image/jpeg:https://disfruta-denia.com/wp-content/uploads/2023/11/622742350_1496613362465887_1711052853307817582_n.jpg
END:VEVENT
BEGIN:VEVENT
DTSTART;TZID=Europe/Madrid:20260930T193000
DTEND;TZID=Europe/Madrid:20260930T193000
DTSTAMP:20260426T032636
CREATED:20250603T094354Z
LAST-MODIFIED:20250603T094354Z
UID:10021380-1790796600-1790796600@disfruta-denia.com
SUMMARY:Encuentros en Códigos
DESCRIPTION:​¡Bienvenidos a Encuentros en Códigos\, el Meetup internacional semanal en Códigos del Arte!\nNos reunimos todos los miércoles a partir de las 19:30 — toma algo\, relájate\, y disfruta de una buena conversación.\nTodos los miércoles – 19:30\nEntrada: Gratuita
URL:https://disfruta-denia.com/evento/encuentros-en-codigos/2026-09-30/
LOCATION:Códigos del Arte\, Carreró de Morant\, 8\, Dénia\, 03700\, España
CATEGORIES:Tardeo
ATTACH;FMTTYPE=image/png:https://disfruta-denia.com/wp-content/uploads/2025/06/Codigos-del-Arte-20.png
END:VEVENT
END:VCALENDAR