BEGIN:VCALENDAR
VERSION:2.0
PRODID:-//Disfruta Denia - ECPv6.15.20//NONSGML v1.0//EN
CALSCALE:GREGORIAN
METHOD:PUBLISH
X-ORIGINAL-URL:https://disfruta-denia.com
X-WR-CALDESC:Eventos para Disfruta Denia
REFRESH-INTERVAL;VALUE=DURATION:PT1H
X-Robots-Tag:noindex
X-PUBLISHED-TTL:PT1H
BEGIN:VTIMEZONE
TZID:Europe/Madrid
BEGIN:DAYLIGHT
TZOFFSETFROM:+0100
TZOFFSETTO:+0200
TZNAME:CEST
DTSTART:20250330T010000
END:DAYLIGHT
BEGIN:STANDARD
TZOFFSETFROM:+0200
TZOFFSETTO:+0100
TZNAME:CET
DTSTART:20251026T010000
END:STANDARD
BEGIN:DAYLIGHT
TZOFFSETFROM:+0100
TZOFFSETTO:+0200
TZNAME:CEST
DTSTART:20260329T010000
END:DAYLIGHT
BEGIN:STANDARD
TZOFFSETFROM:+0200
TZOFFSETTO:+0100
TZNAME:CET
DTSTART:20261025T010000
END:STANDARD
BEGIN:DAYLIGHT
TZOFFSETFROM:+0100
TZOFFSETTO:+0200
TZNAME:CEST
DTSTART:20270328T010000
END:DAYLIGHT
BEGIN:STANDARD
TZOFFSETFROM:+0200
TZOFFSETTO:+0100
TZNAME:CET
DTSTART:20271031T010000
END:STANDARD
END:VTIMEZONE
BEGIN:VEVENT
DTSTART;TZID=Europe/Madrid:20261003T193000
DTEND;TZID=Europe/Madrid:20261003T193000
DTSTAMP:20260426T052307
CREATED:20260422T093637Z
LAST-MODIFIED:20260422T093639Z
UID:10024605-1791055800-1791055800@disfruta-denia.com
SUMMARY:Concierto tardeo versiones en La Chica de Ayer
DESCRIPTION:
URL:https://disfruta-denia.com/evento/concierto-tardeo-en-la-chica-de-ayer-4-3-2-2-2-2-2-2-2-2-2-2-2-2-2-2-2/2026-10-03/
LOCATION:La Chica de ayer\, Calle la mar 30\, Denia\, Alicante\, 03700\, España
CATEGORIES:Concierto,Música,Tardeo
ATTACH;FMTTYPE=image/jpeg:https://disfruta-denia.com/wp-content/uploads/2026/04/1761e8ac-86c2-4f3f-8a68-61a1fc791519.jpg
END:VEVENT
BEGIN:VEVENT
DTSTART;TZID=Europe/Madrid:20261004T160000
DTEND;TZID=Europe/Madrid:20261004T160000
DTSTAMP:20260426T052307
CREATED:20260421T083752Z
LAST-MODIFIED:20260421T083753Z
UID:10022830-1791129600-1791129600@disfruta-denia.com
SUMMARY:Tardeos live Mr Fisher
DESCRIPTION:
URL:https://disfruta-denia.com/evento/tardeos-live-mr-fisher-3-2-3/2026-10-04/
LOCATION:Mr Fisher\, Moll de La Pansa s/n. Marina El Portet\, Denia\, Alicante\, 03700\, España
CATEGORIES:Concierto,Música,Tardeo
ATTACH;FMTTYPE=image/png:https://disfruta-denia.com/wp-content/uploads/2026/04/MRFISHER_LAMOCHA_03_05.png
END:VEVENT
BEGIN:VEVENT
DTSTART;TZID=Europe/Madrid:20261004T160000
DTEND;TZID=Europe/Madrid:20261004T180000
DTSTAMP:20260426T052307
CREATED:20260403T085340Z
LAST-MODIFIED:20260403T090037Z
UID:10026919-1791129600-1791136800@disfruta-denia.com
SUMMARY:Tardeo música en directo en Nomada
DESCRIPTION:
URL:https://disfruta-denia.com/evento/tardeo-musica-en-directo-en-nomada/2026-10-04/
LOCATION:Nomada Restaurante\, 11\, Moll de la Pansa\, Dénia\, 03700\, España
CATEGORIES:Concierto,Música,Tardeo
ATTACH;FMTTYPE=image/jpeg:https://disfruta-denia.com/wp-content/uploads/2026/04/PHOTO-2026-04-03-10-49-20.jpg
END:VEVENT
BEGIN:VEVENT
DTSTART;TZID=Europe/Madrid:20261004T180000
DTEND;TZID=Europe/Madrid:20261004T180000
DTSTAMP:20260426T052307
CREATED:20260409T065357Z
LAST-MODIFIED:20260409T065357Z
UID:10025127-1791136800-1791136800@disfruta-denia.com
SUMMARY:Best Of en concierto
DESCRIPTION:
URL:https://disfruta-denia.com/evento/tardeo-en-la-chica-de-ayer-2-2/2026-10-04/
LOCATION:La Chica de ayer\, Calle la mar 30\, Denia\, Alicante\, 03700\, España
CATEGORIES:Concierto,Música,Tardeo
ATTACH;FMTTYPE=image/jpeg:https://disfruta-denia.com/wp-content/uploads/2026/03/86973c98-373f-4a86-82cf-b7b619475342.jpg
END:VEVENT
BEGIN:VEVENT
DTSTART;TZID=Europe/Madrid:20261005T203000
DTEND;TZID=Europe/Madrid:20261005T203000
DTSTAMP:20260426T052307
CREATED:20260307T125319Z
LAST-MODIFIED:20260307T125319Z
UID:10011570-1791232200-1791232200@disfruta-denia.com
SUMMARY:Tardeo con Marce Pesoa
DESCRIPTION:Esta noche. Tonight. \nLive music 20.30h. \nMarce Pesoa en The Speak Dénia. \nTacos\, Cocktails\, Parrilla \n& la mejor musica 🔥🤘 \nReservas: 675753879 \nLet’s #funmonday today!
URL:https://disfruta-denia.com/evento/tardeo-con-marce-pesoa-2-2/2026-10-05/
LOCATION:The Speak Denia\, Carrer del Pont\, 19\, Denia\, Alicante\, 03700\, España
CATEGORIES:Concierto,Música,Tardeo
ATTACH;FMTTYPE=image/jpeg:https://disfruta-denia.com/wp-content/uploads/2023/06/IMG-20230619-WA0000.jpg
END:VEVENT
BEGIN:VEVENT
DTSTART;TZID=Europe/Madrid:20261007T190000
DTEND;TZID=Europe/Madrid:20261007T210000
DTSTAMP:20260426T052307
CREATED:20260128T085100Z
LAST-MODIFIED:20260128T085100Z
UID:10008428-1791399600-1791406800@disfruta-denia.com
SUMMARY:Tardeo en Basta
DESCRIPTION:
URL:https://disfruta-denia.com/evento/tardeo-en-basta-3-3-2/2026-10-07/
LOCATION:Basta Lounge Bar\, Marina de Dénia\, Local C2\, Denia\, Valencian Community\, 03700\, España
CATEGORIES:Concierto,Música,Tardeo
ATTACH;FMTTYPE=image/jpeg:https://disfruta-denia.com/wp-content/uploads/2023/11/622742350_1496613362465887_1711052853307817582_n.jpg
END:VEVENT
BEGIN:VEVENT
DTSTART;TZID=Europe/Madrid:20261007T193000
DTEND;TZID=Europe/Madrid:20261007T193000
DTSTAMP:20260426T052307
CREATED:20250603T094354Z
LAST-MODIFIED:20250603T094354Z
UID:10021381-1791401400-1791401400@disfruta-denia.com
SUMMARY:Encuentros en Códigos
DESCRIPTION:​¡Bienvenidos a Encuentros en Códigos\, el Meetup internacional semanal en Códigos del Arte!\nNos reunimos todos los miércoles a partir de las 19:30 — toma algo\, relájate\, y disfruta de una buena conversación.\nTodos los miércoles – 19:30\nEntrada: Gratuita
URL:https://disfruta-denia.com/evento/encuentros-en-codigos/2026-10-07/
LOCATION:Códigos del Arte\, Carreró de Morant\, 8\, Dénia\, 03700\, España
CATEGORIES:Tardeo
ATTACH;FMTTYPE=image/png:https://disfruta-denia.com/wp-content/uploads/2025/06/Codigos-del-Arte-20.png
END:VEVENT
BEGIN:VEVENT
DTSTART;TZID=Europe/Madrid:20261010T193000
DTEND;TZID=Europe/Madrid:20261010T193000
DTSTAMP:20260426T052307
CREATED:20260422T093637Z
LAST-MODIFIED:20260422T093639Z
UID:10024606-1791660600-1791660600@disfruta-denia.com
SUMMARY:Concierto tardeo versiones en La Chica de Ayer
DESCRIPTION:
URL:https://disfruta-denia.com/evento/concierto-tardeo-en-la-chica-de-ayer-4-3-2-2-2-2-2-2-2-2-2-2-2-2-2-2-2/2026-10-10/
LOCATION:La Chica de ayer\, Calle la mar 30\, Denia\, Alicante\, 03700\, España
CATEGORIES:Concierto,Música,Tardeo
ATTACH;FMTTYPE=image/jpeg:https://disfruta-denia.com/wp-content/uploads/2026/04/1761e8ac-86c2-4f3f-8a68-61a1fc791519.jpg
END:VEVENT
BEGIN:VEVENT
DTSTART;TZID=Europe/Madrid:20261011T160000
DTEND;TZID=Europe/Madrid:20261011T160000
DTSTAMP:20260426T052307
CREATED:20260421T083752Z
LAST-MODIFIED:20260421T083753Z
UID:10022831-1791734400-1791734400@disfruta-denia.com
SUMMARY:Tardeos live Mr Fisher
DESCRIPTION:
URL:https://disfruta-denia.com/evento/tardeos-live-mr-fisher-3-2-3/2026-10-11/
LOCATION:Mr Fisher\, Moll de La Pansa s/n. Marina El Portet\, Denia\, Alicante\, 03700\, España
CATEGORIES:Concierto,Música,Tardeo
ATTACH;FMTTYPE=image/png:https://disfruta-denia.com/wp-content/uploads/2026/04/MRFISHER_LAMOCHA_03_05.png
END:VEVENT
BEGIN:VEVENT
DTSTART;TZID=Europe/Madrid:20261011T160000
DTEND;TZID=Europe/Madrid:20261011T180000
DTSTAMP:20260426T052307
CREATED:20260403T085340Z
LAST-MODIFIED:20260403T090037Z
UID:10026920-1791734400-1791741600@disfruta-denia.com
SUMMARY:Tardeo música en directo en Nomada
DESCRIPTION:
URL:https://disfruta-denia.com/evento/tardeo-musica-en-directo-en-nomada/2026-10-11/
LOCATION:Nomada Restaurante\, 11\, Moll de la Pansa\, Dénia\, 03700\, España
CATEGORIES:Concierto,Música,Tardeo
ATTACH;FMTTYPE=image/jpeg:https://disfruta-denia.com/wp-content/uploads/2026/04/PHOTO-2026-04-03-10-49-20.jpg
END:VEVENT
BEGIN:VEVENT
DTSTART;TZID=Europe/Madrid:20261011T180000
DTEND;TZID=Europe/Madrid:20261011T180000
DTSTAMP:20260426T052307
CREATED:20260409T065357Z
LAST-MODIFIED:20260409T065357Z
UID:10025128-1791741600-1791741600@disfruta-denia.com
SUMMARY:Best Of en concierto
DESCRIPTION:
URL:https://disfruta-denia.com/evento/tardeo-en-la-chica-de-ayer-2-2/2026-10-11/
LOCATION:La Chica de ayer\, Calle la mar 30\, Denia\, Alicante\, 03700\, España
CATEGORIES:Concierto,Música,Tardeo
ATTACH;FMTTYPE=image/jpeg:https://disfruta-denia.com/wp-content/uploads/2026/03/86973c98-373f-4a86-82cf-b7b619475342.jpg
END:VEVENT
BEGIN:VEVENT
DTSTART;TZID=Europe/Madrid:20261012T203000
DTEND;TZID=Europe/Madrid:20261012T203000
DTSTAMP:20260426T052307
CREATED:20260307T125319Z
LAST-MODIFIED:20260307T125319Z
UID:10011571-1791837000-1791837000@disfruta-denia.com
SUMMARY:Tardeo con Marce Pesoa
DESCRIPTION:Esta noche. Tonight. \nLive music 20.30h. \nMarce Pesoa en The Speak Dénia. \nTacos\, Cocktails\, Parrilla \n& la mejor musica 🔥🤘 \nReservas: 675753879 \nLet’s #funmonday today!
URL:https://disfruta-denia.com/evento/tardeo-con-marce-pesoa-2-2/2026-10-12/
LOCATION:The Speak Denia\, Carrer del Pont\, 19\, Denia\, Alicante\, 03700\, España
CATEGORIES:Concierto,Música,Tardeo
ATTACH;FMTTYPE=image/jpeg:https://disfruta-denia.com/wp-content/uploads/2023/06/IMG-20230619-WA0000.jpg
END:VEVENT
BEGIN:VEVENT
DTSTART;TZID=Europe/Madrid:20261014T190000
DTEND;TZID=Europe/Madrid:20261014T210000
DTSTAMP:20260426T052307
CREATED:20260128T085100Z
LAST-MODIFIED:20260128T085100Z
UID:10008429-1792004400-1792011600@disfruta-denia.com
SUMMARY:Tardeo en Basta
DESCRIPTION:
URL:https://disfruta-denia.com/evento/tardeo-en-basta-3-3-2/2026-10-14/
LOCATION:Basta Lounge Bar\, Marina de Dénia\, Local C2\, Denia\, Valencian Community\, 03700\, España
CATEGORIES:Concierto,Música,Tardeo
ATTACH;FMTTYPE=image/jpeg:https://disfruta-denia.com/wp-content/uploads/2023/11/622742350_1496613362465887_1711052853307817582_n.jpg
END:VEVENT
BEGIN:VEVENT
DTSTART;TZID=Europe/Madrid:20261014T193000
DTEND;TZID=Europe/Madrid:20261014T193000
DTSTAMP:20260426T052307
CREATED:20250603T094354Z
LAST-MODIFIED:20250603T094354Z
UID:10021382-1792006200-1792006200@disfruta-denia.com
SUMMARY:Encuentros en Códigos
DESCRIPTION:​¡Bienvenidos a Encuentros en Códigos\, el Meetup internacional semanal en Códigos del Arte!\nNos reunimos todos los miércoles a partir de las 19:30 — toma algo\, relájate\, y disfruta de una buena conversación.\nTodos los miércoles – 19:30\nEntrada: Gratuita
URL:https://disfruta-denia.com/evento/encuentros-en-codigos/2026-10-14/
LOCATION:Códigos del Arte\, Carreró de Morant\, 8\, Dénia\, 03700\, España
CATEGORIES:Tardeo
ATTACH;FMTTYPE=image/png:https://disfruta-denia.com/wp-content/uploads/2025/06/Codigos-del-Arte-20.png
END:VEVENT
BEGIN:VEVENT
DTSTART;TZID=Europe/Madrid:20261017T193000
DTEND;TZID=Europe/Madrid:20261017T193000
DTSTAMP:20260426T052307
CREATED:20260422T093637Z
LAST-MODIFIED:20260422T093639Z
UID:10024607-1792265400-1792265400@disfruta-denia.com
SUMMARY:Concierto tardeo versiones en La Chica de Ayer
DESCRIPTION:
URL:https://disfruta-denia.com/evento/concierto-tardeo-en-la-chica-de-ayer-4-3-2-2-2-2-2-2-2-2-2-2-2-2-2-2-2/2026-10-17/
LOCATION:La Chica de ayer\, Calle la mar 30\, Denia\, Alicante\, 03700\, España
CATEGORIES:Concierto,Música,Tardeo
ATTACH;FMTTYPE=image/jpeg:https://disfruta-denia.com/wp-content/uploads/2026/04/1761e8ac-86c2-4f3f-8a68-61a1fc791519.jpg
END:VEVENT
BEGIN:VEVENT
DTSTART;TZID=Europe/Madrid:20261018T160000
DTEND;TZID=Europe/Madrid:20261018T160000
DTSTAMP:20260426T052307
CREATED:20260421T083752Z
LAST-MODIFIED:20260421T083753Z
UID:10022832-1792339200-1792339200@disfruta-denia.com
SUMMARY:Tardeos live Mr Fisher
DESCRIPTION:
URL:https://disfruta-denia.com/evento/tardeos-live-mr-fisher-3-2-3/2026-10-18/
LOCATION:Mr Fisher\, Moll de La Pansa s/n. Marina El Portet\, Denia\, Alicante\, 03700\, España
CATEGORIES:Concierto,Música,Tardeo
ATTACH;FMTTYPE=image/png:https://disfruta-denia.com/wp-content/uploads/2026/04/MRFISHER_LAMOCHA_03_05.png
END:VEVENT
BEGIN:VEVENT
DTSTART;TZID=Europe/Madrid:20261018T160000
DTEND;TZID=Europe/Madrid:20261018T180000
DTSTAMP:20260426T052307
CREATED:20260403T085340Z
LAST-MODIFIED:20260403T090037Z
UID:10026921-1792339200-1792346400@disfruta-denia.com
SUMMARY:Tardeo música en directo en Nomada
DESCRIPTION:
URL:https://disfruta-denia.com/evento/tardeo-musica-en-directo-en-nomada/2026-10-18/
LOCATION:Nomada Restaurante\, 11\, Moll de la Pansa\, Dénia\, 03700\, España
CATEGORIES:Concierto,Música,Tardeo
ATTACH;FMTTYPE=image/jpeg:https://disfruta-denia.com/wp-content/uploads/2026/04/PHOTO-2026-04-03-10-49-20.jpg
END:VEVENT
BEGIN:VEVENT
DTSTART;TZID=Europe/Madrid:20261018T180000
DTEND;TZID=Europe/Madrid:20261018T180000
DTSTAMP:20260426T052307
CREATED:20260409T065357Z
LAST-MODIFIED:20260409T065357Z
UID:10025129-1792346400-1792346400@disfruta-denia.com
SUMMARY:Best Of en concierto
DESCRIPTION:
URL:https://disfruta-denia.com/evento/tardeo-en-la-chica-de-ayer-2-2/2026-10-18/
LOCATION:La Chica de ayer\, Calle la mar 30\, Denia\, Alicante\, 03700\, España
CATEGORIES:Concierto,Música,Tardeo
ATTACH;FMTTYPE=image/jpeg:https://disfruta-denia.com/wp-content/uploads/2026/03/86973c98-373f-4a86-82cf-b7b619475342.jpg
END:VEVENT
BEGIN:VEVENT
DTSTART;TZID=Europe/Madrid:20261019T203000
DTEND;TZID=Europe/Madrid:20261019T203000
DTSTAMP:20260426T052307
CREATED:20260307T125319Z
LAST-MODIFIED:20260307T125319Z
UID:10011572-1792441800-1792441800@disfruta-denia.com
SUMMARY:Tardeo con Marce Pesoa
DESCRIPTION:Esta noche. Tonight. \nLive music 20.30h. \nMarce Pesoa en The Speak Dénia. \nTacos\, Cocktails\, Parrilla \n& la mejor musica 🔥🤘 \nReservas: 675753879 \nLet’s #funmonday today!
URL:https://disfruta-denia.com/evento/tardeo-con-marce-pesoa-2-2/2026-10-19/
LOCATION:The Speak Denia\, Carrer del Pont\, 19\, Denia\, Alicante\, 03700\, España
CATEGORIES:Concierto,Música,Tardeo
ATTACH;FMTTYPE=image/jpeg:https://disfruta-denia.com/wp-content/uploads/2023/06/IMG-20230619-WA0000.jpg
END:VEVENT
BEGIN:VEVENT
DTSTART;TZID=Europe/Madrid:20261021T190000
DTEND;TZID=Europe/Madrid:20261021T210000
DTSTAMP:20260426T052307
CREATED:20260128T085100Z
LAST-MODIFIED:20260128T085100Z
UID:10008430-1792609200-1792616400@disfruta-denia.com
SUMMARY:Tardeo en Basta
DESCRIPTION:
URL:https://disfruta-denia.com/evento/tardeo-en-basta-3-3-2/2026-10-21/
LOCATION:Basta Lounge Bar\, Marina de Dénia\, Local C2\, Denia\, Valencian Community\, 03700\, España
CATEGORIES:Concierto,Música,Tardeo
ATTACH;FMTTYPE=image/jpeg:https://disfruta-denia.com/wp-content/uploads/2023/11/622742350_1496613362465887_1711052853307817582_n.jpg
END:VEVENT
BEGIN:VEVENT
DTSTART;TZID=Europe/Madrid:20261021T193000
DTEND;TZID=Europe/Madrid:20261021T193000
DTSTAMP:20260426T052307
CREATED:20250603T094354Z
LAST-MODIFIED:20250603T094354Z
UID:10021383-1792611000-1792611000@disfruta-denia.com
SUMMARY:Encuentros en Códigos
DESCRIPTION:​¡Bienvenidos a Encuentros en Códigos\, el Meetup internacional semanal en Códigos del Arte!\nNos reunimos todos los miércoles a partir de las 19:30 — toma algo\, relájate\, y disfruta de una buena conversación.\nTodos los miércoles – 19:30\nEntrada: Gratuita
URL:https://disfruta-denia.com/evento/encuentros-en-codigos/2026-10-21/
LOCATION:Códigos del Arte\, Carreró de Morant\, 8\, Dénia\, 03700\, España
CATEGORIES:Tardeo
ATTACH;FMTTYPE=image/png:https://disfruta-denia.com/wp-content/uploads/2025/06/Codigos-del-Arte-20.png
END:VEVENT
BEGIN:VEVENT
DTSTART;TZID=Europe/Madrid:20261024T193000
DTEND;TZID=Europe/Madrid:20261024T193000
DTSTAMP:20260426T052307
CREATED:20260422T093637Z
LAST-MODIFIED:20260422T093639Z
UID:10024608-1792870200-1792870200@disfruta-denia.com
SUMMARY:Concierto tardeo versiones en La Chica de Ayer
DESCRIPTION:
URL:https://disfruta-denia.com/evento/concierto-tardeo-en-la-chica-de-ayer-4-3-2-2-2-2-2-2-2-2-2-2-2-2-2-2-2/2026-10-24/
LOCATION:La Chica de ayer\, Calle la mar 30\, Denia\, Alicante\, 03700\, España
CATEGORIES:Concierto,Música,Tardeo
ATTACH;FMTTYPE=image/jpeg:https://disfruta-denia.com/wp-content/uploads/2026/04/1761e8ac-86c2-4f3f-8a68-61a1fc791519.jpg
END:VEVENT
BEGIN:VEVENT
DTSTART;TZID=Europe/Madrid:20261025T160000
DTEND;TZID=Europe/Madrid:20261025T160000
DTSTAMP:20260426T052307
CREATED:20260421T083752Z
LAST-MODIFIED:20260421T083753Z
UID:10022833-1792944000-1792944000@disfruta-denia.com
SUMMARY:Tardeos live Mr Fisher
DESCRIPTION:
URL:https://disfruta-denia.com/evento/tardeos-live-mr-fisher-3-2-3/2026-10-25/
LOCATION:Mr Fisher\, Moll de La Pansa s/n. Marina El Portet\, Denia\, Alicante\, 03700\, España
CATEGORIES:Concierto,Música,Tardeo
ATTACH;FMTTYPE=image/png:https://disfruta-denia.com/wp-content/uploads/2026/04/MRFISHER_LAMOCHA_03_05.png
END:VEVENT
BEGIN:VEVENT
DTSTART;TZID=Europe/Madrid:20261025T160000
DTEND;TZID=Europe/Madrid:20261025T180000
DTSTAMP:20260426T052307
CREATED:20260403T085340Z
LAST-MODIFIED:20260403T090037Z
UID:10026922-1792944000-1792951200@disfruta-denia.com
SUMMARY:Tardeo música en directo en Nomada
DESCRIPTION:
URL:https://disfruta-denia.com/evento/tardeo-musica-en-directo-en-nomada/2026-10-25/
LOCATION:Nomada Restaurante\, 11\, Moll de la Pansa\, Dénia\, 03700\, España
CATEGORIES:Concierto,Música,Tardeo
ATTACH;FMTTYPE=image/jpeg:https://disfruta-denia.com/wp-content/uploads/2026/04/PHOTO-2026-04-03-10-49-20.jpg
END:VEVENT
BEGIN:VEVENT
DTSTART;TZID=Europe/Madrid:20261025T180000
DTEND;TZID=Europe/Madrid:20261025T180000
DTSTAMP:20260426T052307
CREATED:20260409T065357Z
LAST-MODIFIED:20260409T065357Z
UID:10025130-1792951200-1792951200@disfruta-denia.com
SUMMARY:Best Of en concierto
DESCRIPTION:
URL:https://disfruta-denia.com/evento/tardeo-en-la-chica-de-ayer-2-2/2026-10-25/
LOCATION:La Chica de ayer\, Calle la mar 30\, Denia\, Alicante\, 03700\, España
CATEGORIES:Concierto,Música,Tardeo
ATTACH;FMTTYPE=image/jpeg:https://disfruta-denia.com/wp-content/uploads/2026/03/86973c98-373f-4a86-82cf-b7b619475342.jpg
END:VEVENT
BEGIN:VEVENT
DTSTART;TZID=Europe/Madrid:20261026T203000
DTEND;TZID=Europe/Madrid:20261026T203000
DTSTAMP:20260426T052307
CREATED:20260307T125319Z
LAST-MODIFIED:20260307T125319Z
UID:10011573-1793046600-1793046600@disfruta-denia.com
SUMMARY:Tardeo con Marce Pesoa
DESCRIPTION:Esta noche. Tonight. \nLive music 20.30h. \nMarce Pesoa en The Speak Dénia. \nTacos\, Cocktails\, Parrilla \n& la mejor musica 🔥🤘 \nReservas: 675753879 \nLet’s #funmonday today!
URL:https://disfruta-denia.com/evento/tardeo-con-marce-pesoa-2-2/2026-10-26/
LOCATION:The Speak Denia\, Carrer del Pont\, 19\, Denia\, Alicante\, 03700\, España
CATEGORIES:Concierto,Música,Tardeo
ATTACH;FMTTYPE=image/jpeg:https://disfruta-denia.com/wp-content/uploads/2023/06/IMG-20230619-WA0000.jpg
END:VEVENT
BEGIN:VEVENT
DTSTART;TZID=Europe/Madrid:20261028T190000
DTEND;TZID=Europe/Madrid:20261028T210000
DTSTAMP:20260426T052307
CREATED:20260128T085100Z
LAST-MODIFIED:20260128T085100Z
UID:10008431-1793214000-1793221200@disfruta-denia.com
SUMMARY:Tardeo en Basta
DESCRIPTION:
URL:https://disfruta-denia.com/evento/tardeo-en-basta-3-3-2/2026-10-28/
LOCATION:Basta Lounge Bar\, Marina de Dénia\, Local C2\, Denia\, Valencian Community\, 03700\, España
CATEGORIES:Concierto,Música,Tardeo
ATTACH;FMTTYPE=image/jpeg:https://disfruta-denia.com/wp-content/uploads/2023/11/622742350_1496613362465887_1711052853307817582_n.jpg
END:VEVENT
BEGIN:VEVENT
DTSTART;TZID=Europe/Madrid:20261028T193000
DTEND;TZID=Europe/Madrid:20261028T193000
DTSTAMP:20260426T052307
CREATED:20250603T094354Z
LAST-MODIFIED:20250603T094354Z
UID:10021384-1793215800-1793215800@disfruta-denia.com
SUMMARY:Encuentros en Códigos
DESCRIPTION:​¡Bienvenidos a Encuentros en Códigos\, el Meetup internacional semanal en Códigos del Arte!\nNos reunimos todos los miércoles a partir de las 19:30 — toma algo\, relájate\, y disfruta de una buena conversación.\nTodos los miércoles – 19:30\nEntrada: Gratuita
URL:https://disfruta-denia.com/evento/encuentros-en-codigos/2026-10-28/
LOCATION:Códigos del Arte\, Carreró de Morant\, 8\, Dénia\, 03700\, España
CATEGORIES:Tardeo
ATTACH;FMTTYPE=image/png:https://disfruta-denia.com/wp-content/uploads/2025/06/Codigos-del-Arte-20.png
END:VEVENT
BEGIN:VEVENT
DTSTART;TZID=Europe/Madrid:20261031T193000
DTEND;TZID=Europe/Madrid:20261031T193000
DTSTAMP:20260426T052307
CREATED:20260422T093637Z
LAST-MODIFIED:20260422T093639Z
UID:10024609-1793475000-1793475000@disfruta-denia.com
SUMMARY:Concierto tardeo versiones en La Chica de Ayer
DESCRIPTION:
URL:https://disfruta-denia.com/evento/concierto-tardeo-en-la-chica-de-ayer-4-3-2-2-2-2-2-2-2-2-2-2-2-2-2-2-2/2026-10-31/
LOCATION:La Chica de ayer\, Calle la mar 30\, Denia\, Alicante\, 03700\, España
CATEGORIES:Concierto,Música,Tardeo
ATTACH;FMTTYPE=image/jpeg:https://disfruta-denia.com/wp-content/uploads/2026/04/1761e8ac-86c2-4f3f-8a68-61a1fc791519.jpg
END:VEVENT
END:VCALENDAR