BEGIN:VCALENDAR
VERSION:2.0
PRODID:-//Disfruta Denia - ECPv6.15.20//NONSGML v1.0//EN
CALSCALE:GREGORIAN
METHOD:PUBLISH
X-WR-CALNAME:Disfruta Denia
X-ORIGINAL-URL:https://disfruta-denia.com
X-WR-CALDESC:Eventos para Disfruta Denia
REFRESH-INTERVAL;VALUE=DURATION:PT1H
X-Robots-Tag:noindex
X-PUBLISHED-TTL:PT1H
BEGIN:VTIMEZONE
TZID:Europe/Madrid
BEGIN:DAYLIGHT
TZOFFSETFROM:+0100
TZOFFSETTO:+0200
TZNAME:CEST
DTSTART:20220327T010000
END:DAYLIGHT
BEGIN:STANDARD
TZOFFSETFROM:+0200
TZOFFSETTO:+0100
TZNAME:CET
DTSTART:20221030T010000
END:STANDARD
BEGIN:DAYLIGHT
TZOFFSETFROM:+0100
TZOFFSETTO:+0200
TZNAME:CEST
DTSTART:20230326T010000
END:DAYLIGHT
BEGIN:STANDARD
TZOFFSETFROM:+0200
TZOFFSETTO:+0100
TZNAME:CET
DTSTART:20231029T010000
END:STANDARD
BEGIN:DAYLIGHT
TZOFFSETFROM:+0100
TZOFFSETTO:+0200
TZNAME:CEST
DTSTART:20240331T010000
END:DAYLIGHT
BEGIN:STANDARD
TZOFFSETFROM:+0200
TZOFFSETTO:+0100
TZNAME:CET
DTSTART:20241027T010000
END:STANDARD
END:VTIMEZONE
BEGIN:VEVENT
DTSTART;TZID=Europe/Madrid:20230107T235900
DTEND;TZID=Europe/Madrid:20230107T235900
DTSTAMP:20260423T073354
CREATED:20221128T194020Z
LAST-MODIFIED:20221128T194021Z
UID:10006489-1673135940-1673135940@disfruta-denia.com
SUMMARY:Concierto en LCDA
DESCRIPTION:
URL:https://disfruta-denia.com/evento/concierto-en-lcda-4/2023-01-07/
LOCATION:La Chica de ayer\, Calle la mar 30\, Denia\, Alicante\, 03700\, España
CATEGORIES:Concierto,Música,Ocio nocturno
ATTACH;FMTTYPE=image/jpeg:https://disfruta-denia.com/wp-content/uploads/2022/11/317545016_592127712917488_4859295703944293873_n.jpg
END:VEVENT
BEGIN:VEVENT
DTSTART;TZID=Europe/Madrid:20230114T235900
DTEND;TZID=Europe/Madrid:20230114T235900
DTSTAMP:20260423T073354
CREATED:20221128T194020Z
LAST-MODIFIED:20221128T194021Z
UID:10006490-1673740740-1673740740@disfruta-denia.com
SUMMARY:Concierto en LCDA
DESCRIPTION:
URL:https://disfruta-denia.com/evento/concierto-en-lcda-4/2023-01-14/
LOCATION:La Chica de ayer\, Calle la mar 30\, Denia\, Alicante\, 03700\, España
CATEGORIES:Concierto,Música,Ocio nocturno
ATTACH;FMTTYPE=image/jpeg:https://disfruta-denia.com/wp-content/uploads/2022/11/317545016_592127712917488_4859295703944293873_n.jpg
END:VEVENT
BEGIN:VEVENT
DTSTART;TZID=Europe/Madrid:20230121T235900
DTEND;TZID=Europe/Madrid:20230121T235900
DTSTAMP:20260423T073354
CREATED:20221128T194020Z
LAST-MODIFIED:20221128T194021Z
UID:10006491-1674345540-1674345540@disfruta-denia.com
SUMMARY:Concierto en LCDA
DESCRIPTION:
URL:https://disfruta-denia.com/evento/concierto-en-lcda-4/2023-01-21/
LOCATION:La Chica de ayer\, Calle la mar 30\, Denia\, Alicante\, 03700\, España
CATEGORIES:Concierto,Música,Ocio nocturno
ATTACH;FMTTYPE=image/jpeg:https://disfruta-denia.com/wp-content/uploads/2022/11/317545016_592127712917488_4859295703944293873_n.jpg
END:VEVENT
BEGIN:VEVENT
DTSTART;TZID=Europe/Madrid:20230128T235900
DTEND;TZID=Europe/Madrid:20230128T235900
DTSTAMP:20260423T073354
CREATED:20221128T194020Z
LAST-MODIFIED:20221128T194021Z
UID:10006492-1674950340-1674950340@disfruta-denia.com
SUMMARY:Concierto en LCDA
DESCRIPTION:
URL:https://disfruta-denia.com/evento/concierto-en-lcda-4/2023-01-28/
LOCATION:La Chica de ayer\, Calle la mar 30\, Denia\, Alicante\, 03700\, España
CATEGORIES:Concierto,Música,Ocio nocturno
ATTACH;FMTTYPE=image/jpeg:https://disfruta-denia.com/wp-content/uploads/2022/11/317545016_592127712917488_4859295703944293873_n.jpg
END:VEVENT
END:VCALENDAR