BEGIN:VCALENDAR
VERSION:2.0
PRODID:-//Disfruta Denia - ECPv6.15.20//NONSGML v1.0//EN
CALSCALE:GREGORIAN
METHOD:PUBLISH
X-ORIGINAL-URL:https://disfruta-denia.com
X-WR-CALDESC:Eventos para Disfruta Denia
REFRESH-INTERVAL;VALUE=DURATION:PT1H
X-Robots-Tag:noindex
X-PUBLISHED-TTL:PT1H
BEGIN:VTIMEZONE
TZID:Europe/Madrid
BEGIN:DAYLIGHT
TZOFFSETFROM:+0100
TZOFFSETTO:+0200
TZNAME:CEST
DTSTART:20240331T010000
END:DAYLIGHT
BEGIN:STANDARD
TZOFFSETFROM:+0200
TZOFFSETTO:+0100
TZNAME:CET
DTSTART:20241027T010000
END:STANDARD
BEGIN:DAYLIGHT
TZOFFSETFROM:+0100
TZOFFSETTO:+0200
TZNAME:CEST
DTSTART:20250330T010000
END:DAYLIGHT
BEGIN:STANDARD
TZOFFSETFROM:+0200
TZOFFSETTO:+0100
TZNAME:CET
DTSTART:20251026T010000
END:STANDARD
BEGIN:DAYLIGHT
TZOFFSETFROM:+0100
TZOFFSETTO:+0200
TZNAME:CEST
DTSTART:20260329T010000
END:DAYLIGHT
BEGIN:STANDARD
TZOFFSETFROM:+0200
TZOFFSETTO:+0100
TZNAME:CET
DTSTART:20261025T010000
END:STANDARD
END:VTIMEZONE
BEGIN:VEVENT
DTSTART;TZID=Europe/Madrid:20250503T235900
DTEND;TZID=Europe/Madrid:20250503T235900
DTSTAMP:20260421T062917
CREATED:20221128T194020Z
LAST-MODIFIED:20221128T194021Z
UID:10006610-1746316740-1746316740@disfruta-denia.com
SUMMARY:Concierto en LCDA
DESCRIPTION:
URL:https://disfruta-denia.com/evento/concierto-en-lcda-4/2025-05-03/
LOCATION:La Chica de ayer\, Calle la mar 30\, Denia\, Alicante\, 03700\, España
CATEGORIES:Concierto,Música,Ocio nocturno
ATTACH;FMTTYPE=image/jpeg:https://disfruta-denia.com/wp-content/uploads/2022/11/317545016_592127712917488_4859295703944293873_n.jpg
END:VEVENT
BEGIN:VEVENT
DTSTART;TZID=Europe/Madrid:20250510T235900
DTEND;TZID=Europe/Madrid:20250510T235900
DTSTAMP:20260421T062917
CREATED:20221128T194020Z
LAST-MODIFIED:20221128T194021Z
UID:10006611-1746921540-1746921540@disfruta-denia.com
SUMMARY:Concierto en LCDA
DESCRIPTION:
URL:https://disfruta-denia.com/evento/concierto-en-lcda-4/2025-05-10/
LOCATION:La Chica de ayer\, Calle la mar 30\, Denia\, Alicante\, 03700\, España
CATEGORIES:Concierto,Música,Ocio nocturno
ATTACH;FMTTYPE=image/jpeg:https://disfruta-denia.com/wp-content/uploads/2022/11/317545016_592127712917488_4859295703944293873_n.jpg
END:VEVENT
BEGIN:VEVENT
DTSTART;TZID=Europe/Madrid:20250517T235900
DTEND;TZID=Europe/Madrid:20250517T235900
DTSTAMP:20260421T062917
CREATED:20221128T194020Z
LAST-MODIFIED:20221128T194021Z
UID:10006612-1747526340-1747526340@disfruta-denia.com
SUMMARY:Concierto en LCDA
DESCRIPTION:
URL:https://disfruta-denia.com/evento/concierto-en-lcda-4/2025-05-17/
LOCATION:La Chica de ayer\, Calle la mar 30\, Denia\, Alicante\, 03700\, España
CATEGORIES:Concierto,Música,Ocio nocturno
ATTACH;FMTTYPE=image/jpeg:https://disfruta-denia.com/wp-content/uploads/2022/11/317545016_592127712917488_4859295703944293873_n.jpg
END:VEVENT
BEGIN:VEVENT
DTSTART;TZID=Europe/Madrid:20250524T235900
DTEND;TZID=Europe/Madrid:20250524T235900
DTSTAMP:20260421T062917
CREATED:20221128T194020Z
LAST-MODIFIED:20221128T194021Z
UID:10006613-1748131140-1748131140@disfruta-denia.com
SUMMARY:Concierto en LCDA
DESCRIPTION:
URL:https://disfruta-denia.com/evento/concierto-en-lcda-4/2025-05-24/
LOCATION:La Chica de ayer\, Calle la mar 30\, Denia\, Alicante\, 03700\, España
CATEGORIES:Concierto,Música,Ocio nocturno
ATTACH;FMTTYPE=image/jpeg:https://disfruta-denia.com/wp-content/uploads/2022/11/317545016_592127712917488_4859295703944293873_n.jpg
END:VEVENT
BEGIN:VEVENT
DTSTART;TZID=Europe/Madrid:20250531T235900
DTEND;TZID=Europe/Madrid:20250531T235900
DTSTAMP:20260421T062917
CREATED:20221128T194020Z
LAST-MODIFIED:20221128T194021Z
UID:10006614-1748735940-1748735940@disfruta-denia.com
SUMMARY:Concierto en LCDA
DESCRIPTION:
URL:https://disfruta-denia.com/evento/concierto-en-lcda-4/2025-05-31/
LOCATION:La Chica de ayer\, Calle la mar 30\, Denia\, Alicante\, 03700\, España
CATEGORIES:Concierto,Música,Ocio nocturno
ATTACH;FMTTYPE=image/jpeg:https://disfruta-denia.com/wp-content/uploads/2022/11/317545016_592127712917488_4859295703944293873_n.jpg
END:VEVENT
END:VCALENDAR