BEGIN:VCALENDAR
VERSION:2.0
PRODID:-//Disfruta Denia - ECPv6.15.20//NONSGML v1.0//EN
CALSCALE:GREGORIAN
METHOD:PUBLISH
X-ORIGINAL-URL:https://disfruta-denia.com
X-WR-CALDESC:Eventos para Disfruta Denia
REFRESH-INTERVAL;VALUE=DURATION:PT1H
X-Robots-Tag:noindex
X-PUBLISHED-TTL:PT1H
BEGIN:VTIMEZONE
TZID:Europe/Madrid
BEGIN:DAYLIGHT
TZOFFSETFROM:+0100
TZOFFSETTO:+0200
TZNAME:CEST
DTSTART:20240331T010000
END:DAYLIGHT
BEGIN:STANDARD
TZOFFSETFROM:+0200
TZOFFSETTO:+0100
TZNAME:CET
DTSTART:20241027T010000
END:STANDARD
BEGIN:DAYLIGHT
TZOFFSETFROM:+0100
TZOFFSETTO:+0200
TZNAME:CEST
DTSTART:20250330T010000
END:DAYLIGHT
BEGIN:STANDARD
TZOFFSETFROM:+0200
TZOFFSETTO:+0100
TZNAME:CET
DTSTART:20251026T010000
END:STANDARD
BEGIN:DAYLIGHT
TZOFFSETFROM:+0100
TZOFFSETTO:+0200
TZNAME:CEST
DTSTART:20260329T010000
END:DAYLIGHT
BEGIN:STANDARD
TZOFFSETFROM:+0200
TZOFFSETTO:+0100
TZNAME:CET
DTSTART:20261025T010000
END:STANDARD
END:VTIMEZONE
BEGIN:VEVENT
DTSTART;TZID=Europe/Madrid:20250802T235900
DTEND;TZID=Europe/Madrid:20250802T235900
DTSTAMP:20260421T010111
CREATED:20221128T194020Z
LAST-MODIFIED:20221128T194021Z
UID:10006623-1754179140-1754179140@disfruta-denia.com
SUMMARY:Concierto en LCDA
DESCRIPTION:
URL:https://disfruta-denia.com/evento/concierto-en-lcda-4/2025-08-02/
LOCATION:La Chica de ayer\, Calle la mar 30\, Denia\, Alicante\, 03700\, España
CATEGORIES:Concierto,Música,Ocio nocturno
ATTACH;FMTTYPE=image/jpeg:https://disfruta-denia.com/wp-content/uploads/2022/11/317545016_592127712917488_4859295703944293873_n.jpg
END:VEVENT
BEGIN:VEVENT
DTSTART;TZID=Europe/Madrid:20250809T235900
DTEND;TZID=Europe/Madrid:20250809T235900
DTSTAMP:20260421T010111
CREATED:20221128T194020Z
LAST-MODIFIED:20221128T194021Z
UID:10006624-1754783940-1754783940@disfruta-denia.com
SUMMARY:Concierto en LCDA
DESCRIPTION:
URL:https://disfruta-denia.com/evento/concierto-en-lcda-4/2025-08-09/
LOCATION:La Chica de ayer\, Calle la mar 30\, Denia\, Alicante\, 03700\, España
CATEGORIES:Concierto,Música,Ocio nocturno
ATTACH;FMTTYPE=image/jpeg:https://disfruta-denia.com/wp-content/uploads/2022/11/317545016_592127712917488_4859295703944293873_n.jpg
END:VEVENT
BEGIN:VEVENT
DTSTART;TZID=Europe/Madrid:20250816T235900
DTEND;TZID=Europe/Madrid:20250816T235900
DTSTAMP:20260421T010111
CREATED:20221128T194020Z
LAST-MODIFIED:20221128T194021Z
UID:10006625-1755388740-1755388740@disfruta-denia.com
SUMMARY:Concierto en LCDA
DESCRIPTION:
URL:https://disfruta-denia.com/evento/concierto-en-lcda-4/2025-08-16/
LOCATION:La Chica de ayer\, Calle la mar 30\, Denia\, Alicante\, 03700\, España
CATEGORIES:Concierto,Música,Ocio nocturno
ATTACH;FMTTYPE=image/jpeg:https://disfruta-denia.com/wp-content/uploads/2022/11/317545016_592127712917488_4859295703944293873_n.jpg
END:VEVENT
BEGIN:VEVENT
DTSTART;TZID=Europe/Madrid:20250823T235900
DTEND;TZID=Europe/Madrid:20250823T235900
DTSTAMP:20260421T010111
CREATED:20221128T194020Z
LAST-MODIFIED:20221128T194021Z
UID:10006626-1755993540-1755993540@disfruta-denia.com
SUMMARY:Concierto en LCDA
DESCRIPTION:
URL:https://disfruta-denia.com/evento/concierto-en-lcda-4/2025-08-23/
LOCATION:La Chica de ayer\, Calle la mar 30\, Denia\, Alicante\, 03700\, España
CATEGORIES:Concierto,Música,Ocio nocturno
ATTACH;FMTTYPE=image/jpeg:https://disfruta-denia.com/wp-content/uploads/2022/11/317545016_592127712917488_4859295703944293873_n.jpg
END:VEVENT
BEGIN:VEVENT
DTSTART;TZID=Europe/Madrid:20250830T235900
DTEND;TZID=Europe/Madrid:20250830T235900
DTSTAMP:20260421T010111
CREATED:20221128T194020Z
LAST-MODIFIED:20221128T194021Z
UID:10006627-1756598340-1756598340@disfruta-denia.com
SUMMARY:Concierto en LCDA
DESCRIPTION:
URL:https://disfruta-denia.com/evento/concierto-en-lcda-4/2025-08-30/
LOCATION:La Chica de ayer\, Calle la mar 30\, Denia\, Alicante\, 03700\, España
CATEGORIES:Concierto,Música,Ocio nocturno
ATTACH;FMTTYPE=image/jpeg:https://disfruta-denia.com/wp-content/uploads/2022/11/317545016_592127712917488_4859295703944293873_n.jpg
END:VEVENT
END:VCALENDAR