BEGIN:VCALENDAR
VERSION:2.0
PRODID:-//Disfruta Denia - ECPv6.15.20//NONSGML v1.0//EN
CALSCALE:GREGORIAN
METHOD:PUBLISH
X-WR-CALNAME:Disfruta Denia
X-ORIGINAL-URL:https://disfruta-denia.com
X-WR-CALDESC:Eventos para Disfruta Denia
REFRESH-INTERVAL;VALUE=DURATION:PT1H
X-Robots-Tag:noindex
X-PUBLISHED-TTL:PT1H
BEGIN:VTIMEZONE
TZID:Europe/Madrid
BEGIN:DAYLIGHT
TZOFFSETFROM:+0100
TZOFFSETTO:+0200
TZNAME:CEST
DTSTART:20220327T010000
END:DAYLIGHT
BEGIN:STANDARD
TZOFFSETFROM:+0200
TZOFFSETTO:+0100
TZNAME:CET
DTSTART:20221030T010000
END:STANDARD
BEGIN:DAYLIGHT
TZOFFSETFROM:+0100
TZOFFSETTO:+0200
TZNAME:CEST
DTSTART:20230326T010000
END:DAYLIGHT
BEGIN:STANDARD
TZOFFSETFROM:+0200
TZOFFSETTO:+0100
TZNAME:CET
DTSTART:20231029T010000
END:STANDARD
BEGIN:DAYLIGHT
TZOFFSETFROM:+0100
TZOFFSETTO:+0200
TZNAME:CEST
DTSTART:20240331T010000
END:DAYLIGHT
BEGIN:STANDARD
TZOFFSETFROM:+0200
TZOFFSETTO:+0100
TZNAME:CET
DTSTART:20241027T010000
END:STANDARD
END:VTIMEZONE
BEGIN:VEVENT
DTSTART;VALUE=DATE:20230917
DTEND;VALUE=DATE:20230919
DTSTAMP:20260423T003445
CREATED:20230912T090142Z
LAST-MODIFIED:20230912T090142Z
UID:10013389-1694923200-1695009599@disfruta-denia.com
SUMMARY:V Edición de la Marcha Cicloturista "La Gamba"
DESCRIPTION:El próximo 17 de septiembre\, a partir de las  8:00 h.\, podremos disfrutar en Dénia\, de la V Edición de la Marcha Cicloturista «La Gamba» \, que recorrerá las poblaciones de  Dénia\, La Xara\, Pedreguer\, Benidoleig\, Orba\, Campell\, Fleix\, Benimaurell\, Vall d’Ebo\, Alcalà de la Jovada\, Beniaia\, Tollos\, Facheca\, Famorca\, Castells de Castells\, Tàrbena\, Parcent\, Benigembla y Murla\, con  salida y llegada en el aparcamiento de Torrecremada y un recorrido total de 145 km \nPRECIOS\n\nOpción 1: 100 PRIMEROS DORSALES Federados en ciclismo 39€ y No Federados en ciclismo 42€. Inscripcion + Maillot ALÉ\nOpción 2: A partir del dorsal 101; Federados en ciclismo 45€ y No Federados en ciclismo 48€. Inscripción + Maillot ALÉ\nOpción 3: Federados en ciclismo a partir del 21 de febrero 53€ y No Federados en ciclismo 56€. Inscripción + Maillot + Gastos de envío maillot (se recibirá a partir del 1 de Julio)\nOpcion 4: Federados en ciclismo 83€ y No Federados en ciclismo 86€. Inscripcion + Maillot ALÉ + Chaleco Wheeler (PVP 64€)\nOpcion 5: Federados en ciclismo 87€ y No Federados en ciclismo 90€. Inscripcion + Maillot ALÉ + Culote Wheeler (PVP 78€)\nOpcion 6: Federados en ciclismo 125€ y No Federados en ciclismo 128€. Inscripcion + Maillot ALÉ + Chaleco Wheeler (PVP 64€) + Culote Wheeler. (PVP 78€)\n\nAl finalizar la Marcha se entregarán los premios correspondientes. \n\n\n\n Premio al club más numeroso\n Premio al club con mayor número de féminas\n Premio al ciclista y la ciclista más mayor\n Premio al ciclista y la ciclista más joven\n Premio al ciclista y la ciclista más lejanos\n Premio a los tres ciclistas que inviertan menos tiempo en el tramo cronometrado de ascenso del puerto de Tollos\n Premio a las tres ciclistas que inviertan menos tiempo en el tramo cronometrado de ascenso del puerto de Tollos
URL:https://disfruta-denia.com/evento/v-edicion-de-la-marcha-cicloturista-la-gamba/
LOCATION:Parque de Torrecremada\, Carrer Germans Maristes\, Denia\, Alicante\, 03700\, España
CATEGORIES:Deporte
ATTACH;FMTTYPE=image/jpeg:https://disfruta-denia.com/wp-content/uploads/2023/09/370342266_158456447296999_8456181783665747199_n.jpg
END:VEVENT
END:VCALENDAR